Back to Multiple platform build/check report for BioC 3.13
ABCDEFGHIJKLMNOPQR[S]TUVWXYZ

Multiple platform build/check report for BioC 3.13

Results for SynExtend

This page was generated on 2020-11-24 12:01:44 -0500 (Tue, 24 Nov 2020).

Package 1764/1907HostnameOS / ArchINSTALLBUILDCHECKBUILD BIN
SynExtend 1.3.1
Nicholas Cooley
Snapshot Date: 2020-11-23 14:41:10 -0500 (Mon, 23 Nov 2020)
URL: https://git.bioconductor.org/packages/SynExtend
Branch: master
Last Commit: 27d45d3
Last Changed Date: 2020-11-23 11:49:28 -0500 (Mon, 23 Nov 2020)
malbec2 Linux (Ubuntu 20.04.1 LTS) / x86_64  OK  OK  OK YES, new version is higher than in internal repository
tokay2 Windows Server 2012 R2 Standard / x64  OK  OK  OK  NA 
riesling1 Windows Server 2019 Standard / x64  OK  OK  OK  OK 
machv2 macOS 10.14.6 Mojave / x86_64  OK  OK  OK  OK YES, new version is higher than in internal repository