Back to Multiple platform build/check report for BioC 3.16
A[B]CDEFGHIJKLMNOPQRSTUVWXYZ

This page was generated on 2022-06-29 11:04:54 -0400 (Wed, 29 Jun 2022).

HostnameOSArch (*)R versionInstalled pkgs
nebbiolo2Linux (Ubuntu 20.04.4 LTS)x86_644.2.0 Patched (2022-06-02 r82447) -- "Vigorous Calisthenics" 4343
lconwaymacOS 12.2.1 Montereyx86_644.2.0 Patched (2022-05-29 r82424) -- "Vigorous Calisthenics" 4159
Click on any hostname to see more info about the system (e.g. compilers)      (*) as reported by 'uname -p', except on Windows and Mac OS X

INSTALL results for bioassayR on lconway


To the developers/maintainers of the bioassayR package:
- Please allow up to 24 hours (and sometimes 48 hours) for your latest push to git@git.bioconductor.org:packages/bioassayR.git to
reflect on this report. See How and When does the builder pull? When will my changes propagate? for more information.
- Make sure to use the following settings in order to reproduce any error or warning you see on this page.

raw results

Package 150/2124HostnameOS / ArchINSTALLBUILDCHECKBUILD BIN
bioassayR 1.35.0  (landing page)
Daniela Cassol
Snapshot Date: 2022-06-28 14:00:02 -0400 (Tue, 28 Jun 2022)
git_url: https://git.bioconductor.org/packages/bioassayR
git_branch: master
git_last_commit: 526955f
git_last_commit_date: 2022-04-26 11:16:32 -0400 (Tue, 26 Apr 2022)
nebbiolo2Linux (Ubuntu 20.04.4 LTS) / x86_64  OK    OK    OK  UNNEEDED, same version is already published
lconwaymacOS 12.2.1 Monterey / x86_64  OK    OK    OK    OK  UNNEEDED, same version is already published

Summary

Package: bioassayR
Version: 1.35.0
Command: /Library/Frameworks/R.framework/Resources/bin/R CMD INSTALL bioassayR
StartedAt: 2022-06-28 15:19:55 -0400 (Tue, 28 Jun 2022)
EndedAt: 2022-06-28 15:20:12 -0400 (Tue, 28 Jun 2022)
EllapsedTime: 16.6 seconds
RetCode: 0
Status:   OK  

Command output

##############################################################################
##############################################################################
###
### Running command:
###
###   /Library/Frameworks/R.framework/Resources/bin/R CMD INSTALL bioassayR
###
##############################################################################
##############################################################################


* installing to library ‘/Library/Frameworks/R.framework/Versions/4.2/Resources/library’
* installing *source* package ‘bioassayR’ ...
** using staged installation
** R
** data
** inst
** byte-compile and prepare package for lazy loading
Creating a new generic function for ‘organism’ in package ‘bioassayR’
Creating a new generic function for ‘organism<-’ in package ‘bioassayR’
** help
*** installing help indices
** building package indices
** installing vignettes
** testing if installed package can be loaded from temporary location
** testing if installed package can be loaded from final location
** testing if installed package keeps a record of temporary installation path
* DONE (bioassayR)