Back to Multiple platform build/check report for BioC 3.20:   simplified   long
AB[C]DEFGHIJKLMNOPQRSTUVWXYZ

This page was generated on 2024-06-13 12:17 -0400 (Thu, 13 Jun 2024).

HostnameOSArch (*)R versionInstalled pkgs
nebbiolo2Linux (Ubuntu 22.04.3 LTS)x86_644.4.0 RC (2024-04-16 r86468) -- "Puppy Cup" 4679
lconwaymacOS 12.7.1 Montereyx86_644.4.1 RC (2024-06-06 r86719) -- "Race for Your Life" 4353
kjohnson3macOS 13.6.5 Venturaarm644.4.1 RC (2024-06-06 r86719) -- "Race for Your Life" 4344
Click on any hostname to see more info about the system (e.g. compilers)      (*) as reported by 'uname -p', except on Windows and Mac OS X

All results for package cytolib


To the developers/maintainers of the cytolib package:
- Allow up to 24 hours (and sometimes 48 hours) for your latest push to git@git.bioconductor.org:packages/cytolib.git to reflect on this report. See Troubleshooting Build Report for more information.
- Use the following Renviron settings to reproduce errors and warnings.
- If 'R CMD check' started to fail recently on the Linux builder(s) over a missing dependency, add the missing dependency to 'Suggests:' in your DESCRIPTION file. See Renviron.bioc for more information.

raw results

Package 480/2239HostnameOS / ArchINSTALLBUILDCHECKBUILD BIN
cytolib 2.17.0  (landing page)
Mike Jiang
Snapshot Date: 2024-06-12 14:00 -0400 (Wed, 12 Jun 2024)
git_url: https://git.bioconductor.org/packages/cytolib
git_branch: devel
git_last_commit: 947bcbd
git_last_commit_date: 2024-04-30 10:59:52 -0400 (Tue, 30 Apr 2024)
nebbiolo2Linux (Ubuntu 22.04.3 LTS) / x86_64  OK    OK    WARNINGS  UNNEEDED, same version is already published
lconwaymacOS 12.7.1 Monterey / x86_64  OK    OK    WARNINGS    OK  UNNEEDED, same version is already published
kjohnson3macOS 13.6.5 Ventura / arm64  OK    OK    WARNINGS    OK  UNNEEDED, same version is already published



Results for Bioconductor software packages that depend directly on package cytolib

QUICK STATSOS / ArchINSTALLBUILDCHECKBUILD BIN
nebbiolo2Linux (Ubuntu 22.04.3 LTS) / x86_64
003
003
0030
lconwaymacOS 12.7.1 Monterey / x86_64
003
003
0030
003
kjohnson3macOS 13.6.5 Ventura / arm64
003
003
0030
003
Package 1/3HostnameOS / ArchINSTALLBUILDCHECKBUILD BIN
CytoML 2.17.0  (landing page)
Mike Jiang
git_last_commit: e3d2e9e
git_last_commit_date: 2024-04-30 10:52:05 -0400
nebbiolo2Linux (Ubuntu 22.04.3 LTS) / x86_64  OK    OK    WARNINGS  UNNEEDED, same version is already published
lconwaymacOS 12.7.1 Monterey / x86_64  OK    OK    WARNINGS    OK  UNNEEDED, same version is already published
kjohnson3macOS 13.6.5 Ventura / arm64  OK    OK    WARNINGS    OK  UNNEEDED, same version is already published
Package 2/3HostnameOS / ArchINSTALLBUILDCHECKBUILD BIN
flowCore 2.17.0  (landing page)
Mike Jiang
git_last_commit: 55cfde0
git_last_commit_date: 2024-04-30 10:16:03 -0400
nebbiolo2Linux (Ubuntu 22.04.3 LTS) / x86_64  OK    OK    WARNINGS  UNNEEDED, same version is already published
lconwaymacOS 12.7.1 Monterey / x86_64  OK    OK    WARNINGS    OK  UNNEEDED, same version is already published
kjohnson3macOS 13.6.5 Ventura / arm64  OK    OK    WARNINGS    OK  UNNEEDED, same version is already published
Package 3/3HostnameOS / ArchINSTALLBUILDCHECKBUILD BIN
flowWorkspace 4.17.0  (landing page)
Greg Finak , Mike Jiang
git_last_commit: cdae1b1
git_last_commit_date: 2024-04-30 10:24:28 -0400
nebbiolo2Linux (Ubuntu 22.04.3 LTS) / x86_64  OK    OK    WARNINGS  UNNEEDED, same version is already published
lconwaymacOS 12.7.1 Monterey / x86_64  OK    OK    WARNINGS    OK  UNNEEDED, same version is already published
kjohnson3macOS 13.6.5 Ventura / arm64  OK    OK    WARNINGS    OK  UNNEEDED, same version is already published