Back to Multiple platform build/check report for BioC 3.16
ABCDEFGHIJKLMNOPQ[R]STUVWXYZ

This page was generated on 2022-06-29 11:04:37 -0400 (Wed, 29 Jun 2022).

HostnameOSArch (*)R versionInstalled pkgs
nebbiolo2Linux (Ubuntu 20.04.4 LTS)x86_644.2.0 Patched (2022-06-02 r82447) -- "Vigorous Calisthenics" 4343
lconwaymacOS 12.2.1 Montereyx86_644.2.0 Patched (2022-05-29 r82424) -- "Vigorous Calisthenics" 4159
Click on any hostname to see more info about the system (e.g. compilers)      (*) as reported by 'uname -p', except on Windows and Mac OS X

CHECK results for R453Plus1Toolbox on nebbiolo2


To the developers/maintainers of the R453Plus1Toolbox package:
- Please allow up to 24 hours (and sometimes 48 hours) for your latest push to git@git.bioconductor.org:packages/R453Plus1Toolbox.git to
reflect on this report. See How and When does the builder pull? When will my changes propagate? for more information.
- Make sure to use the following settings in order to reproduce any error or warning you see on this page.

raw results

Package 1543/2124HostnameOS / ArchINSTALLBUILDCHECKBUILD BIN
R453Plus1Toolbox 1.47.0  (landing page)
Hans-Ulrich Klein
Snapshot Date: 2022-06-28 14:00:02 -0400 (Tue, 28 Jun 2022)
git_url: https://git.bioconductor.org/packages/R453Plus1Toolbox
git_branch: master
git_last_commit: 79327f0
git_last_commit_date: 2022-04-26 11:06:14 -0400 (Tue, 26 Apr 2022)
nebbiolo2Linux (Ubuntu 20.04.4 LTS) / x86_64  OK    OK    OK  UNNEEDED, same version is already published
lconwaymacOS 12.2.1 Monterey / x86_64  OK    OK    OK    OK  UNNEEDED, same version is already published

Summary

Package: R453Plus1Toolbox
Version: 1.47.0
Command: /home/biocbuild/bbs-3.16-bioc/R/bin/R CMD check --install=check:R453Plus1Toolbox.install-out.txt --library=/home/biocbuild/bbs-3.16-bioc/R/library --no-vignettes --timings R453Plus1Toolbox_1.47.0.tar.gz
StartedAt: 2022-06-28 21:24:06 -0400 (Tue, 28 Jun 2022)
EndedAt: 2022-06-28 21:29:41 -0400 (Tue, 28 Jun 2022)
EllapsedTime: 335.6 seconds
RetCode: 0
Status:   OK  
CheckDir: R453Plus1Toolbox.Rcheck
Warnings: 0

Command output

##############################################################################
##############################################################################
###
### Running command:
###
###   /home/biocbuild/bbs-3.16-bioc/R/bin/R CMD check --install=check:R453Plus1Toolbox.install-out.txt --library=/home/biocbuild/bbs-3.16-bioc/R/library --no-vignettes --timings R453Plus1Toolbox_1.47.0.tar.gz
###
##############################################################################
##############################################################################


* using log directory ‘/home/biocbuild/bbs-3.16-bioc/meat/R453Plus1Toolbox.Rcheck’
* using R version 4.2.0 Patched (2022-06-02 r82447)
* using platform: x86_64-pc-linux-gnu (64-bit)
* using session charset: UTF-8
* using option ‘--no-vignettes’
* checking for file ‘R453Plus1Toolbox/DESCRIPTION’ ... OK
* checking extension type ... Package
* this is package ‘R453Plus1Toolbox’ version ‘1.47.0’
* checking package namespace information ... OK
* checking package dependencies ... OK
* checking if this is a source package ... OK
* checking if there is a namespace ... OK
* checking for hidden files and directories ... OK
* checking for portable file names ... OK
* checking for sufficient/correct file permissions ... OK
* checking whether package ‘R453Plus1Toolbox’ can be installed ... OK
* checking installed package size ... NOTE
  installed size is  5.3Mb
  sub-directories of 1Mb or more:
    R         2.1Mb
    extdata   2.8Mb
* checking package directory ... OK
* checking ‘build’ directory ... OK
* checking DESCRIPTION meta-information ... OK
* checking top-level files ... OK
* checking for left-over files ... OK
* checking index information ... OK
* checking package subdirectories ... OK
* checking R files for non-ASCII characters ... OK
* checking R files for syntax errors ... OK
* checking whether the package can be loaded ... OK
* checking whether the package can be loaded with stated dependencies ... OK
* checking whether the package can be unloaded cleanly ... OK
* checking whether the namespace can be loaded with stated dependencies ... OK
* checking whether the namespace can be unloaded cleanly ... OK
* checking dependencies in R code ... NOTE
'library' or 'require' call to ‘BSgenome.Hsapiens.UCSC.hg19’ in package code.
  Please use :: or requireNamespace() instead.
  See section 'Suggested packages' in the 'Writing R Extensions' manual.
* checking S3 generic/method consistency ... OK
* checking replacement functions ... OK
* checking foreign function calls ... OK
* checking R code for possible problems ... NOTE
.annotateVariants_MapperSet: no visible binding for global variable
  ‘Hsapiens’
.ava2vcf: no visible binding for global variable ‘Hsapiens’
.detectBreakpoints: no visible binding for global variable ‘Hsapiens’
.getEnsemblInfo: no visible binding for global variable ‘cds_length’
.getEnsemblInfo: no visible binding for global variable
  ‘ensembl_transcript_id’
.getMutations: no visible binding for global variable ‘PatternStart’
.getMutations: no visible binding for global variable ‘PatternEnd’
.htmlReport: no visible binding for global variable ‘VarFreqForward’
.htmlReport: no visible binding for global variable ‘VarFreqReverse’
.plotVariants: no visible binding for global variable ‘mutation’
qualityReportSFF: no visible binding for '<<-' assignment to ‘tmp’
annotateVariants,MapperSet-BSgenome: no visible binding for global
  variable ‘Hsapiens’
annotateVariants,MapperSet-missing: no visible binding for global
  variable ‘Hsapiens’
ava2vcf,AVASet: no visible binding for global variable ‘Hsapiens’
detectBreakpoints,list: no visible binding for global variable
  ‘Hsapiens’
subset,AVASet: no visible binding for global variable ‘referenceSeqID’
Undefined global functions or variables:
  Hsapiens PatternEnd PatternStart VarFreqForward VarFreqReverse
  cds_length ensembl_transcript_id mutation referenceSeqID
* checking Rd files ... OK
* checking Rd metadata ... OK
* checking Rd cross-references ... OK
* checking for missing documentation entries ... OK
* checking for code/documentation mismatches ... OK
* checking Rd \usage sections ... OK
* checking Rd contents ... OK
* checking for unstated dependencies in examples ... OK
* checking contents of ‘data’ directory ... OK
* checking data for non-ASCII characters ... OK
* checking data for ASCII and uncompressed saves ... OK
* checking line endings in C/C++/Fortran sources/headers ... OK
* checking compiled code ... NOTE
Note: information on .o files is not available
* checking files in ‘vignettes’ ... OK
* checking examples ... OK
Examples with CPU (user + system) or elapsed time > 5s
                  user system elapsed
mergeBreakpoints 5.952   0.14   6.104
* checking for unstated dependencies in vignettes ... OK
* checking package vignettes in ‘inst/doc’ ... OK
* checking running R code from vignettes ... SKIPPED
* checking re-building of vignette outputs ... SKIPPED
* checking PDF version of manual ... OK
* DONE

Status: 4 NOTEs
See
  ‘/home/biocbuild/bbs-3.16-bioc/meat/R453Plus1Toolbox.Rcheck/00check.log’
for details.



Installation output

R453Plus1Toolbox.Rcheck/00install.out

##############################################################################
##############################################################################
###
### Running command:
###
###   /home/biocbuild/bbs-3.16-bioc/R/bin/R CMD INSTALL R453Plus1Toolbox
###
##############################################################################
##############################################################################


* installing to library ‘/home/biocbuild/bbs-3.16-bioc/R/library’
* installing *source* package ‘R453Plus1Toolbox’ ...
** using staged installation
** libs
gcc -I"/home/biocbuild/bbs-3.16-bioc/R/include" -DNDEBUG   -I/usr/local/include   -fpic  -g -O2  -Wall -c readSFF.c -o readSFF.o
readSFF.c: In function ‘readSFF’:
readSFF.c:27:7: warning: variable ‘block_count’ set but not used [-Wunused-but-set-variable]
   27 |   int block_count;
      |       ^~~~~~~~~~~
gcc -I"/home/biocbuild/bbs-3.16-bioc/R/include" -DNDEBUG   -I/usr/local/include   -fpic  -g -O2  -Wall -c writeSFF.c -o writeSFF.o
gcc -shared -L/home/biocbuild/bbs-3.16-bioc/R/lib -L/usr/local/lib -o R453Plus1Toolbox.so readSFF.o writeSFF.o -L/home/biocbuild/bbs-3.16-bioc/R/lib -lR
installing to /home/biocbuild/bbs-3.16-bioc/R/library/00LOCK-R453Plus1Toolbox/00new/R453Plus1Toolbox/libs
** R
** data
** inst
** byte-compile and prepare package for lazy loading
** help
*** installing help indices
** building package indices
** installing vignettes
** testing if installed package can be loaded from temporary location
** checking absolute paths in shared objects and dynamic libraries
** testing if installed package can be loaded from final location
** testing if installed package keeps a record of temporary installation path
* DONE (R453Plus1Toolbox)

Tests output


Example timings

R453Plus1Toolbox.Rcheck/R453Plus1Toolbox-Ex.timings

nameusersystemelapsed
AVASet-class0.1890.0040.193
AVASet0.1100.0080.118
AnnotatedVariants-class0.0010.0000.001
MapperSet-class0.0160.0040.020
MapperSet0.0040.0000.004
SFFContainer-class0.0010.0000.000
SFFRead-class0.0010.0000.000
alignShortReads3.5960.0003.596
annotateVariants0.0010.0000.001
assayDataAmp0.0040.0000.004
ava2vcf0.2180.0000.219
avaSetExample0.0110.0000.011
avaSetFiltered0.0150.0000.015
avaSetFiltered_annot0.0010.0000.001
breakpoints0.0040.0000.003
calculateTiTv0.0080.0000.007
captureArray0.0010.0000.001
coverageOnTarget0.1800.0080.189
demultiplexReads0.0670.0120.079
detectBreakpoints0.6320.0880.721
fDataAmp0.0130.0020.014
featureDataAmp0.0030.0090.013
filterChimericReads4.4330.0814.513
genomeSequencerMIDs0.0190.0000.019
getAlignedReads0.0540.0000.054
getVariantPercentages0.0240.0000.023
htmlReport2.2580.0192.278
mapperSetExample0.0000.0040.005
mergeBreakpoints5.9520.1406.104
mutationInfo0.0020.0000.002
plotAmpliconCoverage000
plotChimericReads3.2870.0323.318
plotVariants0.0020.0000.002
plotVariationFrequency0.0000.0000.001
qualityReportSFF0.0010.0000.000
readSFF0.0850.0000.086
readsOnTarget0.0470.0000.047
referenceSequences0.0060.0000.007
regions0.0020.0000.002
removeLinker0.020.000.02
sequenceCaptureLinkers0.0040.0000.004
setVariantFilter0.0340.0040.039
variants0.0020.0000.002
writeSFF0.0300.0000.029