Back to Multiple platform build/check report for BioC 3.13
AB[C]DEFGHIJKLMNOPQRSTUVWXYZ

Multiple platform build/check report for BioC 3.13

Results for CellTrails

This page was generated on 2020-12-03 12:13:09 -0500 (Thu, 03 Dec 2020).

Package 257/1917HostnameOS / ArchINSTALLBUILDCHECKBUILD BIN
CellTrails 1.9.0
Daniel Ellwanger
Snapshot Date: 2020-12-02 14:40:28 -0500 (Wed, 02 Dec 2020)
URL: https://git.bioconductor.org/packages/CellTrails
Branch: master
Last Commit: ad2c738
Last Changed Date: 2020-10-27 11:36:23 -0500 (Tue, 27 Oct 2020)
malbec2 Linux (Ubuntu 20.04.1 LTS) / x86_64  OK  OK  OK UNNEEDED, same version exists in internal repository
tokay2 Windows Server 2012 R2 Standard / x64  OK  OK  WARNINGS  OK UNNEEDED, same version exists in internal repository
riesling1 Windows Server 2019 Standard / x64  OK  OK  WARNINGS  OK 
machv2 macOS 10.14.6 Mojave / x86_64  OK  OK  OK  OK UNNEEDED, same version exists in internal repository