Back to Multiple platform build/check report for BioC 3.11
ABCDEF[G]HIJKLMNOPQRSTUVWXYZ

Multiple platform build/check report for BioC 3.11

Results for GeneExpressionSignature

This page was generated on 2020-04-01 13:09:23 -0400 (Wed, 01 Apr 2020).

Package 662/1855HostnameOS / ArchINSTALLBUILDCHECKBUILD BIN
GeneExpressionSignature 1.33.0
Yang Cao , Fei Li
Snapshot Date: 2020-03-31 16:45:16 -0400 (Tue, 31 Mar 2020)
URL: https://git.bioconductor.org/packages/GeneExpressionSignature
Branch: master
Last Commit: 07ef606
Last Changed Date: 2019-10-29 13:35:49 -0400 (Tue, 29 Oct 2019)
malbec2 Linux (Ubuntu 18.04.4 LTS) / x86_64  OK  OK  WARNINGS UNNEEDED, same version exists in internal repository
tokay2 Windows Server 2012 R2 Standard / x64  OK  OK  WARNINGS  OK UNNEEDED, same version exists in internal repository