Back to Multiple platform build/check report for BioC 3.18:   simplified   long
[A]BCDEFGHIJKLMNOPQRSTUVWXYZ

This page was generated on 2023-06-03 11:04:13 -0400 (Sat, 03 Jun 2023).

HostnameOSArch (*)R versionInstalled pkgs
nebbiolo2Linux (Ubuntu 22.04.2 LTS)x86_644.3.0 RC (2023-04-18 r84287) -- "Already Tomorrow" 4593
palomino4Windows Server 2022 Datacenterx644.3.0 RC (2023-04-18 r84287 ucrt) -- "Already Tomorrow" 4342
lconwaymacOS 12.6.5 Montereyx86_644.3.0 RC (2023-04-13 r84266) -- "Already Tomorrow" 4343
Click on any hostname to see more info about the system (e.g. compilers)      (*) as reported by 'uname -p', except on Windows and Mac OS X

All results for package affycoretools


To the developers/maintainers of the affycoretools package:
- Allow up to 24 hours (and sometimes 48 hours) for your latest push to git@git.bioconductor.org:packages/affycoretools.git to reflect on this report. See Troubleshooting Build Report for more information.

- Use the following Renviron settings to reproduce errors and warnings.

Note: If "R CMD check" recently failed on the Linux builder over a missing dependency, add the missing dependency to "Suggests" in your DESCRIPTION file. See the Renviron.bioc for details.

raw results

Package 25/2199HostnameOS / ArchINSTALLBUILDCHECKBUILD BIN
affycoretools 1.73.0  (landing page)
James W. MacDonald
Snapshot Date: 2023-06-02 14:00:07 -0400 (Fri, 02 Jun 2023)
git_url: https://git.bioconductor.org/packages/affycoretools
git_branch: devel
git_last_commit: efd79be
git_last_commit_date: 2023-04-25 09:42:43 -0400 (Tue, 25 Apr 2023)
nebbiolo2Linux (Ubuntu 22.04.2 LTS) / x86_64  OK    OK    OK  NO, package depends on 'affy' which is not available
palomino4Windows Server 2022 Datacenter / x64  OK    OK    OK    OK  NO, package depends on 'ReportingTools' which is not available
lconwaymacOS 12.6.5 Monterey / x86_64  OK    OK    OK    OK  NO, package depends on 'ReportingTools' which is not available

Results for Bioconductor software packages that depend directly on package affycoretools

QUICK STATSOS / ArchINSTALLBUILDCHECKBUILD BIN
nebbiolo2Linux (Ubuntu 22.04.2 LTS) / x86_64
001
001
0010
palomino4Windows Server 2022 Datacenter / x64
001
001
0010
001
lconwaymacOS 12.6.5 Monterey / x86_64
001
001
0010
001
Package 1/1HostnameOS / ArchINSTALLBUILDCHECKBUILD BIN
AgiMicroRna 2.51.0  (landing page)
Pedro Lopez-Romero
git_last_commit: 7034f25
git_last_commit_date: 2023-04-25 09:49:25 -0400
nebbiolo2Linux (Ubuntu 22.04.2 LTS) / x86_64  OK    OK    WARNINGS  NO, package depends on 'affy' which is not available
palomino4Windows Server 2022 Datacenter / x64  OK    OK    WARNINGS    OK  NO, package depends on 'affycoretools' which is not available
lconwaymacOS 12.6.5 Monterey / x86_64  OK    OK    WARNINGS    OK  NO, package depends on 'affycoretools' which is not available