Back to Multiple platform build/check report for BioC 3.16
ABCDEFGHIJKL[M]NOPQRSTUVWXYZ

This page was generated on 2022-06-24 11:08:11 -0400 (Fri, 24 Jun 2022).

HostnameOSArch (*)R versionInstalled pkgs
nebbiolo2Linux (Ubuntu 20.04.4 LTS)x86_644.2.0 Patched (2022-06-02 r82447) -- "Vigorous Calisthenics" 4331
palomino4Windows Server 2022 Datacenterx644.2.0 Patched (2022-06-02 r82447 ucrt) -- "Vigorous Calisthenics" 4136
lconwaymacOS 12.2.1 Montereyx86_644.2.0 Patched (2022-05-29 r82424) -- "Vigorous Calisthenics" 4147
Click on any hostname to see more info about the system (e.g. compilers)      (*) as reported by 'uname -p', except on Windows and Mac OS X

INSTALL results for MinimumDistance on lconway


To the developers/maintainers of the MinimumDistance package:
- Please allow up to 24 hours (and sometimes 48 hours) for your latest push to git@git.bioconductor.org:packages/MinimumDistance.git to
reflect on this report. See How and When does the builder pull? When will my changes propagate? for more information.
- Make sure to use the following settings in order to reproduce any error or warning you see on this page.

raw results

Package 1175/2118HostnameOS / ArchINSTALLBUILDCHECKBUILD BIN
MinimumDistance 1.41.0  (landing page)
Robert Scharpf
Snapshot Date: 2022-06-23 14:00:04 -0400 (Thu, 23 Jun 2022)
git_url: https://git.bioconductor.org/packages/MinimumDistance
git_branch: master
git_last_commit: 890c04a
git_last_commit_date: 2022-04-26 11:10:56 -0400 (Tue, 26 Apr 2022)
nebbiolo2Linux (Ubuntu 20.04.4 LTS) / x86_64  OK    OK    WARNINGS  UNNEEDED, same version is already published
palomino4Windows Server 2022 Datacenter / x64  OK    OK    WARNINGS    OK  UNNEEDED, same version is already published
lconwaymacOS 12.2.1 Monterey / x86_64  OK    OK    WARNINGS    OK  UNNEEDED, same version is already published

Summary

Package: MinimumDistance
Version: 1.41.0
Command: /Library/Frameworks/R.framework/Resources/bin/R CMD INSTALL MinimumDistance
StartedAt: 2022-06-23 15:42:09 -0400 (Thu, 23 Jun 2022)
EndedAt: 2022-06-23 15:43:03 -0400 (Thu, 23 Jun 2022)
EllapsedTime: 53.8 seconds
RetCode: 0
Status:   OK  

Command output

##############################################################################
##############################################################################
###
### Running command:
###
###   /Library/Frameworks/R.framework/Resources/bin/R CMD INSTALL MinimumDistance
###
##############################################################################
##############################################################################


* installing to library ‘/Library/Frameworks/R.framework/Versions/4.2/Resources/library’
* installing *source* package ‘MinimumDistance’ ...
** using staged installation
** R
** data
** inst
** byte-compile and prepare package for lazy loading
No methods found in package ‘oligoClasses’ for request: ‘mean’ when loading ‘crlmm’
Warning: replacing previous import ‘ff::pattern’ by ‘grid::pattern’ when loading ‘MinimumDistance’
Creating a new generic function for ‘allNames’ in package ‘MinimumDistance’
in method for ‘coerce’ with signature ‘"RangedDataCNV","GRanges"’: no definition for class “RangedDataCNV”
in method for ‘todf’ with signature ‘object="TrioSet",rangeData="RangedData"’: no definition for class “RangedData”
in method for ‘prune’ with signature ‘object="TrioSet",ranges="RangedDataCNV"’: no definition for class “RangedDataCNV”
in method for ‘prune’ with signature ‘object="TrioSetList",ranges="RangedDataCNV"’: no definition for class “RangedDataCNV”
** help
*** installing help indices
** building package indices
** installing vignettes
** testing if installed package can be loaded from temporary location
No methods found in package ‘oligoClasses’ for request: ‘mean’ when loading ‘crlmm’
Warning: replacing previous import ‘ff::pattern’ by ‘grid::pattern’ when loading ‘MinimumDistance’
** testing if installed package can be loaded from final location
No methods found in package ‘oligoClasses’ for request: ‘mean’ when loading ‘crlmm’
Warning: replacing previous import ‘ff::pattern’ by ‘grid::pattern’ when loading ‘MinimumDistance’
** testing if installed package keeps a record of temporary installation path
* DONE (MinimumDistance)