Back to Multiple platform build/check report for BioC 3.17
ABCDEFGHIJK[L]MNOPQRSTUVWXYZ

This page was generated on 2022-12-09 11:04:47 -0500 (Fri, 09 Dec 2022).

HostnameOSArch (*)R versionInstalled pkgs
nebbiolo1Linux (Ubuntu 22.04.1 LTS)x86_64R Under development (unstable) (2022-11-30 r83393) -- "Unsuffered Consequences" 4449
palomino3Windows Server 2022 Datacenterx64R Under development (unstable) (2022-11-30 r83393 ucrt) -- "Unsuffered Consequences" 4194
merida1macOS 10.14.6 Mojavex86_64R Under development (unstable) (2022-11-30 r83393) -- "Unsuffered Consequences" 4237
Click on any hostname to see more info about the system (e.g. compilers)      (*) as reported by 'uname -p', except on Windows and Mac OS X

All results for package ldblock


To the developers/maintainers of the ldblock package:
- Please allow up to 24 hours (and sometimes 48 hours) for your latest push to git@git.bioconductor.org:packages/ldblock.git to
reflect on this report. See How and When does the builder pull? When will my changes propagate? for more information.
- Make sure to use the following settings in order to reproduce any error or warning you see on this page.

raw results

Package 1017/2155HostnameOS / ArchINSTALLBUILDCHECKBUILD BIN
ldblock 1.29.0  (landing page)
VJ Carey
Snapshot Date: 2022-12-08 14:00:20 -0500 (Thu, 08 Dec 2022)
git_url: https://git.bioconductor.org/packages/ldblock
git_branch: master
git_last_commit: b7524a4
git_last_commit_date: 2022-11-01 11:12:06 -0500 (Tue, 01 Nov 2022)
nebbiolo1Linux (Ubuntu 22.04.1 LTS) / x86_64  OK    OK    OK  UNNEEDED, same version is already published
palomino3Windows Server 2022 Datacenter / x64  OK    OK    OK    OK  UNNEEDED, same version is already published
merida1macOS 10.14.6 Mojave / x86_64  OK    OK    OK    OK  UNNEEDED, same version is already published