Back to Multiple platform build/check report for BioC 3.18:   simplified   long
ABCDEFGHIJKLMNOPQRS[T]UVWXYZ

This page was generated on 2023-09-26 11:36:13 -0400 (Tue, 26 Sep 2023).

HostnameOSArch (*)R versionInstalled pkgs
nebbiolo2Linux (Ubuntu 22.04.2 LTS)x86_644.3.1 (2023-06-16) -- "Beagle Scouts" 4659
palomino4Windows Server 2022 Datacenterx644.3.1 (2023-06-16 ucrt) -- "Beagle Scouts" 4394
lconwaymacOS 12.6.5 Montereyx86_644.3.1 Patched (2023-06-17 r84564) -- "Beagle Scouts" 4408
kunpeng2Linux (openEuler 22.03 LTS-SP1)aarch644.3.1 (2023-06-16) -- "Beagle Scouts" 4397
Click on any hostname to see more info about the system (e.g. compilers)      (*) as reported by 'uname -p', except on Windows and Mac OS X

All results for package TVTB


To the developers/maintainers of the TVTB package:
- Allow up to 24 hours (and sometimes 48 hours) for your latest push to git@git.bioconductor.org:packages/TVTB.git to reflect on this report. See Troubleshooting Build Report for more information.
- Use the following Renviron settings to reproduce errors and warnings.
- If 'R CMD check' started to fail recently on the Linux builder(s) over a missing dependency, add the missing dependency to 'Suggests:' in your DESCRIPTION file. See Renviron.bioc for more information.

raw results

Package 2160/2233HostnameOS / ArchINSTALLBUILDCHECKBUILD BIN
TVTB 1.27.0  (landing page)
Kevin Rue-Albrecht
Snapshot Date: 2023-09-25 14:05:08 -0400 (Mon, 25 Sep 2023)
git_url: https://git.bioconductor.org/packages/TVTB
git_branch: devel
git_last_commit: 082ad90
git_last_commit_date: 2023-04-25 10:50:43 -0400 (Tue, 25 Apr 2023)
nebbiolo2Linux (Ubuntu 22.04.2 LTS) / x86_64  OK    OK    WARNINGS  NO, package depends on 'ensemblVEP' which is not available
palomino4Windows Server 2022 Datacenter / x64... NOT SUPPORTED ...
lconwaymacOS 12.6.5 Monterey / x86_64  OK    OK    WARNINGS    OK  NO, package depends on 'ensemblVEP' which is not available
kunpeng2Linux (openEuler 22.03 LTS-SP1) / aarch64  OK    OK    WARNINGS