Back to Multiple platform build/check report for BioC 3.18:   simplified   long
ABCDEFGHIJKLMNOPQ[R]STUVWXYZ

This page was generated on 2023-06-07 11:05:01 -0400 (Wed, 07 Jun 2023).

HostnameOSArch (*)R versionInstalled pkgs
nebbiolo2Linux (Ubuntu 22.04.2 LTS)x86_644.3.0 RC (2023-04-18 r84287) -- "Already Tomorrow" 4598
palomino4Windows Server 2022 Datacenterx644.3.0 RC (2023-04-18 r84287 ucrt) -- "Already Tomorrow" 4347
lconwaymacOS 12.6.5 Montereyx86_644.3.0 RC (2023-04-13 r84266) -- "Already Tomorrow" 4354
Click on any hostname to see more info about the system (e.g. compilers)      (*) as reported by 'uname -p', except on Windows and Mac OS X

All results for package Rsubread


To the developers/maintainers of the Rsubread package:
- Allow up to 24 hours (and sometimes 48 hours) for your latest push to git@git.bioconductor.org:packages/Rsubread.git to reflect on this report. See Troubleshooting Build Report for more information.
- Use the following Renviron settings to reproduce errors and warnings.
- If 'R CMD check' started to fail recently on the Linux builder(s) over a missing dependency, add the missing dependency to 'Suggests:' in your DESCRIPTION file. See Renviron.bioc for more information.

raw results

Package 1749/2199HostnameOS / ArchINSTALLBUILDCHECKBUILD BIN
Rsubread 2.15.3  (landing page)
Wei Shi , Yang Liao and Gordon K Smyth
Snapshot Date: 2023-06-06 14:00:07 -0400 (Tue, 06 Jun 2023)
git_url: https://git.bioconductor.org/packages/Rsubread
git_branch: devel
git_last_commit: dc1d979
git_last_commit_date: 2023-05-14 21:31:36 -0400 (Sun, 14 May 2023)
nebbiolo2Linux (Ubuntu 22.04.2 LTS) / x86_64  OK    OK    OK  UNNEEDED, same version is already published
palomino4Windows Server 2022 Datacenter / x64  OK    OK    OK    OK  UNNEEDED, same version is already published
lconwaymacOS 12.6.5 Monterey / x86_64  OK    OK    OK    OK  UNNEEDED, same version is already published

Results for Bioconductor software packages that depend directly on package Rsubread

QUICK STATSOS / ArchINSTALLBUILDCHECKBUILD BIN
nebbiolo2Linux (Ubuntu 22.04.2 LTS) / x86_64
008
008
0035
palomino4Windows Server 2022 Datacenter / x64
006
006
0024
006
lconwaymacOS 12.6.5 Monterey / x86_64
008
008
0035
008
Package 1/8HostnameOS / ArchINSTALLBUILDCHECKBUILD BIN
APAlyzer 1.15.0  (landing page)
Ruijia Wang
git_last_commit: 2a27d1e
git_last_commit_date: 2023-04-25 11:11:42 -0400
nebbiolo2Linux (Ubuntu 22.04.2 LTS) / x86_64  OK    OK    WARNINGS  UNNEEDED, same version is already published
palomino4Windows Server 2022 Datacenter / x64  OK    OK    WARNINGS    OK  UNNEEDED, same version is already published
lconwaymacOS 12.6.5 Monterey / x86_64  OK    OK    WARNINGS    OK  UNNEEDED, same version is already published
Package 2/8HostnameOS / ArchINSTALLBUILDCHECKBUILD BIN
diffUTR 1.9.0  (landing page)
Pierre-Luc Germain
git_last_commit: bef6bc7
git_last_commit_date: 2023-04-25 11:29:40 -0400
nebbiolo2Linux (Ubuntu 22.04.2 LTS) / x86_64  OK    OK    OK  NO, package depends on 'DEXSeq' which is not available
palomino4Windows Server 2022 Datacenter / x64  OK    OK    OK    OK  UNNEEDED, same version is already published
lconwaymacOS 12.6.5 Monterey / x86_64  OK    OK    OK    OK  UNNEEDED, same version is already published
Package 3/8HostnameOS / ArchINSTALLBUILDCHECKBUILD BIN
dupRadar 1.31.0  (landing page)
Sergi Sayols , Holger Klein
git_last_commit: 449356c
git_last_commit_date: 2023-04-25 10:41:34 -0400
nebbiolo2Linux (Ubuntu 22.04.2 LTS) / x86_64  OK    OK    WARNINGS  UNNEEDED, same version is already published
palomino4Windows Server 2022 Datacenter / x64... NOT SUPPORTED ...
lconwaymacOS 12.6.5 Monterey / x86_64  OK    OK    WARNINGS    OK  UNNEEDED, same version is already published
Package 4/8HostnameOS / ArchINSTALLBUILDCHECKBUILD BIN
ExCluster 1.19.0  (landing page)
R. Matthew Tanner
git_last_commit: f7849da
git_last_commit_date: 2023-04-25 11:04:45 -0400
nebbiolo2Linux (Ubuntu 22.04.2 LTS) / x86_64  OK    OK    OK  UNNEEDED, same version is already published
palomino4Windows Server 2022 Datacenter / x64... NOT SUPPORTED ...
lconwaymacOS 12.6.5 Monterey / x86_64  OK    OK    OK    OK  UNNEEDED, same version is already published
Package 5/8HostnameOS / ArchINSTALLBUILDCHECKBUILD BIN
FRASER 1.13.0  (landing page)
Christian Mertes
git_last_commit: bb07dd3
git_last_commit_date: 2023-04-25 11:17:40 -0400
nebbiolo2Linux (Ubuntu 22.04.2 LTS) / x86_64  OK    OK    OK  UNNEEDED, same version is already published
palomino4Windows Server 2022 Datacenter / x64  OK    OK    OK    OK  UNNEEDED, same version is already published
lconwaymacOS 12.6.5 Monterey / x86_64  OK    OK    OK    OK  UNNEEDED, same version is already published
Package 6/8HostnameOS / ArchINSTALLBUILDCHECKBUILD BIN
ribosomeProfilingQC 1.13.1  (landing page)
Jianhong Ou
git_last_commit: 90176f9
git_last_commit_date: 2023-06-06 09:07:53 -0400
nebbiolo2Linux (Ubuntu 22.04.2 LTS) / x86_64  OK    OK    OK  YES
palomino4Windows Server 2022 Datacenter / x64  OK    OK    OK    OK  YES
lconwaymacOS 12.6.5 Monterey / x86_64  OK    OK    OK    OK  YES
Package 7/8HostnameOS / ArchINSTALLBUILDCHECKBUILD BIN
scPipe 2.1.0  (landing page)
Shian Su
git_last_commit: 76de7bd
git_last_commit_date: 2023-04-25 10:57:21 -0400
nebbiolo2Linux (Ubuntu 22.04.2 LTS) / x86_64  OK    OK    WARNINGS  UNNEEDED, same version is already published
palomino4Windows Server 2022 Datacenter / x64  OK    OK    WARNINGS    OK  NO, package depends on 'basilisk' which is not available
lconwaymacOS 12.6.5 Monterey / x86_64  OK    OK    WARNINGS    OK  UNNEEDED, same version is already published
Package 8/8HostnameOS / ArchINSTALLBUILDCHECKBUILD BIN
scruff 1.19.1  (landing page)
Zhe Wang
git_last_commit: 878d109
git_last_commit_date: 2023-05-27 13:33:34 -0400
nebbiolo2Linux (Ubuntu 22.04.2 LTS) / x86_64  OK    OK    OK  UNNEEDED, same version is already published
palomino4Windows Server 2022 Datacenter / x64  OK    OK    OK    OK  NO, package depends on 'ggbio' which is not available
lconwaymacOS 12.6.5 Monterey / x86_64  OK    OK    OK    OK  UNNEEDED, same version is already published