Back to Build/check report for BioC 3.15
ABCDEF[G]HIJKLMNOPQRSTUVWXYZ

This page was generated on 2021-12-02 12:32:11 -0500 (Thu, 02 Dec 2021).

All results for package GDSArray

To the developers/maintainers of the GDSArray package:
- Please allow up to 24 hours (and sometimes 48 hours) for your latest push to git@git.bioconductor.org:packages/GDSArray.git to
reflect on this report. See How and When does the builder pull? When will my changes propagate? here for more information.
- Make sure to use the following settings in order to reproduce any error or warning you see on this page.

raw results

Package 703/2068HostnameOS / ArchINSTALLBUILDCHECKBUILD BIN
GDSArray 1.15.0  (landing page)
Qian Liu
Snapshot Date: 2021-12-01 15:06:11 -0500 (Wed, 01 Dec 2021)
git_url: https://git.bioconductor.org/packages/GDSArray
git_branch: master
git_last_commit: 230743e
git_last_commit_date: 2021-10-26 12:43:25 -0500 (Tue, 26 Oct 2021)
nebbiolo1Linux (Ubuntu 20.04.3 LTS) / x86_64  OK    OK    OK  UNNEEDED, same version is already published

Results for Bioconductor software packages that depend directly on package GDSArray

QUICK STATSOS / ArchINSTALLBUILDCHECKBUILD BIN
nebbiolo1Linux (Ubuntu 20.04.3 LTS) / x86_64
002
002
0011
Package 1/2HostnameOS / ArchINSTALLBUILDCHECKBUILD BIN
CNVRanger 1.11.0  (landing page)
Ludwig Geistlinger
git_last_commit: 5ca6a1e
git_last_commit_date: 2021-10-26 12:49:21 -0500
nebbiolo1Linux (Ubuntu 20.04.3 LTS) / x86_64  OK    OK    OK  UNNEEDED, same version is already published
Package 2/2HostnameOS / ArchINSTALLBUILDCHECKBUILD BIN
VariantExperiment 1.9.0  (landing page)
Qian Liu
git_last_commit: c6e2a3d
git_last_commit_date: 2021-10-26 12:53:37 -0500
nebbiolo1Linux (Ubuntu 20.04.3 LTS) / x86_64  OK    OK    WARNINGS  UNNEEDED, same version is already published