Back to Multiple platform build/check report for BioC 3.17
ABCDEFGHIJKLMNOPQR[S]TUVWXYZ

This page was generated on 2022-11-29 11:05:16 -0500 (Tue, 29 Nov 2022).

HostnameOSArch (*)R versionInstalled pkgs
nebbiolo1Linux (Ubuntu 22.04.1 LTS)x86_64R Under development (unstable) (2022-10-25 r83175) -- "Unsuffered Consequences" 4462
palomino3Windows Server 2022 Datacenterx64R Under development (unstable) (2022-10-11 r83083 ucrt) -- "Unsuffered Consequences" 4201
merida1macOS 10.14.6 Mojavex86_64R Under development (unstable) (2022-11-13 r83342) -- "Unsuffered Consequences" 4231
Click on any hostname to see more info about the system (e.g. compilers)      (*) as reported by 'uname -p', except on Windows and Mac OS X

All results for package STRINGdb


To the developers/maintainers of the STRINGdb package:
- Please allow up to 24 hours (and sometimes 48 hours) for your latest push to git@git.bioconductor.org:packages/STRINGdb.git to
reflect on this report. See How and When does the builder pull? When will my changes propagate? for more information.
- Make sure to use the following settings in order to reproduce any error or warning you see on this page.

raw results

Package 1959/2154HostnameOS / ArchINSTALLBUILDCHECKBUILD BIN
STRINGdb 2.11.0  (landing page)
Damian Szklarczyk
Snapshot Date: 2022-11-28 14:00:12 -0500 (Mon, 28 Nov 2022)
git_url: https://git.bioconductor.org/packages/STRINGdb
git_branch: master
git_last_commit: 094c6ad
git_last_commit_date: 2022-11-01 11:08:45 -0500 (Tue, 01 Nov 2022)
nebbiolo1Linux (Ubuntu 22.04.1 LTS) / x86_64  OK    OK    OK  UNNEEDED, same version is already published
palomino3Windows Server 2022 Datacenter / x64  OK    OK    OK    OK  UNNEEDED, same version is already published
merida1macOS 10.14.6 Mojave / x86_64  OK    OK    OK    OK  UNNEEDED, same version is already published

Results for Bioconductor software packages that depend directly on package STRINGdb

QUICK STATSOS / ArchINSTALLBUILDCHECKBUILD BIN
nebbiolo1Linux (Ubuntu 22.04.1 LTS) / x86_64
006
006
1023
palomino3Windows Server 2022 Datacenter / x64
006
006
0123
006
merida1macOS 10.14.6 Mojave / x86_64
006
006
1023
006
Package 1/6HostnameOS / ArchINSTALLBUILDCHECKBUILD BIN
IMMAN 1.19.0  (landing page)
Minoo Ashtiani
git_last_commit: 0eb316b
git_last_commit_date: 2022-11-01 11:17:25 -0500
nebbiolo1Linux (Ubuntu 22.04.1 LTS) / x86_64  OK    OK    OK  UNNEEDED, same version is already published
palomino3Windows Server 2022 Datacenter / x64  OK    OK    OK    OK  UNNEEDED, same version is already published
merida1macOS 10.14.6 Mojave / x86_64  OK    OK    OK    OK  UNNEEDED, same version is already published
Package 2/6HostnameOS / ArchINSTALLBUILDCHECKBUILD BIN
netZooR 1.3.0  (landing page)
Marouen Ben Guebila
git_last_commit: 96524f8
git_last_commit_date: 2022-11-01 11:26:12 -0500
nebbiolo1Linux (Ubuntu 22.04.1 LTS) / x86_64  OK    OK    TIMEOUT  
palomino3Windows Server 2022 Datacenter / x64  OK    OK    ERROR    OK  
merida1macOS 10.14.6 Mojave / x86_64  OK    OK    TIMEOUT    OK  
Package 3/6HostnameOS / ArchINSTALLBUILDCHECKBUILD BIN
PPInfer 1.25.1  (landing page)
Dongmin Jung
git_last_commit: 91d4e49
git_last_commit_date: 2022-11-17 10:10:08 -0500
nebbiolo1Linux (Ubuntu 22.04.1 LTS) / x86_64  OK    OK    OK  UNNEEDED, same version is already published
palomino3Windows Server 2022 Datacenter / x64  OK    OK    OK    OK  UNNEEDED, same version is already published
merida1macOS 10.14.6 Mojave / x86_64  OK    OK    OK    OK  NO, package depends on 'fgsea' which is not available
Package 4/6HostnameOS / ArchINSTALLBUILDCHECKBUILD BIN
pwOmics 1.31.0  (landing page)
Maren Sitte
git_last_commit: aa14525
git_last_commit_date: 2022-11-01 11:11:40 -0500
nebbiolo1Linux (Ubuntu 22.04.1 LTS) / x86_64  OK    OK    WARNINGS  UNNEEDED, same version is already published
palomino3Windows Server 2022 Datacenter / x64  OK    OK    WARNINGS    OK  NO, package depends on 'GenomicRanges' which is not available
merida1macOS 10.14.6 Mojave / x86_64  OK    OK    WARNINGS    OK  UNNEEDED, same version is already published
Package 5/6HostnameOS / ArchINSTALLBUILDCHECKBUILD BIN
RITAN 1.23.0  (landing page)
Michael Zimmermann
git_last_commit: 61c87e5
git_last_commit_date: 2022-11-01 11:15:42 -0500
nebbiolo1Linux (Ubuntu 22.04.1 LTS) / x86_64  OK    OK    WARNINGS  UNNEEDED, same version is already published
palomino3Windows Server 2022 Datacenter / x64  OK    OK    WARNINGS    OK  NO, package depends on 'GenomicFeatures' which is not available
merida1macOS 10.14.6 Mojave / x86_64  OK    OK    WARNINGS    OK  NO, package depends on 'GenomicFeatures' which is not available
Package 6/6HostnameOS / ArchINSTALLBUILDCHECKBUILD BIN
XINA 1.17.0  (landing page)
Lang Ho Lee
git_last_commit: 388d2ed
git_last_commit_date: 2022-11-01 11:18:23 -0500
nebbiolo1Linux (Ubuntu 22.04.1 LTS) / x86_64  OK    OK    OK  UNNEEDED, same version is already published
palomino3Windows Server 2022 Datacenter / x64  OK    OK    OK    OK  UNNEEDED, same version is already published
merida1macOS 10.14.6 Mojave / x86_64  OK    OK    OK    OK  UNNEEDED, same version is already published