Back to Multiple platform build/check report for BioC 3.12
ABCDEFGHIJKLMNOPQR[S]TUVWXYZ

Multiple platform build/check report for BioC 3.12

Results for SCBN

This page was generated on 2020-07-06 12:39:58 -0400 (Mon, 06 Jul 2020).

Package 1552/1870HostnameOS / ArchINSTALLBUILDCHECKBUILD BIN
SCBN 1.7.0
Yan Zhou
Snapshot Date: 2020-07-05 15:51:24 -0400 (Sun, 05 Jul 2020)
URL: https://git.bioconductor.org/packages/SCBN
Branch: master
Last Commit: ff2176b
Last Changed Date: 2020-04-27 15:18:38 -0400 (Mon, 27 Apr 2020)
malbec1 Linux (Ubuntu 18.04.4 LTS) / x86_64  OK  OK  OK UNNEEDED, same version exists in internal repository
tokay1 Windows Server 2012 R2 Standard / x64  OK  OK  OK  OK UNNEEDED, same version exists in internal repository
merida1 macOS 10.14.6 Mojave / x86_64  OK  OK  OK  OK UNNEEDED, same version exists in internal repository