Back to Multiple platform build/check report for BioC 3.18: simplified long |
|
This page was generated on 2023-09-23 11:36:04 -0400 (Sat, 23 Sep 2023).
Hostname | OS | Arch (*) | R version | Installed pkgs |
---|---|---|---|---|
nebbiolo2 | Linux (Ubuntu 22.04.2 LTS) | x86_64 | 4.3.1 (2023-06-16) -- "Beagle Scouts" | 4659 |
palomino4 | Windows Server 2022 Datacenter | x64 | 4.3.1 (2023-06-16 ucrt) -- "Beagle Scouts" | 4394 |
lconway | macOS 12.6.5 Monterey | x86_64 | 4.3.1 Patched (2023-06-17 r84564) -- "Beagle Scouts" | 4408 |
kunpeng2 | Linux (openEuler 22.03 LTS-SP1) | aarch64 | 4.3.1 (2023-06-16) -- "Beagle Scouts" | 4397 |
Click on any hostname to see more info about the system (e.g. compilers) (*) as reported by 'uname -p', except on Windows and Mac OS X |
Package 296/2233 | Hostname | OS / Arch | INSTALL | BUILD | CHECK | BUILD BIN | ||||||||
cellmigRation 1.9.0 (landing page) Waldir Leoncio
| nebbiolo2 | Linux (Ubuntu 22.04.2 LTS) / x86_64 | OK | OK | OK | ![]() | ||||||||
palomino4 | Windows Server 2022 Datacenter / x64 | OK | OK | OK | OK | ![]() | ||||||||
lconway | macOS 12.6.5 Monterey / x86_64 | OK | OK | OK | OK | ![]() | ||||||||
kunpeng2 | Linux (openEuler 22.03 LTS-SP1) / aarch64 | OK | OK | OK | ||||||||||
To the developers/maintainers of the cellmigRation package: - Allow up to 24 hours (and sometimes 48 hours) for your latest push to git@git.bioconductor.org:packages/cellmigRation.git to reflect on this report. See Troubleshooting Build Report for more information. - Use the following Renviron settings to reproduce errors and warnings. - If 'R CMD check' started to fail recently on the Linux builder(s) over a missing dependency, add the missing dependency to 'Suggests:' in your DESCRIPTION file. See Renviron.bioc for more information. |
Package: cellmigRation |
Version: 1.9.0 |
Command: /home/biocbuild/bbs-3.18-bioc/R/bin/R CMD check --install=check:cellmigRation.install-out.txt --library=/home/biocbuild/bbs-3.18-bioc/R/site-library --timings cellmigRation_1.9.0.tar.gz |
StartedAt: 2023-09-22 20:04:51 -0400 (Fri, 22 Sep 2023) |
EndedAt: 2023-09-22 20:08:33 -0400 (Fri, 22 Sep 2023) |
EllapsedTime: 222.2 seconds |
RetCode: 0 |
Status: OK |
CheckDir: cellmigRation.Rcheck |
Warnings: 0 |
############################################################################## ############################################################################## ### ### Running command: ### ### /home/biocbuild/bbs-3.18-bioc/R/bin/R CMD check --install=check:cellmigRation.install-out.txt --library=/home/biocbuild/bbs-3.18-bioc/R/site-library --timings cellmigRation_1.9.0.tar.gz ### ############################################################################## ############################################################################## * using log directory ‘/home/biocbuild/bbs-3.18-bioc/meat/cellmigRation.Rcheck’ * using R version 4.3.1 (2023-06-16) * using platform: x86_64-pc-linux-gnu (64-bit) * R was compiled by gcc (Ubuntu 11.3.0-1ubuntu1~22.04.1) 11.3.0 GNU Fortran (Ubuntu 11.3.0-1ubuntu1~22.04.1) 11.3.0 * running under: Ubuntu 22.04.3 LTS * using session charset: UTF-8 * checking for file ‘cellmigRation/DESCRIPTION’ ... OK * checking extension type ... Package * this is package ‘cellmigRation’ version ‘1.9.0’ * package encoding: UTF-8 * checking package namespace information ... OK * checking package dependencies ... OK * checking if this is a source package ... OK * checking if there is a namespace ... OK * checking for hidden files and directories ... OK * checking for portable file names ... OK * checking for sufficient/correct file permissions ... OK * checking whether package ‘cellmigRation’ can be installed ... OK * checking installed package size ... OK * checking package directory ... OK * checking ‘build’ directory ... OK * checking DESCRIPTION meta-information ... OK * checking top-level files ... OK * checking for left-over files ... OK * checking index information ... OK * checking package subdirectories ... OK * checking R files for non-ASCII characters ... OK * checking R files for syntax errors ... OK * checking whether the package can be loaded ... OK * checking whether the package can be loaded with stated dependencies ... OK * checking whether the package can be unloaded cleanly ... OK * checking whether the namespace can be loaded with stated dependencies ... OK * checking whether the namespace can be unloaded cleanly ... OK * checking loading without being on the library search path ... OK * checking dependencies in R code ... OK * checking S3 generic/method consistency ... OK * checking replacement functions ... OK * checking foreign function calls ... OK * checking R code for possible problems ... OK * checking Rd files ... OK * checking Rd metadata ... OK * checking Rd cross-references ... OK * checking for missing documentation entries ... OK * checking for code/documentation mismatches ... OK * checking Rd \usage sections ... OK * checking Rd contents ... OK * checking for unstated dependencies in examples ... OK * checking contents of ‘data’ directory ... OK * checking data for non-ASCII characters ... OK * checking data for ASCII and uncompressed saves ... OK * checking files in ‘vignettes’ ... OK * checking examples ... OK * checking for unstated dependencies in ‘tests’ ... OK * checking tests ... Running ‘runTests.R’ OK * checking for unstated dependencies in vignettes ... OK * checking package vignettes in ‘inst/doc’ ... OK * checking running R code from vignettes ... ‘cellmigRation.Rmd’ using ‘UTF-8’... OK NONE * checking re-building of vignette outputs ... OK * checking PDF version of manual ... OK * DONE Status: OK
cellmigRation.Rcheck/00install.out
############################################################################## ############################################################################## ### ### Running command: ### ### /home/biocbuild/bbs-3.18-bioc/R/bin/R CMD INSTALL cellmigRation ### ############################################################################## ############################################################################## * installing to library ‘/home/biocbuild/bbs-3.18-bioc/R/site-library’ * installing *source* package ‘cellmigRation’ ... ** using staged installation ** R ** data ** inst ** byte-compile and prepare package for lazy loading ** help *** installing help indices ** building package indices ** installing vignettes ** testing if installed package can be loaded from temporary location ** testing if installed package can be loaded from final location ** testing if installed package keeps a record of temporary installation path * DONE (cellmigRation)
cellmigRation.Rcheck/tests/runTests.Rout
R version 4.3.1 (2023-06-16) -- "Beagle Scouts" Copyright (C) 2023 The R Foundation for Statistical Computing Platform: x86_64-pc-linux-gnu (64-bit) R is free software and comes with ABSOLUTELY NO WARRANTY. You are welcome to redistribute it under certain conditions. Type 'license()' or 'licence()' for distribution details. R is a collaborative project with many contributors. Type 'contributors()' for more information and 'citation()' on how to cite R or R packages in publications. Type 'demo()' for some demos, 'help()' for on-line help, or 'help.start()' for an HTML browser interface to help. Type 'q()' to quit R. > BiocGenerics:::testPackage("cellmigRation") The legacy packages maptools, rgdal, and rgeos, underpinning the sp package, which was just loaded, will retire in October 2023. Please refer to R-spatial evolution reports for details, especially https://r-spatial.org/r/2023/05/15/evolution4.html. It may be desirable to make the sf package available; package maintainers should consider adding sf to Suggests:. The sp package is now running under evolution status 2 (status 2 uses the sf package in place of rgdal) RUNIT TEST PROTOCOL -- Fri Sep 22 20:06:32 2023 *********************************************** Number of test functions: 7 Number of errors: 0 Number of failures: 0 1 Test Suite : cellmigRation RUnit Tests - 7 test functions, 0 errors, 0 failures Number of test functions: 7 Number of errors: 0 Number of failures: 0 > > proc.time() user system elapsed 2.728 0.164 2.881
cellmigRation.Rcheck/cellmigRation-Ex.timings
name | user | system | elapsed | |
AddDimension | 0.002 | 0.000 | 0.002 | |
CellMig-class | 0.027 | 0.000 | 0.028 | |
CellMigPCA | 1.163 | 0.063 | 1.227 | |
CellMigPCAclust | 0.007 | 0.000 | 0.008 | |
CellMigPCAclustALL | 0.599 | 0.008 | 0.607 | |
CellTracker | 0.019 | 0.000 | 0.018 | |
CellTrackerMainLoop | 0.007 | 0.000 | 0.027 | |
CentroidArray | 0.011 | 0.008 | 0.019 | |
CentroidValidation | 0.426 | 0.000 | 0.426 | |
ComputeTracksStats | 0.028 | 0.008 | 0.036 | |
DetectRadii | 0.002 | 0.000 | 0.002 | |
DiAutoCor | 1.242 | 0.031 | 1.274 | |
DiRatio | 0.016 | 0.000 | 0.016 | |
DiRatioPlot | 0.029 | 0.004 | 0.033 | |
EstimateDiameterRange | 0.014 | 0.000 | 0.014 | |
FMI | 0.442 | 0.000 | 0.442 | |
FianlizeOptiParams | 0 | 0 | 0 | |
FilterTrackedCells | 0.003 | 0.000 | 0.003 | |
FinRes | 0.599 | 0.000 | 0.599 | |
ForwardMigration | 0.878 | 0.011 | 0.890 | |
GenAllCombos | 0.002 | 0.000 | 0.002 | |
LinearConv2 | 0.014 | 0.003 | 0.018 | |
LoadTiff | 0.001 | 0.000 | 0.001 | |
MSD | 1.432 | 0.001 | 1.433 | |
MakeHypercube | 0.001 | 0.000 | 0.001 | |
MigrationStats | 0.001 | 0.000 | 0.000 | |
NextOdd | 0 | 0 | 0 | |
NonParallel4OptimizeParams | 0.000 | 0.000 | 0.001 | |
NonParallelTrackLoop | 0.000 | 0.000 | 0.001 | |
OptimizeParams | 0.018 | 0.000 | 0.017 | |
OptimizeParamsMainLoop | 0.007 | 0.000 | 0.029 | |
Parallel4OptimizeParams | 0.001 | 0.000 | 0.001 | |
ParallelTrackLoop | 0.001 | 0.000 | 0.001 | |
PerAndSpeed | 0.351 | 0.003 | 0.356 | |
PlotTracksSeparately | 0.009 | 0.000 | 0.009 | |
PostProcessTracking | 0 | 0 | 0 | |
Prep4OptimizeParams | 0.091 | 0.004 | 0.095 | |
ThreeConditions | 0.009 | 0.004 | 0.013 | |
TrackCellsDataset | 0.016 | 0.000 | 0.016 | |
TrajectoryDataset | 0.017 | 0.004 | 0.022 | |
ValidateTrackingArgs | 0 | 0 | 0 | |
VeAutoCor | 1.04 | 0.02 | 1.06 | |
VisualizeCntr | 0.002 | 0.000 | 0.002 | |
VisualizeImg | 0.005 | 0.000 | 0.005 | |
VisualizeStackCentroids | 0.065 | 0.000 | 0.065 | |
WSADataset | 0.007 | 0.000 | 0.007 | |
aggregateFR | 0.593 | 0.008 | 0.601 | |
aggregateTrackedCells | 0.022 | 0.000 | 0.022 | |
bpass | 0.057 | 0.000 | 0.057 | |
circshift | 0 | 0 | 0 | |
cntrd | 0.667 | 0.000 | 0.667 | |
fixDA | 0 | 0 | 0 | |
fixExpName | 0 | 0 | 0 | |
fixFM1 | 0 | 0 | 0 | |
fixFM2 | 0 | 0 | 0 | |
fixFM3 | 0 | 0 | 0 | |
fixFM4 | 0 | 0 | 0 | |
fixFM5 | 0.001 | 0.000 | 0.001 | |
fixFM6 | 0 | 0 | 0 | |
fixID1 | 0.001 | 0.000 | 0.001 | |
fixMSD | 0 | 0 | 0 | |
fixPER1 | 0 | 0 | 0 | |
fixPER2 | 0 | 0 | 0 | |
fixPER3 | 0 | 0 | 0 | |
getAvailableAggrMetrics | 0.866 | 0.024 | 0.890 | |
getCellImages | 0.202 | 0.228 | 0.430 | |
getCellMigSlot | 0.233 | 0.152 | 0.385 | |
getCellTrackMeta | 0.017 | 0.000 | 0.017 | |
getCellTrackStats | 0.02 | 0.00 | 0.02 | |
getCellTracks | 0.017 | 0.000 | 0.017 | |
getCellsMeta | 0.028 | 0.000 | 0.028 | |
getCellsStats | 0.018 | 0.000 | 0.018 | |
getDACtable | 1.843 | 0.008 | 1.851 | |
getDiRatio | 0.016 | 0.004 | 0.020 | |
getFMItable | 0.675 | 0.028 | 0.703 | |
getForMigtable | 0.510 | 0.004 | 0.513 | |
getImageCentroids | 0.017 | 0.004 | 0.022 | |
getImageStacks | 0.060 | 0.004 | 0.064 | |
getMSDtable | 3.288 | 0.012 | 3.301 | |
getOptimizedParameters | 0.016 | 0.000 | 0.016 | |
getOptimizedParams | 0.017 | 0.000 | 0.018 | |
getPerAndSpeed | 0.262 | 0.004 | 0.266 | |
getPopulationStats | 0.017 | 0.000 | 0.017 | |
getProcessedImages | 0.186 | 0.240 | 0.426 | |
getProcessingStatus | 0.013 | 0.004 | 0.017 | |
getResults | 0.568 | 0.000 | 0.568 | |
getTracks | 0.017 | 0.000 | 0.017 | |
getVACtable | 0.970 | 0.000 | 0.969 | |
initializeTrackParams | 0.000 | 0.000 | 0.001 | |
innerBondRaster | 0.001 | 0.000 | 0.001 | |
internalPermutation | 0.001 | 0.000 | 0.001 | |
matfix | 0.001 | 0.000 | 0.001 | |
nontrivialBondTracking | 0.001 | 0.000 | 0.001 | |
pkfnd | 0.635 | 0.000 | 0.635 | |
plot3DAllTracks | 0.090 | 0.044 | 0.133 | |
plot3DTracks | 0.006 | 0.004 | 0.010 | |
plotAllTracks | 0.022 | 0.000 | 0.021 | |
plotSampleTracks | 0.015 | 0.000 | 0.016 | |
preProcCellMig | 0.007 | 0.000 | 0.008 | |
rmPreProcessing | 0.107 | 0.060 | 0.167 | |
runTrackingPermutation | 0.001 | 0.000 | 0.002 | |
setAnalyticParams | 0.013 | 0.004 | 0.017 | |
setCellMigSlot | 0.023 | 0.000 | 0.022 | |
setCellTracks | 0.013 | 0.004 | 0.017 | |
setCellsMeta | 0.013 | 0.004 | 0.017 | |
setExpName | 0.022 | 0.000 | 0.023 | |
setOptimizedParams | 0.017 | 0.000 | 0.017 | |
setProcessedImages | 0.013 | 0.004 | 0.017 | |
setProcessingStatus | 0.017 | 0.000 | 0.017 | |
setTrackedCellsMeta | 0.017 | 0.000 | 0.017 | |
setTrackedCentroids | 0.013 | 0.004 | 0.018 | |
setTrackedPositions | 0.013 | 0.004 | 0.017 | |
setTrackingStats | 0.010 | 0.008 | 0.017 | |
sinkAway | 0.001 | 0.000 | 0.000 | |
subNetworkTracking | 0.002 | 0.000 | 0.001 | |
track | 0.006 | 0.004 | 0.010 | |
trackHypercubeBuild | 0.001 | 0.000 | 0.000 | |
trackSlideProcessing | 0.001 | 0.000 | 0.000 | |
trackSlideWrapUp | 0.001 | 0.000 | 0.000 | |
trivialBondRaster | 0.002 | 0.000 | 0.001 | |
trivialBondTracking | 0.001 | 0.000 | 0.000 | |
visualizeCellTracks | 0.069 | 0.000 | 0.068 | |
visualizeTrcks | 0.025 | 0.000 | 0.024 | |
warnMessage | 0.001 | 0.000 | 0.000 | |
wsaPreProcessing | 0.054 | 0.008 | 0.061 | |