Back to Multiple platform build/check report for BioC 3.18:   simplified   long
ABCDEFGHIJKLMNOPQ[R]STUVWXYZ

This page was generated on 2023-06-09 12:34:58 -0400 (Fri, 09 Jun 2023).

HostnameOSArch (*)R versionInstalled pkgs
nebbiolo2Linux (Ubuntu 22.04.2 LTS)x86_644.3.0 RC (2023-04-18 r84287) -- "Already Tomorrow" 4598
lconwaymacOS 12.6.5 Montereyx86_644.3.0 RC (2023-04-13 r84266) -- "Already Tomorrow" 4354
kunpeng2Linux (openEuler 22.03 LTS-SP1)aarch644.3.0 (2023-04-21) -- "Already Tomorrow" 4379
Click on any hostname to see more info about the system (e.g. compilers)      (*) as reported by 'uname -p', except on Windows and Mac OS X

All results for package recount


The builds on kunpeng2 (Linux ARM64) are experimental!
To the developers/maintainers of the recount package:
- Allow up to 24 hours (and sometimes 48 hours) for your latest push to git@git.bioconductor.org:packages/recount.git to reflect on this report. See Troubleshooting Build Report for more information.
- Use the following Renviron settings to reproduce errors and warnings.
- If 'R CMD check' started to fail recently on the Linux builder(s) over a missing dependency, add the missing dependency to 'Suggests:' in your DESCRIPTION file. See Renviron.bioc for more information.

raw results

Package 1644/2199HostnameOS / ArchINSTALLBUILDCHECKBUILD BIN
recount 1.27.0  (landing page)
Leonardo Collado-Torres
Snapshot Date: 2023-06-08 14:00:07 -0400 (Thu, 08 Jun 2023)
git_url: https://git.bioconductor.org/packages/recount
git_branch: devel
git_last_commit: 742c5ea
git_last_commit_date: 2023-05-07 01:21:04 -0400 (Sun, 07 May 2023)
nebbiolo2Linux (Ubuntu 22.04.2 LTS) / x86_64  OK    OK    OK  UNNEEDED, same version is already published
lconwaymacOS 12.6.5 Monterey / x86_64  OK    ERROR  skippedskipped
kunpeng2Linux (openEuler 22.03 LTS-SP1) / aarch64  OK    OK    OK  

Results for Bioconductor software packages that depend directly on package recount

QUICK STATSOS / ArchINSTALLBUILDCHECKBUILD BIN
nebbiolo2Linux (Ubuntu 22.04.2 LTS) / x86_64
003
003
0012
lconwaymacOS 12.6.5 Monterey / x86_64
003
003
0012
003
kunpeng2Linux (openEuler 22.03 LTS-SP1) / aarch64
003
003
0012
Package 1/3HostnameOS / ArchINSTALLBUILDCHECKBUILD BIN
psichomics 1.27.0  (landing page)
Nuno Saraiva-Agostinho
git_last_commit: 695e0b7
git_last_commit_date: 2023-04-25 10:50:25 -0400
nebbiolo2Linux (Ubuntu 22.04.2 LTS) / x86_64  OK    OK    WARNINGS  UNNEEDED, same version is already published
lconwaymacOS 12.6.5 Monterey / x86_64  OK    OK    WARNINGS    OK  NO, package depends on 'recount' which is not available
kunpeng2Linux (openEuler 22.03 LTS-SP1) / aarch64  OK    OK    WARNINGS  
Package 2/3HostnameOS / ArchINSTALLBUILDCHECKBUILD BIN
RNAAgeCalc 1.13.0  (landing page)
Xu Ren
git_last_commit: 9275459
git_last_commit_date: 2023-04-25 11:16:10 -0400
nebbiolo2Linux (Ubuntu 22.04.2 LTS) / x86_64  OK    OK    OK  UNNEEDED, same version is already published
lconwaymacOS 12.6.5 Monterey / x86_64  OK    OK    OK    OK  NO, package depends on 'recount' which is not available
kunpeng2Linux (openEuler 22.03 LTS-SP1) / aarch64  OK    OK    OK  
Package 3/3HostnameOS / ArchINSTALLBUILDCHECKBUILD BIN
RnaSeqSampleSize 2.11.0  (landing page)
Shilin Zhao Developer
git_last_commit: cbaa640
git_last_commit_date: 2023-04-25 11:23:40 -0400
nebbiolo2Linux (Ubuntu 22.04.2 LTS) / x86_64  OK    OK    OK  UNNEEDED, same version is already published
lconwaymacOS 12.6.5 Monterey / x86_64  OK    OK    OK    OK  NO, package depends on 'recount' which is not available
kunpeng2Linux (openEuler 22.03 LTS-SP1) / aarch64  OK    OK    OK