Back to Multiple platform build/check report for BioC 3.14
ABCDEFGHIJKLMNOPQR[S]TUVWXYZ

This page was generated on 2021-10-18 12:03:55 -0400 (Mon, 18 Oct 2021).

BUILD results for sva on nebbiolo2

To the developers/maintainers of the sva package:
- Please allow up to 24 hours (and sometimes 48 hours) for your latest push to git@git.bioconductor.org:packages/sva.git to
reflect on this report. See How and When does the builder pull? When will my changes propagate? here for more information.
- Make sure to use the following settings in order to reproduce any error or warning you see on this page.

raw results

Package 1889/2060HostnameOS / ArchINSTALLBUILDCHECKBUILD BIN
sva 3.41.0  (landing page)
Jeffrey T. Leek , John D. Storey
Snapshot Date: 2021-10-17 14:50:03 -0400 (Sun, 17 Oct 2021)
git_url: https://git.bioconductor.org/packages/sva
git_branch: master
git_last_commit: 43373e4
git_last_commit_date: 2021-05-19 11:50:23 -0400 (Wed, 19 May 2021)
nebbiolo2Linux (Ubuntu 20.04.2 LTS) / x86_64  OK    OK    OK  UNNEEDED, same version is already published
riesling1Windows Server 2019 Standard / x64  OK    OK    OK    OK  UNNEEDED, same version is already published
merida1macOS 10.14.6 Mojave / x86_64  OK    OK    OK    NA  

Summary

Package: sva
Version: 3.41.0
Command: /home/biocbuild/bbs-3.14-bioc/R/bin/R CMD build --keep-empty-dirs --no-resave-data sva
StartedAt: 2021-10-17 18:45:45 -0400 (Sun, 17 Oct 2021)
EndedAt: 2021-10-17 18:46:35 -0400 (Sun, 17 Oct 2021)
EllapsedTime: 49.5 seconds
RetCode: 0
Status:   OK  
PackageFile: sva_3.41.0.tar.gz
PackageFileSize: 430.8 KiB

Command output

##############################################################################
##############################################################################
###
### Running command:
###
###   /home/biocbuild/bbs-3.14-bioc/R/bin/R CMD build --keep-empty-dirs --no-resave-data sva
###
##############################################################################
##############################################################################


* checking for file ‘sva/DESCRIPTION’ ... OK
* preparing ‘sva’:
* checking DESCRIPTION meta-information ... OK
* cleaning src
* installing the package to build vignettes
* creating vignettes ... OK
* cleaning src
* checking for LF line-endings in source and make files and shell scripts
* checking for empty or unneeded directories
* building ‘sva_3.41.0.tar.gz’