Back to Multiple platform build/check report for BioC 3.11
ABCD[E]FGHIJKLMNOPQRSTUVWXYZ

Multiple platform build/check report for BioC 3.11

Results for erma

This page was generated on 2020-04-06 13:16:30 -0400 (Mon, 06 Apr 2020).

Package 551/1857HostnameOS / ArchINSTALLBUILDCHECKBUILD BIN
erma 1.3.0
VJ Carey
Snapshot Date: 2020-04-05 16:45:17 -0400 (Sun, 05 Apr 2020)
URL: https://git.bioconductor.org/packages/erma
Branch: master
Last Commit: 50b27b8
Last Changed Date: 2019-10-29 13:39:32 -0400 (Tue, 29 Oct 2019)
malbec2 Linux (Ubuntu 18.04.4 LTS) / x86_64  OK  OK  OK UNNEEDED, same version exists in internal repository
tokay2 Windows Server 2012 R2 Standard / x64  OK  OK  OK  OK UNNEEDED, same version exists in internal repository