Back to Multiple platform build/check report for BioC 3.17:   simplified   long
ABCDEFGHIJKLMNOPQRS[T]UVWXYZ

This page was generated on 2023-02-04 11:04:40 -0500 (Sat, 04 Feb 2023).

HostnameOSArch (*)R versionInstalled pkgs
nebbiolo1Linux (Ubuntu 22.04.1 LTS)x86_64R Under development (unstable) (2023-01-10 r83596) -- "Unsuffered Consequences" 4483
palomino3Windows Server 2022 Datacenterx64R Under development (unstable) (2023-01-10 r83596 ucrt) -- "Unsuffered Consequences" 4249
merida1macOS 10.14.6 Mojavex86_64R Under development (unstable) (2023-01-10 r83596) -- "Unsuffered Consequences" 4272
Click on any hostname to see more info about the system (e.g. compilers)      (*) as reported by 'uname -p', except on Windows and Mac OS X

All results for package TreeSummarizedExperiment


To the developers/maintainers of the TreeSummarizedExperiment package:
- Please allow up to 24 hours (and sometimes 48 hours) for your latest push to git@git.bioconductor.org:packages/TreeSummarizedExperiment.git to
reflect on this report. See How and When does the builder pull? When will my changes propagate? for more information.
- Make sure to use the following settings in order to reproduce any error or warning you see on this page.

raw results

Package 2073/2164HostnameOS / ArchINSTALLBUILDCHECKBUILD BIN
TreeSummarizedExperiment 2.7.0  (landing page)
Ruizhu Huang
Snapshot Date: 2023-02-03 14:00:22 -0500 (Fri, 03 Feb 2023)
git_url: https://git.bioconductor.org/packages/TreeSummarizedExperiment
git_branch: master
git_last_commit: 8e80d19
git_last_commit_date: 2022-11-01 11:19:59 -0500 (Tue, 01 Nov 2022)
nebbiolo1Linux (Ubuntu 22.04.1 LTS) / x86_64  OK    OK    OK  UNNEEDED, same version is already published
palomino3Windows Server 2022 Datacenter / x64  OK    OK    OK    NA  
merida1macOS 10.14.6 Mojave / x86_64  OK    OK    OK    OK  UNNEEDED, same version is already published

Results for Bioconductor software packages that depend directly on package TreeSummarizedExperiment

QUICK STATSOS / ArchINSTALLBUILDCHECKBUILD BIN
nebbiolo1Linux (Ubuntu 22.04.1 LTS) / x86_64
008
008
0008
palomino3Windows Server 2022 Datacenter / x64
008
017
0007
103
merida1macOS 10.14.6 Mojave / x86_64
008
206
1005
006
Package 1/8HostnameOS / ArchINSTALLBUILDCHECKBUILD BIN
ANCOMBC 2.1.2  (landing page)
Huang Lin
git_last_commit: 57657ff
git_last_commit_date: 2022-12-17 17:21:12 -0500
nebbiolo1Linux (Ubuntu 22.04.1 LTS) / x86_64  OK    OK    OK  UNNEEDED, same version is already published
palomino3Windows Server 2022 Datacenter / x64  OK    OK    OK    OK  UNNEEDED, same version is already published
merida1macOS 10.14.6 Mojave / x86_64  OK    TIMEOUT  skippedskipped
Package 2/8HostnameOS / ArchINSTALLBUILDCHECKBUILD BIN
benchdamic 1.5.2  (landing page)
Matteo Calgaro
git_last_commit: 224bcad
git_last_commit_date: 2022-11-21 11:52:14 -0500
nebbiolo1Linux (Ubuntu 22.04.1 LTS) / x86_64  OK    OK    OK  UNNEEDED, same version is already published
palomino3Windows Server 2022 Datacenter / x64  OK    OK    OK    OK  UNNEEDED, same version is already published
merida1macOS 10.14.6 Mojave / x86_64  OK    TIMEOUT  skippedskipped
Package 3/8HostnameOS / ArchINSTALLBUILDCHECKBUILD BIN
CBEA 1.3.0  (landing page)
Quang Nguyen
git_last_commit: 2d94691
git_last_commit_date: 2022-11-01 11:26:38 -0500
nebbiolo1Linux (Ubuntu 22.04.1 LTS) / x86_64  OK    OK    OK  UNNEEDED, same version is already published
palomino3Windows Server 2022 Datacenter / x64  OK    OK    OK    OK  UNNEEDED, same version is already published
merida1macOS 10.14.6 Mojave / x86_64  OK    OK    OK    OK  UNNEEDED, same version is already published
Package 4/8HostnameOS / ArchINSTALLBUILDCHECKBUILD BIN
ExperimentSubset 1.9.0  (landing page)
Irzam Sarfraz
git_last_commit: a16c561
git_last_commit_date: 2022-11-01 11:23:10 -0500
nebbiolo1Linux (Ubuntu 22.04.1 LTS) / x86_64  OK    OK    OK  UNNEEDED, same version is already published
palomino3Windows Server 2022 Datacenter / x64  OK    OK    OK    TIMEOUT  
merida1macOS 10.14.6 Mojave / x86_64  OK    OK    OK    OK  UNNEEDED, same version is already published
Package 5/8HostnameOS / ArchINSTALLBUILDCHECKBUILD BIN
mia 1.7.4  (landing page)
Tuomas Borman
git_last_commit: 3fa7d09
git_last_commit_date: 2022-12-27 11:39:39 -0500
nebbiolo1Linux (Ubuntu 22.04.1 LTS) / x86_64  OK    OK    OK  UNNEEDED, same version is already published
palomino3Windows Server 2022 Datacenter / x64  OK    OK    OK    NA  
merida1macOS 10.14.6 Mojave / x86_64  OK    OK    TIMEOUT    OK  
Package 6/8HostnameOS / ArchINSTALLBUILDCHECKBUILD BIN
miaSim 1.5.0  (landing page)
Yagmur Simsek
git_last_commit: e9658a1
git_last_commit_date: 2022-11-01 11:25:56 -0500
nebbiolo1Linux (Ubuntu 22.04.1 LTS) / x86_64  OK    OK    OK  UNNEEDED, same version is already published
palomino3Windows Server 2022 Datacenter / x64  OK    OK    OK    NA  
merida1macOS 10.14.6 Mojave / x86_64  OK    OK    OK    OK  UNNEEDED, same version is already published
Package 7/8HostnameOS / ArchINSTALLBUILDCHECKBUILD BIN
miaViz 1.7.1  (landing page)
Tuomas Borman
git_last_commit: d88dfe5
git_last_commit_date: 2022-12-27 11:42:36 -0500
nebbiolo1Linux (Ubuntu 22.04.1 LTS) / x86_64  OK    OK    OK  UNNEEDED, same version is already published
palomino3Windows Server 2022 Datacenter / x64  OK    OK    OK    NA  
merida1macOS 10.14.6 Mojave / x86_64  OK    OK    OK    OK  NO, package depends on 'mia' which is not available
Package 8/8HostnameOS / ArchINSTALLBUILDCHECKBUILD BIN
microSTASIS 0.99.2  (landing page)
Pedro Sánchez-Sánchez
git_last_commit: 310d051
git_last_commit_date: 2022-10-27 05:41:23 -0500
nebbiolo1Linux (Ubuntu 22.04.1 LTS) / x86_64  OK    OK    OK  UNNEEDED, same version is already published
palomino3Windows Server 2022 Datacenter / x64  OK    ERROR  skippedskipped
merida1macOS 10.14.6 Mojave / x86_64  OK    OK    OK    OK  UNNEEDED, same version is already published