The requested URL /checkResults/devel/bioc-LATEST/nebbiolo2-NodeInfo.html was not found on this server.