Back to Multiple platform build/check report for BioC 3.19:   simplified   long
ABCDEFGHIJKLMNOP[Q]RSTUVWXYZ

This page was generated on 2024-02-18 02:25:12 -0500 (Sun, 18 Feb 2024).

HostnameOSArch (*)R versionInstalled pkgs
nebbiolo1Linux (Ubuntu 22.04.3 LTS)x86_64R Under development (unstable) (2024-01-16 r85808) -- "Unsuffered Consequences" 4657
palomino3Windows Server 2022 Datacenterx64R Under development (unstable) (2024-01-14 r85805 ucrt) -- "Unsuffered Consequences" 4397
merida1macOS 12.7.1 Montereyx86_64R Under development (unstable) (2024-01-16 r85808) -- "Unsuffered Consequences" 4424
kunpeng2Linux (openEuler 22.03 LTS-SP1)aarch64R Under development (unstable) (2024-01-16 r85812) -- "Unsuffered Consequences" 4400
Click on any hostname to see more info about the system (e.g. compilers)      (*) as reported by 'uname -p', except on Windows and Mac OS X

All results for package QuasR


To the developers/maintainers of the QuasR package:
- Allow up to 24 hours (and sometimes 48 hours) for your latest push to git@git.bioconductor.org:packages/QuasR.git to reflect on this report. See Troubleshooting Build Report for more information.
- Use the following Renviron settings to reproduce errors and warnings.
- If 'R CMD check' started to fail recently on the Linux builder(s) over a missing dependency, add the missing dependency to 'Suggests:' in your DESCRIPTION file. See Renviron.bioc for more information.

raw results

Package 1620/2244HostnameOS / ArchINSTALLBUILDCHECKBUILD BIN
QuasR 1.43.3  (landing page)
Michael Stadler
Snapshot Date: 2024-02-16 14:10:20 -0500 (Fri, 16 Feb 2024)
git_url: https://git.bioconductor.org/packages/QuasR
git_branch: devel
git_last_commit: 3346611
git_last_commit_date: 2024-01-24 10:32:48 -0500 (Wed, 24 Jan 2024)
nebbiolo1Linux (Ubuntu 22.04.3 LTS) / x86_64  OK    OK    WARNINGS  UNNEEDED, same version is already published
palomino3Windows Server 2022 Datacenter / x64  OK    OK    WARNINGS    OK  UNNEEDED, same version is already published
merida1macOS 12.7.1 Monterey / x86_64  OK    OK    WARNINGS    OK  UNNEEDED, same version is already published
kunpeng2Linux (openEuler 22.03 LTS-SP1) / aarch64  OK    OK    WARNINGS  

Results for Bioconductor software packages that depend directly on package QuasR

QUICK STATSOS / ArchINSTALLBUILDCHECKBUILD BIN
nebbiolo1Linux (Ubuntu 22.04.3 LTS) / x86_64
001
001
0001
palomino3Windows Server 2022 Datacenter / x64
001
001
0001
001
merida1macOS 12.7.1 Monterey / x86_64
001
001
0001
001
kunpeng2Linux (openEuler 22.03 LTS-SP1) / aarch64
001
001
0001
Package 1/1HostnameOS / ArchINSTALLBUILDCHECKBUILD BIN
SingleMoleculeFootprinting 1.11.0  (landing page)
Guido Barzaghi
git_last_commit: 55c648a
git_last_commit_date: 2023-10-24 11:34:06 -0500
nebbiolo1Linux (Ubuntu 22.04.3 LTS) / x86_64  OK    OK    OK  UNNEEDED, same version is already published
palomino3Windows Server 2022 Datacenter / x64  OK    OK    OK    OK  UNNEEDED, same version is already published
merida1macOS 12.7.1 Monterey / x86_64  OK    OK    OK    OK  UNNEEDED, same version is already published
kunpeng2Linux (openEuler 22.03 LTS-SP1) / aarch64  OK    OK    OK