Back to Multiple platform build/check report for BioC 3.17
ABC[D]EFGHIJKLMNOPQRSTUVWXYZ

This page was generated on 2022-11-26 11:04:10 -0500 (Sat, 26 Nov 2022).

HostnameOSArch (*)R versionInstalled pkgs
nebbiolo1Linux (Ubuntu 20.04.5 LTS)x86_64R Under development (unstable) (2022-10-25 r83175) -- "Unsuffered Consequences" 4462
palomino3Windows Server 2022 Datacenterx64R Under development (unstable) (2022-10-11 r83083 ucrt) -- "Unsuffered Consequences" 4201
merida1macOS 10.14.6 Mojavex86_64R Under development (unstable) (2022-11-13 r83342) -- "Unsuffered Consequences" 4231
Click on any hostname to see more info about the system (e.g. compilers)      (*) as reported by 'uname -p', except on Windows and Mac OS X

All results for package DNAcopy


To the developers/maintainers of the DNAcopy package:
- Please allow up to 24 hours (and sometimes 48 hours) for your latest push to git@git.bioconductor.org:packages/DNAcopy.git to
reflect on this report. See How and When does the builder pull? When will my changes propagate? for more information.
- Make sure to use the following settings in order to reproduce any error or warning you see on this page.

raw results

Package 549/2154HostnameOS / ArchINSTALLBUILDCHECKBUILD BIN
DNAcopy 1.73.0  (landing page)
Venkatraman E. Seshan
Snapshot Date: 2022-11-25 14:00:12 -0500 (Fri, 25 Nov 2022)
git_url: https://git.bioconductor.org/packages/DNAcopy
git_branch: master
git_last_commit: 0d6c719
git_last_commit_date: 2022-11-01 10:37:18 -0500 (Tue, 01 Nov 2022)
nebbiolo1Linux (Ubuntu 20.04.5 LTS) / x86_64  OK    OK    OK  UNNEEDED, same version is already published
palomino3Windows Server 2022 Datacenter / x64  OK    OK    OK    OK  UNNEEDED, same version is already published
merida1macOS 10.14.6 Mojave / x86_64  OK    OK    OK    OK  UNNEEDED, same version is already published

Results for Bioconductor software packages that depend directly on package DNAcopy

QUICK STATSOS / ArchINSTALLBUILDCHECKBUILD BIN
nebbiolo1Linux (Ubuntu 20.04.5 LTS) / x86_64
0025
0124
01914
palomino3Windows Server 2022 Datacenter / x64
0024
0123
01814
0023
merida1macOS 10.14.6 Mojave / x86_64
0025
0520
11612
0020
Package 1/25HostnameOS / ArchINSTALLBUILDCHECKBUILD BIN
ADaCGH2 2.39.0  (landing page)
Ramon Diaz-Uriarte
git_last_commit: bedb582
git_last_commit_date: 2022-11-01 11:05:24 -0500
nebbiolo1Linux (Ubuntu 20.04.5 LTS) / x86_64  OK    OK    OK  UNNEEDED, same version is already published
palomino3Windows Server 2022 Datacenter / x64  OK    OK    OK    OK  UNNEEDED, same version is already published
merida1macOS 10.14.6 Mojave / x86_64  OK    OK    OK    OK  UNNEEDED, same version is already published
Package 2/25HostnameOS / ArchINSTALLBUILDCHECKBUILD BIN
AneuFinder 1.27.0  (landing page)
Aaron Taudt
git_last_commit: 340387c
git_last_commit_date: 2022-11-01 11:13:19 -0500
nebbiolo1Linux (Ubuntu 20.04.5 LTS) / x86_64  OK    OK    WARNINGS  UNNEEDED, same version is already published
palomino3Windows Server 2022 Datacenter / x64  OK    OK    WARNINGS    OK  NO, package depends on 'GenomicRanges' which is not available
merida1macOS 10.14.6 Mojave / x86_64  OK    ERROR  skippedskipped
Package 3/25HostnameOS / ArchINSTALLBUILDCHECKBUILD BIN
CGHcall 2.61.0  (landing page)
Mark van de Wiel
git_last_commit: 775bb69
git_last_commit_date: 2022-11-01 11:03:34 -0500
nebbiolo1Linux (Ubuntu 20.04.5 LTS) / x86_64  OK    OK    WARNINGS  UNNEEDED, same version is already published
palomino3Windows Server 2022 Datacenter / x64  OK    OK    WARNINGS    OK  UNNEEDED, same version is already published
merida1macOS 10.14.6 Mojave / x86_64  OK    OK    WARNINGS    OK  UNNEEDED, same version is already published
Package 4/25HostnameOS / ArchINSTALLBUILDCHECKBUILD BIN
cghMCR 1.57.0  (landing page)
J. Zhang
git_last_commit: 93045db
git_last_commit_date: 2022-11-01 10:41:13 -0500
nebbiolo1Linux (Ubuntu 20.04.5 LTS) / x86_64  OK    OK    WARNINGS  UNNEEDED, same version is already published
palomino3Windows Server 2022 Datacenter / x64  OK    OK    WARNINGS    OK  UNNEEDED, same version is already published
merida1macOS 10.14.6 Mojave / x86_64  OK    OK    WARNINGS    OK  UNNEEDED, same version is already published
Package 5/25HostnameOS / ArchINSTALLBUILDCHECKBUILD BIN
ChAMP 2.29.0  (landing page)
Yuan Tian
git_last_commit: 1adbf9a
git_last_commit_date: 2022-11-01 11:08:56 -0500
nebbiolo1Linux (Ubuntu 20.04.5 LTS) / x86_64  OK    OK    WARNINGS  UNNEEDED, same version is already published
palomino3Windows Server 2022 Datacenter / x64  OK    OK    WARNINGS    OK  NO, package depends on 'minfi' which is not available
merida1macOS 10.14.6 Mojave / x86_64  OK    OK    WARNINGS    OK  NO, package depends on 'minfi' which is not available
Package 6/25HostnameOS / ArchINSTALLBUILDCHECKBUILD BIN
Clonality 1.47.0  (landing page)
Irina Ostrovnaya
git_last_commit: 788755f
git_last_commit_date: 2022-11-01 11:05:30 -0500
nebbiolo1Linux (Ubuntu 20.04.5 LTS) / x86_64  OK    OK    OK  UNNEEDED, same version is already published
palomino3Windows Server 2022 Datacenter / x64  OK    OK    OK    OK  UNNEEDED, same version is already published
merida1macOS 10.14.6 Mojave / x86_64  OK    OK    OK    OK  UNNEEDED, same version is already published
Package 7/25HostnameOS / ArchINSTALLBUILDCHECKBUILD BIN
cn.farms 1.47.0  (landing page)
Andreas Mitterecker
git_last_commit: dd9db3b
git_last_commit_date: 2022-11-01 11:05:44 -0500
nebbiolo1Linux (Ubuntu 20.04.5 LTS) / x86_64  OK    OK    OK  UNNEEDED, same version is already published
palomino3Windows Server 2022 Datacenter / x64  OK    OK    OK    OK  NO, package depends on 'oligoClasses' which is not available
merida1macOS 10.14.6 Mojave / x86_64  OK    OK    OK    OK  UNNEEDED, same version is already published
Package 8/25HostnameOS / ArchINSTALLBUILDCHECKBUILD BIN
CNAnorm 1.45.0  (landing page)
Stefano Berri
git_last_commit: e21ed3d
git_last_commit_date: 2022-11-01 11:06:19 -0500
nebbiolo1Linux (Ubuntu 20.04.5 LTS) / x86_64  OK    OK    OK  UNNEEDED, same version is already published
palomino3Windows Server 2022 Datacenter / x64  OK    OK    OK    OK  UNNEEDED, same version is already published
merida1macOS 10.14.6 Mojave / x86_64  OK    OK    OK    OK  UNNEEDED, same version is already published
Package 9/25HostnameOS / ArchINSTALLBUILDCHECKBUILD BIN
CNVrd2 1.37.0  (landing page)
Hoang Tan Nguyen
git_last_commit: 7d52a73
git_last_commit_date: 2022-11-01 11:08:58 -0500
nebbiolo1Linux (Ubuntu 20.04.5 LTS) / x86_64  OK    OK    OK  UNNEEDED, same version is already published
palomino3Windows Server 2022 Datacenter / x64  OK    OK    OK    OK  NO, package depends on 'VariantAnnotation' which is not available
merida1macOS 10.14.6 Mojave / x86_64  OK    OK    OK    OK  NO, package depends on 'VariantAnnotation' which is not available
Package 10/25HostnameOS / ArchINSTALLBUILDCHECKBUILD BIN
contiBAIT 1.27.0  (landing page)
Kieran O'Neill
git_last_commit: 6188b0c
git_last_commit_date: 2022-11-01 11:12:55 -0500
nebbiolo1Linux (Ubuntu 20.04.5 LTS) / x86_64  OK    OK    WARNINGS  UNNEEDED, same version is already published
palomino3Windows Server 2022 Datacenter / x64  OK    OK    WARNINGS    OK  NO, package depends on 'Rsamtools' which is not available
merida1macOS 10.14.6 Mojave / x86_64  OK    OK    WARNINGS    OK  NO, package depends on 'Rsamtools' which is not available
Package 11/25HostnameOS / ArchINSTALLBUILDCHECKBUILD BIN
conumee 1.33.0  (landing page)
Volker Hovestadt
git_last_commit: d818c3e
git_last_commit_date: 2022-11-01 11:11:32 -0500
nebbiolo1Linux (Ubuntu 20.04.5 LTS) / x86_64  OK    OK    OK  UNNEEDED, same version is already published
palomino3Windows Server 2022 Datacenter / x64... NOT SUPPORTED ...
merida1macOS 10.14.6 Mojave / x86_64  OK    OK    TIMEOUT    OK  
Package 12/25HostnameOS / ArchINSTALLBUILDCHECKBUILD BIN
CopywriteR 2.31.0  (landing page)
Oscar Krijgsman
git_last_commit: c911960
git_last_commit_date: 2022-11-01 11:11:29 -0500
nebbiolo1Linux (Ubuntu 20.04.5 LTS) / x86_64  OK    ERROR  skipped
palomino3Windows Server 2022 Datacenter / x64  OK    ERROR  skippedskipped
merida1macOS 10.14.6 Mojave / x86_64  OK    ERROR  skippedskipped
Package 13/25HostnameOS / ArchINSTALLBUILDCHECKBUILD BIN
CRImage 1.47.0  (landing page)
Henrik Failmezger , Yinyin Yuan
git_last_commit: 447a17a
git_last_commit_date: 2022-11-01 11:05:21 -0500
nebbiolo1Linux (Ubuntu 20.04.5 LTS) / x86_64  OK    OK    OK  UNNEEDED, same version is already published
palomino3Windows Server 2022 Datacenter / x64  OK    OK    OK    OK  UNNEEDED, same version is already published
merida1macOS 10.14.6 Mojave / x86_64  OK    OK    OK    OK  UNNEEDED, same version is already published
Package 14/25HostnameOS / ArchINSTALLBUILDCHECKBUILD BIN
GWASTools 1.45.0  (landing page)
Stephanie M. Gogarten
git_last_commit: 0127e8c
git_last_commit_date: 2022-11-01 11:06:22 -0500
nebbiolo1Linux (Ubuntu 20.04.5 LTS) / x86_64  OK    OK    WARNINGS  UNNEEDED, same version is already published
palomino3Windows Server 2022 Datacenter / x64  OK    OK    WARNINGS    OK  UNNEEDED, same version is already published
merida1macOS 10.14.6 Mojave / x86_64  OK    OK    WARNINGS    OK  UNNEEDED, same version is already published
Package 15/25HostnameOS / ArchINSTALLBUILDCHECKBUILD BIN
maftools 2.15.0  (landing page)
Anand Mayakonda
git_last_commit: 17cb6c7
git_last_commit_date: 2022-11-01 11:14:05 -0500
nebbiolo1Linux (Ubuntu 20.04.5 LTS) / x86_64  OK    OK    WARNINGS  UNNEEDED, same version is already published
palomino3Windows Server 2022 Datacenter / x64  OK    OK    OK    OK  UNNEEDED, same version is already published
merida1macOS 10.14.6 Mojave / x86_64  OK    OK    OK    OK  UNNEEDED, same version is already published
Package 16/25HostnameOS / ArchINSTALLBUILDCHECKBUILD BIN
MDTS 1.19.0  (landing page)
Jack M.. Fu
git_last_commit: eb9d47c
git_last_commit_date: 2022-11-01 11:17:17 -0500
nebbiolo1Linux (Ubuntu 20.04.5 LTS) / x86_64  OK    OK    OK  UNNEEDED, same version is already published
palomino3Windows Server 2022 Datacenter / x64  OK    OK    OK    OK  NO, package depends on 'GenomicAlignments' which is not available
merida1macOS 10.14.6 Mojave / x86_64  OK    OK    OK    OK  NO, package depends on 'GenomicAlignments' which is not available
Package 17/25HostnameOS / ArchINSTALLBUILDCHECKBUILD BIN
MEDIPS 1.51.0  (landing page)
Lukas Chavez
git_last_commit: b841cb0
git_last_commit_date: 2022-11-01 11:05:24 -0500
nebbiolo1Linux (Ubuntu 20.04.5 LTS) / x86_64  OK    OK    OK  UNNEEDED, same version is already published
palomino3Windows Server 2022 Datacenter / x64  OK    OK    OK    OK  NO, package depends on 'BSgenome' which is not available
merida1macOS 10.14.6 Mojave / x86_64  OK    OK    OK    OK  NO, package depends on 'BSgenome' which is not available
Package 18/25HostnameOS / ArchINSTALLBUILDCHECKBUILD BIN
MethCP 1.13.0  (landing page)
Boying Gong
git_last_commit: dfe560d
git_last_commit_date: 2022-11-01 11:20:49 -0500
nebbiolo1Linux (Ubuntu 20.04.5 LTS) / x86_64  OK    OK    ERROR  
palomino3Windows Server 2022 Datacenter / x64  OK    OK    ERROR    OK  
merida1macOS 10.14.6 Mojave / x86_64  OK    OK    ERROR    OK  
Package 19/25HostnameOS / ArchINSTALLBUILDCHECKBUILD BIN
MinimumDistance 1.43.0  (landing page)
Robert Scharpf
git_last_commit: d0215e7
git_last_commit_date: 2022-11-01 11:06:56 -0500
nebbiolo1Linux (Ubuntu 20.04.5 LTS) / x86_64  OK    OK    WARNINGS  UNNEEDED, same version is already published
palomino3Windows Server 2022 Datacenter / x64  OK    OK    WARNINGS    OK  NO, package depends on 'VanillaICE' which is not available
merida1macOS 10.14.6 Mojave / x86_64  OK    ERROR  skippedskipped
Package 20/25HostnameOS / ArchINSTALLBUILDCHECKBUILD BIN
PureCN 2.5.0  (landing page)
Markus Riester
git_last_commit: 7d7d59b
git_last_commit_date: 2022-11-01 11:13:36 -0500
nebbiolo1Linux (Ubuntu 20.04.5 LTS) / x86_64  OK    OK    OK  UNNEEDED, same version is already published
palomino3Windows Server 2022 Datacenter / x64  OK    OK    OK    OK  NO, package depends on 'VariantAnnotation' which is not available
merida1macOS 10.14.6 Mojave / x86_64  OK    ERROR  skippedskipped
Package 21/25HostnameOS / ArchINSTALLBUILDCHECKBUILD BIN
QDNAseq 1.35.0  (landing page)
Daoud Sie
git_last_commit: 743de98
git_last_commit_date: 2022-11-01 11:09:22 -0500
nebbiolo1Linux (Ubuntu 20.04.5 LTS) / x86_64  OK    OK    OK  UNNEEDED, same version is already published
palomino3Windows Server 2022 Datacenter / x64  OK    OK    OK    OK  NO, package depends on 'GenomicRanges' which is not available
merida1macOS 10.14.6 Mojave / x86_64  OK    ERROR  skippedskipped
Package 22/25HostnameOS / ArchINSTALLBUILDCHECKBUILD BIN
rCGH 1.29.0  (landing page)
Frederic Commo
git_last_commit: f152ae6
git_last_commit_date: 2022-11-01 11:11:54 -0500
nebbiolo1Linux (Ubuntu 20.04.5 LTS) / x86_64  OK    OK    OK  UNNEEDED, same version is already published
palomino3Windows Server 2022 Datacenter / x64  OK    OK    OK    OK  NO, package depends on 'GenomicFeatures' which is not available
merida1macOS 10.14.6 Mojave / x86_64  OK    OK    OK    OK  NO, package depends on 'GenomicFeatures' which is not available
Package 23/25HostnameOS / ArchINSTALLBUILDCHECKBUILD BIN
Repitools 1.45.0  (landing page)
Mark Robinson
git_last_commit: 0b1a124
git_last_commit_date: 2022-11-01 11:06:01 -0500
nebbiolo1Linux (Ubuntu 20.04.5 LTS) / x86_64  OK    OK    WARNINGS  UNNEEDED, same version is already published
palomino3Windows Server 2022 Datacenter / x64  OK    OK    WARNINGS    OK  NO, package depends on 'GenomicRanges' which is not available
merida1macOS 10.14.6 Mojave / x86_64  OK    OK    WARNINGS    OK  NO, package depends on 'Rsamtools' which is not available
Package 24/25HostnameOS / ArchINSTALLBUILDCHECKBUILD BIN
SCOPE 1.11.0  (landing page)
Rujin Wang
git_last_commit: 7296da2
git_last_commit_date: 2022-11-01 11:21:21 -0500
nebbiolo1Linux (Ubuntu 20.04.5 LTS) / x86_64  OK    OK    OK  UNNEEDED, same version is already published
palomino3Windows Server 2022 Datacenter / x64  OK    OK    OK    OK  NO, package depends on 'GenomicRanges' which is not available
merida1macOS 10.14.6 Mojave / x86_64  OK    OK    OK    OK  NO, package depends on 'Rsamtools' which is not available
Package 25/25HostnameOS / ArchINSTALLBUILDCHECKBUILD BIN
snapCGH 1.69.0  (landing page)
John Marioni
git_last_commit: 29ab2bc
git_last_commit_date: 2022-11-01 10:40:32 -0500
nebbiolo1Linux (Ubuntu 20.04.5 LTS) / x86_64  OK    OK    OK  UNNEEDED, same version is already published
palomino3Windows Server 2022 Datacenter / x64  OK    OK    OK    OK  UNNEEDED, same version is already published
merida1macOS 10.14.6 Mojave / x86_64  OK    OK    OK    OK  UNNEEDED, same version is already published