Back to Build/check report for BioC 3.15
ABCDEFGHIJKLMNOPQ[R]STUVWXYZ

This page was generated on 2021-10-27 12:44:05 -0400 (Wed, 27 Oct 2021).

All results for package ResidualMatrix

To the developers/maintainers of the ResidualMatrix package:
- Please allow up to 24 hours (and sometimes 48 hours) for your latest push to git@git.bioconductor.org:packages/ResidualMatrix.git to
reflect on this report. See How and When does the builder pull? When will my changes propagate? here for more information.
- Make sure to use the following settings in order to reproduce any error or warning you see on this page.

raw results

Package 1564/2060HostnameOS / ArchINSTALLBUILDCHECKBUILD BIN
ResidualMatrix 1.5.0  (landing page)
Aaron Lun
Snapshot Date: 2021-10-26 14:50:02 -0400 (Tue, 26 Oct 2021)
git_url: https://git.bioconductor.org/packages/ResidualMatrix
git_branch: master
git_last_commit: 1cdc88f
git_last_commit_date: 2021-10-26 13:02:35 -0400 (Tue, 26 Oct 2021)
nebbiolo1Linux (Ubuntu 20.04.2 LTS) / x86_64  OK    OK    OK  YES

Results for Bioconductor software packages that depend directly on package ResidualMatrix

QUICK STATSOS / ArchINSTALLBUILDCHECKBUILD BIN
nebbiolo1Linux (Ubuntu 20.04.2 LTS) / x86_64
001
001
0001
Package 1/1HostnameOS / ArchINSTALLBUILDCHECKBUILD BIN
batchelor 1.11.0  (landing page)
Aaron Lun
git_last_commit: be310ee
git_last_commit_date: 2021-10-26 12:50:33 -0400
nebbiolo1Linux (Ubuntu 20.04.2 LTS) / x86_64  OK    OK    OK  NO, package depends on 'SingleCellExperiment' which is not available