Back to Multiple platform build/check report for BioC 3.17
ABCDEF[G]HIJKLMNOPQRSTUVWXYZ

This page was generated on 2022-12-02 11:04:48 -0500 (Fri, 02 Dec 2022).

HostnameOSArch (*)R versionInstalled pkgs
nebbiolo1Linux (Ubuntu 22.04.1 LTS)x86_64R Under development (unstable) (2022-11-30 r83393) -- "Unsuffered Consequences" 4210
palomino3Windows Server 2022 Datacenterx64R Under development (unstable) (2022-11-30 r83393 ucrt) -- "Unsuffered Consequences" 4122
merida1macOS 10.14.6 Mojavex86_64R Under development (unstable) (2022-11-30 r83393) -- "Unsuffered Consequences" 4188
Click on any hostname to see more info about the system (e.g. compilers)      (*) as reported by 'uname -p', except on Windows and Mac OS X

All results for package gespeR


To the developers/maintainers of the gespeR package:
- Please allow up to 24 hours (and sometimes 48 hours) for your latest push to git@git.bioconductor.org:packages/gespeR.git to
reflect on this report. See How and When does the builder pull? When will my changes propagate? for more information.
- Make sure to use the following settings in order to reproduce any error or warning you see on this page.

raw results

Package 793/2155HostnameOS / ArchINSTALLBUILDCHECKBUILD BIN
gespeR 1.31.0  (landing page)
Fabian Schmich
Snapshot Date: 2022-12-01 14:00:17 -0500 (Thu, 01 Dec 2022)
git_url: https://git.bioconductor.org/packages/gespeR
git_branch: master
git_last_commit: c1df552
git_last_commit_date: 2022-11-01 11:10:56 -0500 (Tue, 01 Nov 2022)
nebbiolo1Linux (Ubuntu 22.04.1 LTS) / x86_64  OK    ERROR  skipped
palomino3Windows Server 2022 Datacenter / x64  OK    ERROR  skippedskipped
merida1macOS 10.14.6 Mojave / x86_64  OK    ERROR  skippedskipped