Back to Multiple platform build/check report for BioC 3.14
ABC[D]EFGHIJKLMNOPQRSTUVWXYZ

This page was generated on 2021-10-23 14:05:57 -0400 (Sat, 23 Oct 2021).

INSTALL results for DaMiRseq on nebbiolo2

To the developers/maintainers of the DaMiRseq package:
- Please allow up to 24 hours (and sometimes 48 hours) for your latest push to git@git.bioconductor.org:packages/DaMiRseq.git to
reflect on this report. See How and When does the builder pull? When will my changes propagate? here for more information.
- Make sure to use the following settings in order to reproduce any error or warning you see on this page.

raw results

Package 449/2083HostnameOS / ArchINSTALLBUILDCHECKBUILD BIN
DaMiRseq 2.5.4  (landing page)
Mattia Chiesa
Snapshot Date: 2021-10-22 14:50:11 -0400 (Fri, 22 Oct 2021)
git_url: https://git.bioconductor.org/packages/DaMiRseq
git_branch: master
git_last_commit: 318c280
git_last_commit_date: 2021-08-19 09:06:35 -0400 (Thu, 19 Aug 2021)
nebbiolo2Linux (Ubuntu 20.04.2 LTS) / x86_64  OK    OK    WARNINGS  UNNEEDED, same version is already published
riesling1Windows Server 2019 Standard / x64  OK    OK    WARNINGS    OK  UNNEEDED, same version is already published
merida1macOS 10.14.6 Mojave / x86_64  OK    OK    WARNINGS    OK  UNNEEDED, same version is already published

Summary

Package: DaMiRseq
Version: 2.5.4
Command: /home/biocbuild/bbs-3.14-bioc/R/bin/R CMD INSTALL DaMiRseq
StartedAt: 2021-10-22 16:24:24 -0400 (Fri, 22 Oct 2021)
EndedAt: 2021-10-22 16:25:18 -0400 (Fri, 22 Oct 2021)
EllapsedTime: 54.1 seconds
RetCode: 0
Status:   OK  

Command output

##############################################################################
##############################################################################
###
### Running command:
###
###   /home/biocbuild/bbs-3.14-bioc/R/bin/R CMD INSTALL DaMiRseq
###
##############################################################################
##############################################################################


* installing to library ‘/home/biocbuild/bbs-3.14-bioc/R/library’
* installing *source* package ‘DaMiRseq’ ...
** using staged installation
** R
** data
*** moving datasets to lazyload DB
** inst
** byte-compile and prepare package for lazy loading
** help
*** installing help indices
** building package indices
** installing vignettes
** testing if installed package can be loaded from temporary location
** testing if installed package can be loaded from final location
** testing if installed package keeps a record of temporary installation path
* DONE (DaMiRseq)