Back to Multiple platform build/check report for BioC 3.12
ABCDE[F]GHIJKLMNOPQRSTUVWXYZ

Multiple platform build/check report for BioC 3.12

Results for flowTime

This page was generated on 2020-10-25 12:00:38 -0400 (Sun, 25 Oct 2020).

Package 635/1974HostnameOS / ArchINSTALLBUILDCHECKBUILD BIN
flowTime 1.13.12
R. Clay Wright
Snapshot Date: 2020-10-24 14:40:19 -0400 (Sat, 24 Oct 2020)
URL: https://git.bioconductor.org/packages/flowTime
Branch: master
Last Commit: ebaf69f
Last Changed Date: 2020-10-13 22:55:20 -0400 (Tue, 13 Oct 2020)
malbec1 Linux (Ubuntu 18.04.4 LTS) / x86_64  OK  OK  OK UNNEEDED, same version exists in internal repository
nebbiolo1 Linux (Ubuntu 20.04.1 LTS) / x86_64  OK  OK  OK 
tokay1 Windows Server 2012 R2 Standard / x64  OK  OK  OK  OK UNNEEDED, same version exists in internal repository
riesling1 Windows Server 2019 Standard / x64  OK  OK  OK  OK 
merida1 macOS 10.14.6 Mojave / x86_64  OK  OK  OK  OK UNNEEDED, same version exists in internal repository