Back to Build/check report for BioC 3.17:   simplified   long
ABCDEF[G]HIJKLMNOPQRSTUVWXYZ

This page was generated on 2023-03-30 12:33:34 -0400 (Thu, 30 Mar 2023).

HostnameOSArch (*)R versionInstalled pkgs
nebbiolo1Linux (Ubuntu 22.04.1 LTS)x86_64R Under development (unstable) (2023-03-16 r83996) -- "Unsuffered Consequences" 4547
Click on any hostname to see more info about the system (e.g. compilers)      (*) as reported by 'uname -p', except on Windows and Mac OS X

All results for package GenomicRanges


To the developers/maintainers of the GenomicRanges package:
- Allow up to 24 hours (and sometimes 48 hours) for your latest push to git@git.bioconductor.org:packages/GenomicRanges.git to reflect on this report. See Troubleshooting Build Report for more information.

- Use the following Renviron settings to reproduce errors and warnings.

Note: If "R CMD check" recently failed on the Linux builder over a missing dependency, add the missing dependency to "Suggests" in your DESCRIPTION file. See the Renviron.bioc for details.

raw results

Package 798/2195HostnameOS / ArchINSTALLBUILDCHECKBUILD BIN
GenomicRanges 1.51.4  (landing page)
Hervé Pagès
Snapshot Date: 2023-03-29 14:00:20 -0400 (Wed, 29 Mar 2023)
git_url: https://git.bioconductor.org/packages/GenomicRanges
git_branch: devel
git_last_commit: f1a44dc
git_last_commit_date: 2022-12-15 13:51:02 -0400 (Thu, 15 Dec 2022)
nebbiolo1Linux (Ubuntu 22.04.1 LTS) / x86_64  OK    OK    WARNINGS  UNNEEDED, same version is already published

Results for Bioconductor software packages that depend directly on package GenomicRanges

QUICK STATSOS / ArchINSTALLBUILDCHECKBUILD BIN
nebbiolo1Linux (Ubuntu 22.04.1 LTS) / x86_64
011523
031503
360116324
Package 1/534HostnameOS / ArchINSTALLBUILDCHECKBUILD BIN
ACE 1.17.0  (landing page)
Jos B Poell
git_last_commit: b290d38
git_last_commit_date: 2022-11-01 11:18:08 -0400
nebbiolo1Linux (Ubuntu 22.04.1 LTS) / x86_64  OK    OK    OK  UNNEEDED, same version is already published
Package 2/534HostnameOS / ArchINSTALLBUILDCHECKBUILD BIN
alabaster.ranges 0.99.2  (landing page)
Aaron Lun
git_last_commit: 7ea70ba
git_last_commit_date: 2023-02-28 14:10:53 -0400
nebbiolo1Linux (Ubuntu 22.04.1 LTS) / x86_64  OK    OK    OK  UNNEEDED, same version is already published
Package 3/534HostnameOS / ArchINSTALLBUILDCHECKBUILD BIN
alabaster.se 0.99.1  (landing page)
Aaron Lun
git_last_commit: fc95188
git_last_commit_date: 2023-02-21 00:36:36 -0400
nebbiolo1Linux (Ubuntu 22.04.1 LTS) / x86_64  OK    OK    OK  UNNEEDED, same version is already published
Package 4/534HostnameOS / ArchINSTALLBUILDCHECKBUILD BIN
ALDEx2 1.31.0  (landing page)
Greg Gloor
git_last_commit: eba0542
git_last_commit_date: 2022-11-01 11:10:23 -0400
nebbiolo1Linux (Ubuntu 22.04.1 LTS) / x86_64  OK    OK    WARNINGS  UNNEEDED, same version is already published
Package 5/534HostnameOS / ArchINSTALLBUILDCHECKBUILD BIN
AllelicImbalance 1.37.0  (landing page)
Jesper R Gadin
git_last_commit: 330d8ed
git_last_commit_date: 2022-11-01 11:08:46 -0400
nebbiolo1Linux (Ubuntu 22.04.1 LTS) / x86_64  OK    OK    OK  UNNEEDED, same version is already published
Package 6/534HostnameOS / ArchINSTALLBUILDCHECKBUILD BIN
alpine 1.25.0  (landing page)
Michael Love
git_last_commit: 609ae1e
git_last_commit_date: 2022-11-01 11:14:18 -0400
nebbiolo1Linux (Ubuntu 22.04.1 LTS) / x86_64  OK    OK    OK  UNNEEDED, same version is already published
Package 7/534HostnameOS / ArchINSTALLBUILDCHECKBUILD BIN
amplican 1.21.0  (landing page)
Eivind Valen
git_last_commit: 5b04ab5
git_last_commit_date: 2022-11-01 11:16:19 -0400
nebbiolo1Linux (Ubuntu 22.04.1 LTS) / x86_64  ERROR    ERROR  skipped
Package 8/534HostnameOS / ArchINSTALLBUILDCHECKBUILD BIN
AneuFinder 1.27.1  (landing page)
Aaron Taudt
git_last_commit: 02f3522
git_last_commit_date: 2023-03-26 08:18:29 -0400
nebbiolo1Linux (Ubuntu 22.04.1 LTS) / x86_64  OK    OK    WARNINGS  UNNEEDED, same version is already published
Package 9/534HostnameOS / ArchINSTALLBUILDCHECKBUILD BIN
annmap 1.41.0  (landing page)
Chris Wirth
git_last_commit: 5d59609
git_last_commit_date: 2022-11-01 11:07:03 -0400
nebbiolo1Linux (Ubuntu 22.04.1 LTS) / x86_64  OK    OK    WARNINGS  UNNEEDED, same version is already published
Package 10/534HostnameOS / ArchINSTALLBUILDCHECKBUILD BIN
AnnotationFilter 1.23.0  (landing page)
Bioconductor Package Maintainer
git_last_commit: a054ce0
git_last_commit_date: 2022-11-01 11:15:27 -0400
nebbiolo1Linux (Ubuntu 22.04.1 LTS) / x86_64  OK    OK    OK  UNNEEDED, same version is already published
Package 11/534HostnameOS / ArchINSTALLBUILDCHECKBUILD BIN
AnnotationHubData 1.29.1  (landing page)
Bioconductor Package Maintainer
git_last_commit: 3214594
git_last_commit_date: 2022-12-13 10:09:22 -0400
nebbiolo1Linux (Ubuntu 22.04.1 LTS) / x86_64  OK    OK    WARNINGS  UNNEEDED, same version is already published
Package 12/534HostnameOS / ArchINSTALLBUILDCHECKBUILD BIN
annotatr 1.25.0  (landing page)
Raymond G. Cavalcante
git_last_commit: b9eb281
git_last_commit_date: 2022-11-01 11:14:43 -0400
nebbiolo1Linux (Ubuntu 22.04.1 LTS) / x86_64  OK    OK    OK  UNNEEDED, same version is already published
Package 13/534HostnameOS / ArchINSTALLBUILDCHECKBUILD BIN
APAlyzer 1.13.0  (landing page)
Ruijia Wang
git_last_commit: 7ca6719
git_last_commit_date: 2022-11-01 11:20:19 -0400
nebbiolo1Linux (Ubuntu 22.04.1 LTS) / x86_64  OK    OK    WARNINGS  UNNEEDED, same version is already published
Package 14/534HostnameOS / ArchINSTALLBUILDCHECKBUILD BIN
apeglm 1.21.0  (landing page)
Anqi Zhu
git_last_commit: 015b724
git_last_commit_date: 2022-11-01 11:16:16 -0400
nebbiolo1Linux (Ubuntu 22.04.1 LTS) / x86_64  OK    OK    OK  UNNEEDED, same version is already published
Package 15/534HostnameOS / ArchINSTALLBUILDCHECKBUILD BIN
appreci8R 1.17.0  (landing page)
Sarah Sandmann
git_last_commit: dd2c123
git_last_commit_date: 2022-11-01 11:18:06 -0400
nebbiolo1Linux (Ubuntu 22.04.1 LTS) / x86_64  OK    OK    OK  UNNEEDED, same version is already published
Package 16/534HostnameOS / ArchINSTALLBUILDCHECKBUILD BIN
ArrayExpressHTS 1.49.1  (landing page)
Angela Goncalves , Andrew Tikhonov
git_last_commit: c9590d2
git_last_commit_date: 2022-12-01 14:06:42 -0400
nebbiolo1Linux (Ubuntu 22.04.1 LTS) / x86_64  ERROR    ERROR  skipped
Package 17/534HostnameOS / ArchINSTALLBUILDCHECKBUILD BIN
ASpediaFI 1.13.1  (landing page)
Doyeong Yu
git_last_commit: 1168c9e
git_last_commit_date: 2023-01-20 10:45:20 -0400
nebbiolo1Linux (Ubuntu 22.04.1 LTS) / x86_64  ERROR    ERROR  skipped
Package 18/534HostnameOS / ArchINSTALLBUILDCHECKBUILD BIN
ASpli 2.9.0  (landing page)
Estefania Mancini
git_last_commit: 22dbaf4
git_last_commit_date: 2022-11-01 11:14:10 -0400
nebbiolo1Linux (Ubuntu 22.04.1 LTS) / x86_64  OK    OK    ERROR  
Package 19/534HostnameOS / ArchINSTALLBUILDCHECKBUILD BIN
AssessORF 1.17.0  (landing page)
Deepank Korandla
git_last_commit: 6041a54
git_last_commit_date: 2022-11-01 11:18:47 -0400
nebbiolo1Linux (Ubuntu 22.04.1 LTS) / x86_64  OK    OK    OK  UNNEEDED, same version is already published
Package 20/534HostnameOS / ArchINSTALLBUILDCHECKBUILD BIN
ATACCoGAPS 1.1.0  (landing page)
Rossin Erbe
git_last_commit: 234877c
git_last_commit_date: 2022-11-01 11:27:16 -0400
nebbiolo1Linux (Ubuntu 22.04.1 LTS) / x86_64  OK    OK    OK  UNNEEDED, same version is already published
Package 21/534HostnameOS / ArchINSTALLBUILDCHECKBUILD BIN
ATACseqQC 1.23.1  (landing page)
Jianhong Ou
git_last_commit: a3d6d8b
git_last_commit_date: 2023-01-30 16:00:52 -0400
nebbiolo1Linux (Ubuntu 22.04.1 LTS) / x86_64  OK    OK    OK  UNNEEDED, same version is already published
Package 22/534HostnameOS / ArchINSTALLBUILDCHECKBUILD BIN
ATACseqTFEA 1.1.1  (landing page)
Jianhong Ou
git_last_commit: 203524e
git_last_commit_date: 2022-11-04 14:13:13 -0400
nebbiolo1Linux (Ubuntu 22.04.1 LTS) / x86_64  OK    OK    OK  UNNEEDED, same version is already published
Package 23/534HostnameOS / ArchINSTALLBUILDCHECKBUILD BIN
atena 1.5.11  (landing page)
Beatriz Calvo-Serra
git_last_commit: f24df02
git_last_commit_date: 2023-03-28 16:27:00 -0400
nebbiolo1Linux (Ubuntu 22.04.1 LTS) / x86_64  OK    OK    OK  UNNEEDED, same version is already published
Package 24/534HostnameOS / ArchINSTALLBUILDCHECKBUILD BIN
BaalChIP 1.25.0  (landing page)
Ines de Santiago
git_last_commit: 82bbb76
git_last_commit_date: 2022-11-01 11:14:26 -0400
nebbiolo1Linux (Ubuntu 22.04.1 LTS) / x86_64  OK    OK    WARNINGS  UNNEEDED, same version is already published
Package 25/534HostnameOS / ArchINSTALLBUILDCHECKBUILD BIN
BadRegionFinder 1.27.0  (landing page)
Sarah Sandmann
git_last_commit: 1b861d0
git_last_commit_date: 2022-11-01 11:13:25 -0400
nebbiolo1Linux (Ubuntu 22.04.1 LTS) / x86_64  OK    OK    OK  UNNEEDED, same version is already published
Package 26/534HostnameOS / ArchINSTALLBUILDCHECKBUILD BIN
ballgown 2.31.0  (landing page)
Jack Fu
git_last_commit: db11666
git_last_commit_date: 2022-11-01 11:10:01 -0400
nebbiolo1Linux (Ubuntu 22.04.1 LTS) / x86_64  OK    OK    OK  UNNEEDED, same version is already published
Package 27/534HostnameOS / ArchINSTALLBUILDCHECKBUILD BIN
bambu 3.1.6  (landing page)
Ying Chen
git_last_commit: 5c758f5
git_last_commit_date: 2023-02-14 20:54:38 -0400
nebbiolo1Linux (Ubuntu 22.04.1 LTS) / x86_64  OK    OK    OK  UNNEEDED, same version is already published
Package 28/534HostnameOS / ArchINSTALLBUILDCHECKBUILD BIN
bamsignals 1.31.0  (landing page)
Johannes Helmuth
git_last_commit: 8f750f0
git_last_commit_date: 2022-11-01 11:11:17 -0400
nebbiolo1Linux (Ubuntu 22.04.1 LTS) / x86_64  OK    OK    WARNINGS  UNNEEDED, same version is already published
Package 29/534HostnameOS / ArchINSTALLBUILDCHECKBUILD BIN
Basic4Cseq 1.35.0  (landing page)
Carolin Walter
git_last_commit: 726420a
git_last_commit_date: 2022-11-01 11:09:18 -0400
nebbiolo1Linux (Ubuntu 22.04.1 LTS) / x86_64  OK    OK    OK  UNNEEDED, same version is already published
Package 30/534HostnameOS / ArchINSTALLBUILDCHECKBUILD BIN
BasicSTARRseq 1.27.0  (landing page)
Annika Buerger
git_last_commit: f75cc57
git_last_commit_date: 2022-11-01 11:12:51 -0400
nebbiolo1Linux (Ubuntu 22.04.1 LTS) / x86_64  OK    OK    OK  UNNEEDED, same version is already published
Package 31/534HostnameOS / ArchINSTALLBUILDCHECKBUILD BIN
baySeq 2.33.0  (landing page)
Thomas J. Hardcastle
git_last_commit: fd24c8e
git_last_commit_date: 2022-11-01 11:04:42 -0400
nebbiolo1Linux (Ubuntu 22.04.1 LTS) / x86_64  OK    ERROR  skipped
Package 32/534HostnameOS / ArchINSTALLBUILDCHECKBUILD BIN
BBCAnalyzer 1.29.0  (landing page)
Sarah Sandmann
git_last_commit: 84a40f4
git_last_commit_date: 2022-11-01 11:12:03 -0400
nebbiolo1Linux (Ubuntu 22.04.1 LTS) / x86_64  OK    OK    OK  UNNEEDED, same version is already published
Package 33/534HostnameOS / ArchINSTALLBUILDCHECKBUILD BIN
beadarray 2.49.0  (landing page)
Mark Dunning
git_last_commit: bdc74cc
git_last_commit_date: 2022-11-01 10:40:39 -0400
nebbiolo1Linux (Ubuntu 22.04.1 LTS) / x86_64  OK    OK    OK  UNNEEDED, same version is already published
Package 34/534HostnameOS / ArchINSTALLBUILDCHECKBUILD BIN
BEAT 1.37.0  (landing page)
Kemal Akman
git_last_commit: d077bd7
git_last_commit_date: 2022-11-01 11:09:07 -0400
nebbiolo1Linux (Ubuntu 22.04.1 LTS) / x86_64  OK    OK    OK  UNNEEDED, same version is already published
Package 35/534HostnameOS / ArchINSTALLBUILDCHECKBUILD BIN
BiFET 1.19.0  (landing page)
Ahrim Youn
git_last_commit: 9d1948a
git_last_commit_date: 2022-11-01 11:16:59 -0400
nebbiolo1Linux (Ubuntu 22.04.1 LTS) / x86_64  OK    OK    OK  UNNEEDED, same version is already published
Package 36/534HostnameOS / ArchINSTALLBUILDCHECKBUILD BIN
BindingSiteFinder 1.5.0  (landing page)
Mirko Brüggemann
git_last_commit: 892dc6b
git_last_commit_date: 2022-11-01 11:25:21 -0400
nebbiolo1Linux (Ubuntu 22.04.1 LTS) / x86_64  OK    OK    OK  UNNEEDED, same version is already published
Package 37/534HostnameOS / ArchINSTALLBUILDCHECKBUILD BIN
BiocOncoTK 1.19.3  (landing page)
VJ Carey
git_last_commit: 710b811
git_last_commit_date: 2023-03-18 05:54:03 -0400
nebbiolo1Linux (Ubuntu 22.04.1 LTS) / x86_64  OK    OK    WARNINGS  UNNEEDED, same version is already published
Package 38/534HostnameOS / ArchINSTALLBUILDCHECKBUILD BIN
biomvRCNS 1.39.0  (landing page)
Yang Du
git_last_commit: 7e36203
git_last_commit_date: 2022-11-01 11:07:53 -0400
nebbiolo1Linux (Ubuntu 22.04.1 LTS) / x86_64  ERROR    ERROR  skipped
Package 39/534HostnameOS / ArchINSTALLBUILDCHECKBUILD BIN
BioTIP 1.13.0  (landing page)
Yuxi (Jennifer) Sun , Zhezhen Wang , and X Holly Yang
git_last_commit: e763a88
git_last_commit_date: 2022-11-01 11:20:36 -0400
nebbiolo1Linux (Ubuntu 22.04.1 LTS) / x86_64  OK    OK    ERROR  
Package 40/534HostnameOS / ArchINSTALLBUILDCHECKBUILD BIN
biovizBase 1.47.0  (landing page)
Michael Lawrence
git_last_commit: 73f68c1
git_last_commit_date: 2022-11-01 11:06:19 -0400
nebbiolo1Linux (Ubuntu 22.04.1 LTS) / x86_64  OK    OK    WARNINGS  UNNEEDED, same version is already published
Package 41/534HostnameOS / ArchINSTALLBUILDCHECKBUILD BIN
biscuiteer 1.13.1  (landing page)
Jacob Morrison
git_last_commit: 2d14d1d
git_last_commit_date: 2023-02-21 14:41:27 -0400
nebbiolo1Linux (Ubuntu 22.04.1 LTS) / x86_64  OK    OK    WARNINGS  UNNEEDED, same version is already published
Package 42/534HostnameOS / ArchINSTALLBUILDCHECKBUILD BIN
BiSeq 1.39.0  (landing page)
Katja Hebestreit
git_last_commit: a5c3cc0
git_last_commit_date: 2022-11-01 11:08:12 -0400
nebbiolo1Linux (Ubuntu 22.04.1 LTS) / x86_64  OK    OK    OK  UNNEEDED, same version is already published
Package 43/534HostnameOS / ArchINSTALLBUILDCHECKBUILD BIN
bnbc 1.21.0  (landing page)
Kipper Fletez-Brant
git_last_commit: 6fcaac4
git_last_commit_date: 2022-11-01 11:16:33 -0400
nebbiolo1Linux (Ubuntu 22.04.1 LTS) / x86_64  OK    OK    WARNINGS  UNNEEDED, same version is already published
Package 44/534HostnameOS / ArchINSTALLBUILDCHECKBUILD BIN
BOBaFIT 1.3.0  (landing page)
Gaia Mazzocchetti
git_last_commit: ca2ca20
git_last_commit_date: 2022-11-01 11:26:16 -0400
nebbiolo1Linux (Ubuntu 22.04.1 LTS) / x86_64  OK    OK    WARNINGS  UNNEEDED, same version is already published
Package 45/534HostnameOS / ArchINSTALLBUILDCHECKBUILD BIN
borealis 1.3.2  (landing page)
Garrett Jenkinson
git_last_commit: 1209b38
git_last_commit_date: 2022-12-30 13:23:19 -0400
nebbiolo1Linux (Ubuntu 22.04.1 LTS) / x86_64  OK    OK    OK  UNNEEDED, same version is already published
Package 46/534HostnameOS / ArchINSTALLBUILDCHECKBUILD BIN
BPRMeth 1.25.0  (landing page)
Chantriolnt-Andreas Kapourani
git_last_commit: c1d6df2
git_last_commit_date: 2022-11-01 11:14:50 -0400
nebbiolo1Linux (Ubuntu 22.04.1 LTS) / x86_64  OK    OK    OK  UNNEEDED, same version is already published
Package 47/534HostnameOS / ArchINSTALLBUILDCHECKBUILD BIN
brainflowprobes 1.13.0  (landing page)
Amanda Price
git_last_commit: bd098d2
git_last_commit_date: 2022-11-01 11:20:58 -0400
nebbiolo1Linux (Ubuntu 22.04.1 LTS) / x86_64  OK    OK    OK  UNNEEDED, same version is already published
Package 48/534HostnameOS / ArchINSTALLBUILDCHECKBUILD BIN
branchpointer 1.25.0  (landing page)
Beth Signal
git_last_commit: fdc3264
git_last_commit_date: 2022-11-01 11:15:20 -0400
nebbiolo1Linux (Ubuntu 22.04.1 LTS) / x86_64  OK    ERROR  skipped
Package 49/534HostnameOS / ArchINSTALLBUILDCHECKBUILD BIN
breakpointR 1.17.0  (landing page)
David Porubsky
git_last_commit: 7e2ce62
git_last_commit_date: 2022-11-01 11:18:28 -0400
nebbiolo1Linux (Ubuntu 22.04.1 LTS) / x86_64  OK    OK    OK  UNNEEDED, same version is already published
Package 50/534HostnameOS / ArchINSTALLBUILDCHECKBUILD BIN
BRGenomics 1.11.0  (landing page)
Mike DeBerardine
git_last_commit: 7287b3d
git_last_commit_date: 2022-11-01 11:21:40 -0400
nebbiolo1Linux (Ubuntu 22.04.1 LTS) / x86_64  OK    OK    WARNINGS  UNNEEDED, same version is already published
Package 51/534HostnameOS / ArchINSTALLBUILDCHECKBUILD BIN
BSgenome 1.67.4  (landing page)
Hervé Pagès
git_last_commit: 7417e84
git_last_commit_date: 2023-02-07 22:21:31 -0400
nebbiolo1Linux (Ubuntu 22.04.1 LTS) / x86_64  OK    OK    WARNINGS  UNNEEDED, same version is already published
Package 52/534HostnameOS / ArchINSTALLBUILDCHECKBUILD BIN
bsseq 1.35.0  (landing page)
Kasper Daniel Hansen
git_last_commit: ed8b19c
git_last_commit_date: 2022-11-01 11:07:09 -0400
nebbiolo1Linux (Ubuntu 22.04.1 LTS) / x86_64  OK    OK    ERROR  
Package 53/534HostnameOS / ArchINSTALLBUILDCHECKBUILD BIN
BubbleTree 2.29.0  (landing page)
Todd Creasy , Wei Zhu
git_last_commit: 20d9d74
git_last_commit_date: 2022-11-01 11:11:07 -0400
nebbiolo1Linux (Ubuntu 22.04.1 LTS) / x86_64  OK    OK    OK  UNNEEDED, same version is already published
Package 54/534HostnameOS / ArchINSTALLBUILDCHECKBUILD BIN
bumphunter 1.41.0  (landing page)
Tamilselvi Guharaj
git_last_commit: aabc3c8
git_last_commit_date: 2022-11-01 11:07:40 -0400
nebbiolo1Linux (Ubuntu 22.04.1 LTS) / x86_64  OK    OK    OK  UNNEEDED, same version is already published
Package 55/534HostnameOS / ArchINSTALLBUILDCHECKBUILD BIN
BUSpaRse 1.13.0  (landing page)
Lambda Moses
git_last_commit: 60755e4
git_last_commit_date: 2022-11-01 11:20:24 -0400
nebbiolo1Linux (Ubuntu 22.04.1 LTS) / x86_64  OK    ERROR  skipped
Package 56/534HostnameOS / ArchINSTALLBUILDCHECKBUILD BIN
CAFE 1.35.0  (landing page)
Sander Bollen
git_last_commit: 17710dc
git_last_commit_date: 2022-11-01 11:09:18 -0400
nebbiolo1Linux (Ubuntu 22.04.1 LTS) / x86_64  OK    OK    WARNINGS  UNNEEDED, same version is already published
Package 57/534HostnameOS / ArchINSTALLBUILDCHECKBUILD BIN
CAGEfightR 1.19.0  (landing page)
Malte Thodberg
git_last_commit: 8b947db
git_last_commit_date: 2022-11-01 11:17:49 -0400
nebbiolo1Linux (Ubuntu 22.04.1 LTS) / x86_64  OK    OK    OK  UNNEEDED, same version is already published
Package 58/534HostnameOS / ArchINSTALLBUILDCHECKBUILD BIN
cageminer 1.5.0  (landing page)
Fabrício Almeida-Silva
git_last_commit: 917a6a0
git_last_commit_date: 2023-03-14 07:03:05 -0400
nebbiolo1Linux (Ubuntu 22.04.1 LTS) / x86_64  OK    OK    OK  UNNEEDED, same version is already published
Package 59/534HostnameOS / ArchINSTALLBUILDCHECKBUILD BIN
CAGEr 2.5.0  (landing page)
Charles Plessy
git_last_commit: 3cc0923
git_last_commit_date: 2022-11-01 11:07:54 -0400
nebbiolo1Linux (Ubuntu 22.04.1 LTS) / x86_64  OK    OK    OK  UNNEEDED, same version is already published
Package 60/534HostnameOS / ArchINSTALLBUILDCHECKBUILD BIN
cardelino 1.1.1  (landing page)
Davis McCarthy
git_last_commit: 3d2d977
git_last_commit_date: 2022-11-09 23:02:09 -0400
nebbiolo1Linux (Ubuntu 22.04.1 LTS) / x86_64  OK    OK    OK  UNNEEDED, same version is already published
Package 61/534HostnameOS / ArchINSTALLBUILDCHECKBUILD BIN
casper 2.33.0  (landing page)
David Rossell
git_last_commit: 6cde1fc
git_last_commit_date: 2022-11-01 11:07:47 -0400
nebbiolo1Linux (Ubuntu 22.04.1 LTS) / x86_64  OK    OK    OK  UNNEEDED, same version is already published
Package 62/534HostnameOS / ArchINSTALLBUILDCHECKBUILD BIN
cBioPortalData 2.11.5  (landing page)
Marcel Ramos
git_last_commit: a1664a8
git_last_commit_date: 2023-01-20 13:07:10 -0400
nebbiolo1Linux (Ubuntu 22.04.1 LTS) / x86_64  OK    OK    OK  UNNEEDED, same version is already published
Package 63/534HostnameOS / ArchINSTALLBUILDCHECKBUILD BIN
CexoR 1.37.0  (landing page)
Pedro Madrigal
git_last_commit: cddc347
git_last_commit_date: 2022-11-01 11:25:46 -0400
nebbiolo1Linux (Ubuntu 22.04.1 LTS) / x86_64  OK    OK    OK  UNNEEDED, same version is already published
Package 64/534HostnameOS / ArchINSTALLBUILDCHECKBUILD BIN
cfDNAPro 1.5.4  (landing page)
Haichao Wang
git_last_commit: f90c936
git_last_commit_date: 2022-12-05 17:34:15 -0400
nebbiolo1Linux (Ubuntu 22.04.1 LTS) / x86_64  OK    OK    WARNINGS  UNNEEDED, same version is already published
Package 65/534HostnameOS / ArchINSTALLBUILDCHECKBUILD BIN
ChAMP 2.29.0  (landing page)
Yuan Tian
git_last_commit: 1adbf9a
git_last_commit_date: 2022-11-01 11:08:56 -0400
nebbiolo1Linux (Ubuntu 22.04.1 LTS) / x86_64  OK    OK    WARNINGS  UNNEEDED, same version is already published
Package 66/534HostnameOS / ArchINSTALLBUILDCHECKBUILD BIN
ChIC 1.19.0  (landing page)
Carmen Maria Livi
git_last_commit: 6da555b
git_last_commit_date: 2022-11-01 11:17:36 -0400
nebbiolo1Linux (Ubuntu 22.04.1 LTS) / x86_64  ERROR    ERROR  skipped
Package 67/534HostnameOS / ArchINSTALLBUILDCHECKBUILD BIN
chimeraviz 1.25.0  (landing page)
Stian Lågstad
git_last_commit: 80466b8
git_last_commit_date: 2023-03-05 07:04:42 -0400
nebbiolo1Linux (Ubuntu 22.04.1 LTS) / x86_64  OK    OK    OK  UNNEEDED, same version is already published
Package 68/534HostnameOS / ArchINSTALLBUILDCHECKBUILD BIN
ChIPanalyser 1.21.0  (landing page)
Patrick C.N. Martin
git_last_commit: ca12b0a
git_last_commit_date: 2022-11-01 11:16:15 -0400
nebbiolo1Linux (Ubuntu 22.04.1 LTS) / x86_64  OK    OK    OK  UNNEEDED, same version is already published
Package 69/534HostnameOS / ArchINSTALLBUILDCHECKBUILD BIN
ChIPComp 1.29.0  (landing page)
Li Chen
git_last_commit: d65bdfa
git_last_commit_date: 2022-11-01 11:12:04 -0400
nebbiolo1Linux (Ubuntu 22.04.1 LTS) / x86_64  OK    OK    OK  UNNEEDED, same version is already published
Package 70/534HostnameOS / ArchINSTALLBUILDCHECKBUILD BIN
chipenrich 2.23.0  (landing page)
Raymond G. Cavalcante
git_last_commit: 51c681f
git_last_commit_date: 2022-11-01 11:08:40 -0400
nebbiolo1Linux (Ubuntu 22.04.1 LTS) / x86_64  OK    OK    OK  UNNEEDED, same version is already published
Package 71/534HostnameOS / ArchINSTALLBUILDCHECKBUILD BIN
ChIPexoQual 1.23.0  (landing page)
Rene Welch
git_last_commit: 6775da3
git_last_commit_date: 2022-11-01 11:15:05 -0400
nebbiolo1Linux (Ubuntu 22.04.1 LTS) / x86_64  OK    OK    OK  UNNEEDED, same version is already published
Package 72/534HostnameOS / ArchINSTALLBUILDCHECKBUILD BIN
ChIPpeakAnno 3.33.2  (landing page)
Jianhong Ou
git_last_commit: 88d5ada
git_last_commit_date: 2023-03-14 15:02:32 -0400
nebbiolo1Linux (Ubuntu 22.04.1 LTS) / x86_64  OK    OK    OK  UNNEEDED, same version is already published
Package 73/534HostnameOS / ArchINSTALLBUILDCHECKBUILD BIN
ChIPQC 1.35.1  (landing page)
Tom Carroll , Rory Stark
git_last_commit: 0aa2fcd
git_last_commit_date: 2023-01-10 08:07:36 -0400
nebbiolo1Linux (Ubuntu 22.04.1 LTS) / x86_64  OK    OK    WARNINGS  UNNEEDED, same version is already published
Package 74/534HostnameOS / ArchINSTALLBUILDCHECKBUILD BIN
ChIPseeker 1.35.1  (landing page)
Guangchuang Yu
git_last_commit: fb11419
git_last_commit_date: 2022-12-30 04:26:48 -0400
nebbiolo1Linux (Ubuntu 22.04.1 LTS) / x86_64  OK    OK    ERROR  
Package 75/534HostnameOS / ArchINSTALLBUILDCHECKBUILD BIN
chipseq 1.49.0  (landing page)
Bioconductor Package Maintainer
git_last_commit: 5a0e94e
git_last_commit_date: 2022-11-01 11:04:29 -0400
nebbiolo1Linux (Ubuntu 22.04.1 LTS) / x86_64  OK    OK    ERROR  
Package 76/534HostnameOS / ArchINSTALLBUILDCHECKBUILD BIN
ChIPseqR 1.53.0  (landing page)
Peter Humburg
git_last_commit: be127a7
git_last_commit_date: 2022-11-01 11:04:43 -0400
nebbiolo1Linux (Ubuntu 22.04.1 LTS) / x86_64  OK    OK    OK  UNNEEDED, same version is already published
Package 77/534HostnameOS / ArchINSTALLBUILDCHECKBUILD BIN
chromDraw 2.29.0  (landing page)
Jan Janecka
git_last_commit: 607aea8
git_last_commit_date: 2022-11-01 11:10:54 -0400
nebbiolo1Linux (Ubuntu 22.04.1 LTS) / x86_64  OK    OK    WARNINGS  UNNEEDED, same version is already published
Package 78/534HostnameOS / ArchINSTALLBUILDCHECKBUILD BIN
ChromHeatMap 1.53.0  (landing page)
Tim F. Rayner
git_last_commit: 5ae921b
git_last_commit_date: 2022-11-01 11:04:42 -0400
nebbiolo1Linux (Ubuntu 22.04.1 LTS) / x86_64  OK    OK    OK  UNNEEDED, same version is already published
Package 79/534HostnameOS / ArchINSTALLBUILDCHECKBUILD BIN
chromPlot 1.27.0  (landing page)
Karen Y. Orostica
git_last_commit: 565b81b
git_last_commit_date: 2022-11-01 11:12:58 -0400
nebbiolo1Linux (Ubuntu 22.04.1 LTS) / x86_64  OK    OK    OK  UNNEEDED, same version is already published
Package 80/534HostnameOS / ArchINSTALLBUILDCHECKBUILD BIN
ChromSCape 1.9.0  (landing page)
Pacome Prompsy
git_last_commit: 5a25461
git_last_commit_date: 2022-11-09 11:33:11 -0400
nebbiolo1Linux (Ubuntu 22.04.1 LTS) / x86_64  OK    OK    WARNINGS  UNNEEDED, same version is already published
Package 81/534HostnameOS / ArchINSTALLBUILDCHECKBUILD BIN
chromstaR 1.25.0  (landing page)
Aaron Taudt
git_last_commit: 18c031d
git_last_commit_date: 2022-11-01 11:13:56 -0400
nebbiolo1Linux (Ubuntu 22.04.1 LTS) / x86_64  OK    ERROR  skipped
Package 82/534HostnameOS / ArchINSTALLBUILDCHECKBUILD BIN
chromswitch 1.21.1  (landing page)
Selin Jessa
git_last_commit: f0d1a1a
git_last_commit_date: 2023-03-27 08:19:28 -0400
nebbiolo1Linux (Ubuntu 22.04.1 LTS) / x86_64  OK    OK    WARNINGS  UNNEEDED, same version is already published
Package 83/534HostnameOS / ArchINSTALLBUILDCHECKBUILD BIN
chromVAR 1.21.0  (landing page)
Alicia Schep
git_last_commit: 9ef81dc
git_last_commit_date: 2022-11-01 11:16:29 -0400
nebbiolo1Linux (Ubuntu 22.04.1 LTS) / x86_64  OK    OK    OK  UNNEEDED, same version is already published
Package 84/534HostnameOS / ArchINSTALLBUILDCHECKBUILD BIN
cicero 1.17.2  (landing page)
Hannah Pliner
git_last_commit: 970c7b6
git_last_commit_date: 2023-02-25 18:00:59 -0400
nebbiolo1Linux (Ubuntu 22.04.1 LTS) / x86_64  OK    OK    OK  UNNEEDED, same version is already published
Package 85/534HostnameOS / ArchINSTALLBUILDCHECKBUILD BIN
CINdex 1.27.0  (landing page)
Yuriy Gusev
git_last_commit: d8bb2de
git_last_commit_date: 2022-11-01 11:13:24 -0400
nebbiolo1Linux (Ubuntu 22.04.1 LTS) / x86_64  OK    OK    WARNINGS  UNNEEDED, same version is already published
Package 86/534HostnameOS / ArchINSTALLBUILDCHECKBUILD BIN
circRNAprofiler 1.13.7  (landing page)
Simona Aufiero
git_last_commit: a1cfa55
git_last_commit_date: 2023-01-23 04:19:23 -0400
nebbiolo1Linux (Ubuntu 22.04.1 LTS) / x86_64  ERROR    ERROR  skipped
Package 87/534HostnameOS / ArchINSTALLBUILDCHECKBUILD BIN
cleanUpdTSeq 1.37.0  (landing page)
Jianhong Ou ; Lihua Julie Zhu
git_last_commit: 393328d
git_last_commit_date: 2022-11-01 11:08:25 -0400
nebbiolo1Linux (Ubuntu 22.04.1 LTS) / x86_64  OK    OK    OK  UNNEEDED, same version is already published
Package 88/534HostnameOS / ArchINSTALLBUILDCHECKBUILD BIN
cliProfiler 1.5.0  (landing page)
You Zhou
git_last_commit: d3b2b9a
git_last_commit_date: 2022-11-01 11:25:52 -0400
nebbiolo1Linux (Ubuntu 22.04.1 LTS) / x86_64  OK    OK    ERROR  
Package 89/534HostnameOS / ArchINSTALLBUILDCHECKBUILD BIN
cn.mops 1.45.0  (landing page)
Gundula Povysil
git_last_commit: 0617906
git_last_commit_date: 2022-11-01 11:06:31 -0400
nebbiolo1Linux (Ubuntu 22.04.1 LTS) / x86_64  OK    OK    OK  UNNEEDED, same version is already published
Package 90/534HostnameOS / ArchINSTALLBUILDCHECKBUILD BIN
CNEr 1.35.0  (landing page)
Ge Tan
git_last_commit: 7f627d6
git_last_commit_date: 2022-11-01 11:09:13 -0400
nebbiolo1Linux (Ubuntu 22.04.1 LTS) / x86_64  OK    OK    WARNINGS  UNNEEDED, same version is already published
Package 91/534HostnameOS / ArchINSTALLBUILDCHECKBUILD BIN
CNVfilteR 1.13.2  (landing page)
Jose Marcos Moreno-Cabrera
git_last_commit: 34c9784
git_last_commit_date: 2023-03-20 11:12:44 -0400
nebbiolo1Linux (Ubuntu 22.04.1 LTS) / x86_64  OK    OK    ERROR  
Package 92/534HostnameOS / ArchINSTALLBUILDCHECKBUILD BIN
cnvGSA 1.43.0  (landing page)
Joseph Lugo
git_last_commit: d23d5a0
git_last_commit_date: 2022-11-01 11:06:52 -0400
nebbiolo1Linux (Ubuntu 22.04.1 LTS) / x86_64  OK    OK    OK  UNNEEDED, same version is already published
Package 93/534HostnameOS / ArchINSTALLBUILDCHECKBUILD BIN
CNViz 1.7.0  (landing page)
Rebecca Greenblatt
git_last_commit: a34f7ed
git_last_commit_date: 2022-11-01 11:24:36 -0400
nebbiolo1Linux (Ubuntu 22.04.1 LTS) / x86_64  OK    OK    OK  UNNEEDED, same version is already published
Package 94/534HostnameOS / ArchINSTALLBUILDCHECKBUILD BIN
CNVMetrics 1.3.0  (landing page)
Astrid Deschênes
git_last_commit: 4efba7e
git_last_commit_date: 2022-11-01 11:26:14 -0400
nebbiolo1Linux (Ubuntu 22.04.1 LTS) / x86_64  OK    OK    OK  UNNEEDED, same version is already published
Package 95/534HostnameOS / ArchINSTALLBUILDCHECKBUILD BIN
CNVPanelizer 1.31.0  (landing page)
Thomas Wolf
git_last_commit: 8ebbaac
git_last_commit_date: 2022-11-01 11:11:51 -0400
nebbiolo1Linux (Ubuntu 22.04.1 LTS) / x86_64  OK    OK    OK  UNNEEDED, same version is already published
Package 96/534HostnameOS / ArchINSTALLBUILDCHECKBUILD BIN
CNVRanger 1.15.1  (landing page)
Ludwig Geistlinger
git_last_commit: 0308892
git_last_commit_date: 2023-02-25 14:33:56 -0400
nebbiolo1Linux (Ubuntu 22.04.1 LTS) / x86_64  OK    OK    ERROR  
Package 97/534HostnameOS / ArchINSTALLBUILDCHECKBUILD BIN
COCOA 2.13.0  (landing page)
John Lawson
git_last_commit: 4d95582
git_last_commit_date: 2022-11-01 11:18:44 -0400
nebbiolo1Linux (Ubuntu 22.04.1 LTS) / x86_64  OK    OK    OK  UNNEEDED, same version is already published
Package 98/534HostnameOS / ArchINSTALLBUILDCHECKBUILD BIN
Cogito 1.5.0  (landing page)
Annika Bürger
git_last_commit: 70c2f30
git_last_commit_date: 2022-11-01 11:25:54 -0400
nebbiolo1Linux (Ubuntu 22.04.1 LTS) / x86_64  OK    OK    OK  UNNEEDED, same version is already published
Package 99/534HostnameOS / ArchINSTALLBUILDCHECKBUILD BIN
comapr 1.3.0  (landing page)
Ruqian Lyu
git_last_commit: 42d7af2
git_last_commit_date: 2022-11-01 11:26:18 -0400
nebbiolo1Linux (Ubuntu 22.04.1 LTS) / x86_64  OK    OK    OK  UNNEEDED, same version is already published
Package 100/534HostnameOS / ArchINSTALLBUILDCHECKBUILD BIN
coMET 1.31.0  (landing page)
Tiphaine Martin
git_last_commit: 30a05cc
git_last_commit_date: 2022-11-01 11:10:56 -0400
nebbiolo1Linux (Ubuntu 22.04.1 LTS) / x86_64  OK    OK    OK  UNNEEDED, same version is already published
Package 101/534HostnameOS / ArchINSTALLBUILDCHECKBUILD BIN
coMethDMR 1.3.0  (landing page)
Fernanda Veitzman
git_last_commit: 6d46f0e
git_last_commit_date: 2022-11-01 11:26:14 -0400
nebbiolo1Linux (Ubuntu 22.04.1 LTS) / x86_64  OK    OK    OK  UNNEEDED, same version is already published
Package 102/534HostnameOS / ArchINSTALLBUILDCHECKBUILD BIN
compartmap 1.17.0  (landing page)
Benjamin Johnson
git_last_commit: c26f814
git_last_commit_date: 2022-11-01 11:18:52 -0400
nebbiolo1Linux (Ubuntu 22.04.1 LTS) / x86_64  OK    OK    ERROR  
Package 103/534HostnameOS / ArchINSTALLBUILDCHECKBUILD BIN
compEpiTools 1.33.0  (landing page)
Kamal Kishore
git_last_commit: 5de0197
git_last_commit_date: 2022-11-01 11:10:09 -0400
nebbiolo1Linux (Ubuntu 22.04.1 LTS) / x86_64  OK    OK    WARNINGS  UNNEEDED, same version is already published
Package 104/534HostnameOS / ArchINSTALLBUILDCHECKBUILD BIN
consensusSeekeR 1.27.0  (landing page)
Astrid Deschenes
git_last_commit: 33153bc
git_last_commit_date: 2022-11-01 11:12:31 -0400
nebbiolo1Linux (Ubuntu 22.04.1 LTS) / x86_64  OK    OK    OK  UNNEEDED, same version is already published
Package 105/534HostnameOS / ArchINSTALLBUILDCHECKBUILD BIN
contiBAIT 1.27.0  (landing page)
Kieran O'Neill
git_last_commit: 6188b0c
git_last_commit_date: 2022-11-01 11:12:55 -0400
nebbiolo1Linux (Ubuntu 22.04.1 LTS) / x86_64  OK    OK    WARNINGS  UNNEEDED, same version is already published
Package 106/534HostnameOS / ArchINSTALLBUILDCHECKBUILD BIN
conumee 1.33.0  (landing page)
Volker Hovestadt
git_last_commit: d818c3e
git_last_commit_date: 2022-11-01 11:11:32 -0400
nebbiolo1Linux (Ubuntu 22.04.1 LTS) / x86_64  OK    OK    OK  UNNEEDED, same version is already published
Package 107/534HostnameOS / ArchINSTALLBUILDCHECKBUILD BIN
copynumber 1.39.1  (landing page)
Gro Nilsen
git_last_commit: 63a78b1
git_last_commit_date: 2023-03-06 11:52:54 -0400
nebbiolo1Linux (Ubuntu 22.04.1 LTS) / x86_64  OK    ERROR  skipped
Package 108/534HostnameOS / ArchINSTALLBUILDCHECKBUILD BIN
CopyNumberPlots 1.15.0  (landing page)
Bernat Gel
git_last_commit: a3d45ec
git_last_commit_date: 2022-11-01 11:19:46 -0400
nebbiolo1Linux (Ubuntu 22.04.1 LTS) / x86_64  OK    OK    OK  UNNEEDED, same version is already published
Package 109/534HostnameOS / ArchINSTALLBUILDCHECKBUILD BIN
CopywriteR 2.31.0  (landing page)
Oscar Krijgsman
git_last_commit: c911960
git_last_commit_date: 2022-11-01 11:11:29 -0400
nebbiolo1Linux (Ubuntu 22.04.1 LTS) / x86_64  OK    ERROR  skipped
Package 110/534HostnameOS / ArchINSTALLBUILDCHECKBUILD BIN
CoverageView 1.37.0  (landing page)
Ernesto Lowy
git_last_commit: 1d59687
git_last_commit_date: 2022-11-01 11:09:32 -0400
nebbiolo1Linux (Ubuntu 22.04.1 LTS) / x86_64  OK    OK    WARNINGS  UNNEEDED, same version is already published
Package 111/534HostnameOS / ArchINSTALLBUILDCHECKBUILD BIN
crisprBase 1.3.1  (landing page)
Jean-Philippe Fortin
git_last_commit: 9a2b296
git_last_commit_date: 2023-02-28 10:35:30 -0400
nebbiolo1Linux (Ubuntu 22.04.1 LTS) / x86_64  OK    OK    ERROR  
Package 112/534HostnameOS / ArchINSTALLBUILDCHECKBUILD BIN
crisprBowtie 1.3.4  (landing page)
Jean-Philippe Fortin
git_last_commit: a6b5f12
git_last_commit_date: 2023-02-28 10:33:59 -0400
nebbiolo1Linux (Ubuntu 22.04.1 LTS) / x86_64  OK    OK    OK  UNNEEDED, same version is already published
Package 113/534HostnameOS / ArchINSTALLBUILDCHECKBUILD BIN
crisprDesign 1.1.24  (landing page)
Jean-Philippe Fortin
git_last_commit: a6826bc
git_last_commit_date: 2023-02-28 10:34:55 -0400
nebbiolo1Linux (Ubuntu 22.04.1 LTS) / x86_64  OK    OK    OK  UNNEEDED, same version is already published
Package 114/534HostnameOS / ArchINSTALLBUILDCHECKBUILD BIN
CRISPRseek 1.39.0  (landing page)
Lihua Julie Zhu
git_last_commit: 1ce9399
git_last_commit_date: 2022-11-01 11:09:00 -0400
nebbiolo1Linux (Ubuntu 22.04.1 LTS) / x86_64  OK    OK    OK  UNNEEDED, same version is already published
Package 115/534HostnameOS / ArchINSTALLBUILDCHECKBUILD BIN
crisprseekplus 1.25.0  (landing page)
Alper Kucukural
git_last_commit: 1c73781
git_last_commit_date: 2022-11-01 11:14:42 -0400
nebbiolo1Linux (Ubuntu 22.04.1 LTS) / x86_64  OK    OK    ERROR  
Package 116/534HostnameOS / ArchINSTALLBUILDCHECKBUILD BIN
CrispRVariants 1.27.0  (landing page)
Helen Lindsay
git_last_commit: 669c694
git_last_commit_date: 2022-11-01 11:12:41 -0400
nebbiolo1Linux (Ubuntu 22.04.1 LTS) / x86_64  OK    OK    WARNINGS  UNNEEDED, same version is already published
Package 117/534HostnameOS / ArchINSTALLBUILDCHECKBUILD BIN
crisprViz 1.1.3  (landing page)
Jean-Philippe Fortin
git_last_commit: cb79dac
git_last_commit_date: 2023-02-28 10:41:37 -0400
nebbiolo1Linux (Ubuntu 22.04.1 LTS) / x86_64  OK    OK    OK  UNNEEDED, same version is already published
Package 118/534HostnameOS / ArchINSTALLBUILDCHECKBUILD BIN
CSAR 1.51.0  (landing page)
Jose M Muino
git_last_commit: 9bc95e7
git_last_commit_date: 2022-11-01 11:04:47 -0400
nebbiolo1Linux (Ubuntu 22.04.1 LTS) / x86_64  OK    OK    OK  UNNEEDED, same version is already published
Package 119/534HostnameOS / ArchINSTALLBUILDCHECKBUILD BIN
csaw 1.33.1  (landing page)
Aaron Lun
git_last_commit: cac071b
git_last_commit_date: 2023-03-14 01:46:54 -0400
nebbiolo1Linux (Ubuntu 22.04.1 LTS) / x86_64  OK    OK    WARNINGS  UNNEEDED, same version is already published
Package 120/534HostnameOS / ArchINSTALLBUILDCHECKBUILD BIN
CSSQ 1.11.0  (landing page)
Fan Lab at Georgia Institute of Technology
git_last_commit: a3d10f2
git_last_commit_date: 2022-11-01 11:21:05 -0400
nebbiolo1Linux (Ubuntu 22.04.1 LTS) / x86_64  OK    OK    OK  UNNEEDED, same version is already published
Package 121/534HostnameOS / ArchINSTALLBUILDCHECKBUILD BIN
customProDB 1.39.0  (landing page)
Xiaojing Wang
git_last_commit: 612f132
git_last_commit_date: 2022-11-01 11:08:20 -0400
nebbiolo1Linux (Ubuntu 22.04.1 LTS) / x86_64  OK    OK    OK  UNNEEDED, same version is already published
Package 122/534HostnameOS / ArchINSTALLBUILDCHECKBUILD BIN
DAMEfinder 1.11.1  (landing page)
Stephany Orjuela
git_last_commit: 3f4d9bf
git_last_commit_date: 2022-12-06 08:46:37 -0400
nebbiolo1Linux (Ubuntu 22.04.1 LTS) / x86_64  ERROR    ERROR  skipped
Package 123/534HostnameOS / ArchINSTALLBUILDCHECKBUILD BIN
dasper 1.9.0  (landing page)
David Zhang
git_last_commit: 7fc89b3
git_last_commit_date: 2022-11-01 11:23:22 -0400
nebbiolo1Linux (Ubuntu 22.04.1 LTS) / x86_64  OK    ERROR  skipped
Package 124/534HostnameOS / ArchINSTALLBUILDCHECKBUILD BIN
debrowser 1.27.3  (landing page)
Alper Kucukural
git_last_commit: 0c2f380
git_last_commit_date: 2023-03-12 18:23:20 -0400
nebbiolo1Linux (Ubuntu 22.04.1 LTS) / x86_64  OK    OK    OK  UNNEEDED, same version is already published
Package 125/534HostnameOS / ArchINSTALLBUILDCHECKBUILD BIN
decompTumor2Sig 2.15.0  (landing page)
Rosario M. Piro
git_last_commit: f413c6a
git_last_commit_date: 2022-11-01 11:18:56 -0400
nebbiolo1Linux (Ubuntu 22.04.1 LTS) / x86_64  OK    OK    OK  UNNEEDED, same version is already published
Package 126/534HostnameOS / ArchINSTALLBUILDCHECKBUILD BIN
deconvR 1.5.0  (landing page)
İrem B. Gündüz
git_last_commit: 0b15c5d
git_last_commit_date: 2022-11-15 04:12:58 -0400
nebbiolo1Linux (Ubuntu 22.04.1 LTS) / x86_64  OK    OK    OK  UNNEEDED, same version is already published
Package 127/534HostnameOS / ArchINSTALLBUILDCHECKBUILD BIN
DeepBlueR 1.25.1  (landing page)
Felipe Albrecht , Markus List , Quirin Manz
git_last_commit: 950d10c
git_last_commit_date: 2023-01-10 05:24:28 -0400
nebbiolo1Linux (Ubuntu 22.04.1 LTS) / x86_64  OK    OK    OK  UNNEEDED, same version is already published
Package 128/534HostnameOS / ArchINSTALLBUILDCHECKBUILD BIN
deepSNV 1.45.0  (landing page)
Moritz Gerstung
git_last_commit: 4241cbc
git_last_commit_date: 2022-11-01 11:06:40 -0400
nebbiolo1Linux (Ubuntu 22.04.1 LTS) / x86_64  OK    OK    WARNINGS  UNNEEDED, same version is already published
Package 129/534HostnameOS / ArchINSTALLBUILDCHECKBUILD BIN
DEFormats 1.27.0  (landing page)
Andrzej Oleś
git_last_commit: 86e18c2
git_last_commit_date: 2022-11-01 11:13:20 -0400
nebbiolo1Linux (Ubuntu 22.04.1 LTS) / x86_64  OK    OK    ERROR  
Package 130/534HostnameOS / ArchINSTALLBUILDCHECKBUILD BIN
DegNorm 1.9.0  (landing page)
Ji-Ping Wang
git_last_commit: c7ffd9e
git_last_commit_date: 2022-11-01 11:22:13 -0400
nebbiolo1Linux (Ubuntu 22.04.1 LTS) / x86_64  OK    OK    OK  UNNEEDED, same version is already published
Package 131/534HostnameOS / ArchINSTALLBUILDCHECKBUILD BIN
deltaCaptureC 1.13.0  (landing page)
Michael Shapiro
git_last_commit: 882fe39
git_last_commit_date: 2022-11-01 11:20:27 -0400
nebbiolo1Linux (Ubuntu 22.04.1 LTS) / x86_64  OK    OK    OK  UNNEEDED, same version is already published
Package 132/534HostnameOS / ArchINSTALLBUILDCHECKBUILD BIN
derfinder 1.33.0  (landing page)
Leonardo Collado-Torres
git_last_commit: 4da8676
git_last_commit_date: 2022-11-01 11:10:24 -0400
nebbiolo1Linux (Ubuntu 22.04.1 LTS) / x86_64  OK    OK    OK  UNNEEDED, same version is already published
Package 133/534HostnameOS / ArchINSTALLBUILDCHECKBUILD BIN
derfinderPlot 1.33.0  (landing page)
Leonardo Collado-Torres
git_last_commit: a63cb58
git_last_commit_date: 2022-11-01 11:10:25 -0400
nebbiolo1Linux (Ubuntu 22.04.1 LTS) / x86_64  OK    OK    OK  UNNEEDED, same version is already published
Package 134/534HostnameOS / ArchINSTALLBUILDCHECKBUILD BIN
DEScan2 1.19.1  (landing page)
Dario Righelli
git_last_commit: fbe5e70
git_last_commit_date: 2023-03-09 06:22:49 -0400
nebbiolo1Linux (Ubuntu 22.04.1 LTS) / x86_64  OK    OK    WARNINGS  UNNEEDED, same version is already published
Package 135/534HostnameOS / ArchINSTALLBUILDCHECKBUILD BIN
DESeq2 1.39.8  (landing page)
Michael Love
git_last_commit: 48b80aa
git_last_commit_date: 2023-03-09 10:08:23 -0400
nebbiolo1Linux (Ubuntu 22.04.1 LTS) / x86_64  OK    OK    OK  UNNEEDED, same version is already published
Package 136/534HostnameOS / ArchINSTALLBUILDCHECKBUILD BIN
DEWSeq 1.13.0  (landing page)
bioinformatics team Hentze
git_last_commit: ed545b2
git_last_commit_date: 2022-11-01 11:20:50 -0400
nebbiolo1Linux (Ubuntu 22.04.1 LTS) / x86_64  OK    OK    ERROR  
Package 137/534HostnameOS / ArchINSTALLBUILDCHECKBUILD BIN
DEXSeq 1.45.2  (landing page)
Alejandro Reyes
git_last_commit: 1e42f0c
git_last_commit_date: 2023-02-24 05:45:24 -0400
nebbiolo1Linux (Ubuntu 22.04.1 LTS) / x86_64  OK    OK    ERROR  
Package 138/534HostnameOS / ArchINSTALLBUILDCHECKBUILD BIN
DiffBind 3.9.5  (landing page)
Rory Stark
git_last_commit: 4af2c57
git_last_commit_date: 2023-01-12 07:45:39 -0400
nebbiolo1Linux (Ubuntu 22.04.1 LTS) / x86_64  OK    OK    ERROR  
Package 139/534HostnameOS / ArchINSTALLBUILDCHECKBUILD BIN
diffHic 1.31.0  (landing page)
Aaron Lun
git_last_commit: d0d608e
git_last_commit_date: 2022-11-01 11:11:37 -0400
nebbiolo1Linux (Ubuntu 22.04.1 LTS) / x86_64  OK    OK    WARNINGS  UNNEEDED, same version is already published
Package 140/534HostnameOS / ArchINSTALLBUILDCHECKBUILD BIN
diffUTR 1.7.0  (landing page)
Pierre-Luc Germain
git_last_commit: 5906818
git_last_commit_date: 2022-11-01 11:24:56 -0400
nebbiolo1Linux (Ubuntu 22.04.1 LTS) / x86_64  OK    OK    OK  UNNEEDED, same version is already published
Package 141/534HostnameOS / ArchINSTALLBUILDCHECKBUILD BIN
DMCFB 1.13.0  (landing page)
Farhad Shokoohi
git_last_commit: ac7cdc6
git_last_commit_date: 2022-11-01 11:20:38 -0400
nebbiolo1Linux (Ubuntu 22.04.1 LTS) / x86_64  OK    OK    ERROR  
Package 142/534HostnameOS / ArchINSTALLBUILDCHECKBUILD BIN
DMCHMM 1.21.0  (landing page)
Farhad Shokoohi
git_last_commit: 63aee50
git_last_commit_date: 2022-11-01 11:16:13 -0400
nebbiolo1Linux (Ubuntu 22.04.1 LTS) / x86_64  OK    OK    OK  UNNEEDED, same version is already published
Package 143/534HostnameOS / ArchINSTALLBUILDCHECKBUILD BIN
DMRcaller 1.31.0  (landing page)
Nicolae Radu Zabet
git_last_commit: 4d6f9f6
git_last_commit_date: 2022-11-01 11:11:26 -0400
nebbiolo1Linux (Ubuntu 22.04.1 LTS) / x86_64  OK    OK    OK  UNNEEDED, same version is already published
Package 144/534HostnameOS / ArchINSTALLBUILDCHECKBUILD BIN
DMRcate 2.13.0  (landing page)
Tim Peters
git_last_commit: 1da4c5d
git_last_commit_date: 2022-11-01 11:09:16 -0400
nebbiolo1Linux (Ubuntu 22.04.1 LTS) / x86_64  OK    OK    OK  UNNEEDED, same version is already published
Package 145/534HostnameOS / ArchINSTALLBUILDCHECKBUILD BIN
DMRforPairs 1.35.0  (landing page)
Martin Rijlaarsdam
git_last_commit: ee7aebc
git_last_commit_date: 2022-11-01 11:09:34 -0400
nebbiolo1Linux (Ubuntu 22.04.1 LTS) / x86_64  OK    ERROR  skipped
Package 146/534HostnameOS / ArchINSTALLBUILDCHECKBUILD BIN
DMRScan 1.21.0  (landing page)
Christian M Page
git_last_commit: a39425b
git_last_commit_date: 2022-11-01 11:15:04 -0400
nebbiolo1Linux (Ubuntu 22.04.1 LTS) / x86_64  OK    OK    OK  UNNEEDED, same version is already published
Package 147/534HostnameOS / ArchINSTALLBUILDCHECKBUILD BIN
dmrseq 1.19.0  (landing page)
Keegan Korthauer
git_last_commit: 6a00ebd
git_last_commit_date: 2022-11-01 11:17:14 -0400
nebbiolo1Linux (Ubuntu 22.04.1 LTS) / x86_64  OK    OK    ERROR  
Package 148/534HostnameOS / ArchINSTALLBUILDCHECKBUILD BIN
DNAfusion 1.1.1  (landing page)
Christoffer Trier Maansson
git_last_commit: d018540
git_last_commit_date: 2023-03-06 05:53:24 -0400
nebbiolo1Linux (Ubuntu 22.04.1 LTS) / x86_64  OK    OK    ERROR  
Package 149/534HostnameOS / ArchINSTALLBUILDCHECKBUILD BIN
DNAshapeR 1.27.0  (landing page)
Tsu-Pei Chiu
git_last_commit: 6b7cd05
git_last_commit_date: 2022-11-01 11:13:14 -0400
nebbiolo1Linux (Ubuntu 22.04.1 LTS) / x86_64  OK    OK    OK  UNNEEDED, same version is already published
Package 150/534HostnameOS / ArchINSTALLBUILDCHECKBUILD BIN
DominoEffect 1.19.0  (landing page)
Marija Buljan
git_last_commit: ac67be0
git_last_commit_date: 2022-11-01 11:17:11 -0400
nebbiolo1Linux (Ubuntu 22.04.1 LTS) / x86_64  OK    OK    OK  UNNEEDED, same version is already published
Package 151/534HostnameOS / ArchINSTALLBUILDCHECKBUILD BIN
doubletrouble 0.99.2  (landing page)
Fabrício Almeida-Silva
git_last_commit: 6869bcd
git_last_commit_date: 2023-03-14 08:56:58 -0400
nebbiolo1Linux (Ubuntu 22.04.1 LTS) / x86_64  OK    OK    OK  UNNEEDED, same version is already published
Package 152/534HostnameOS / ArchINSTALLBUILDCHECKBUILD BIN
DRIMSeq 1.27.0  (landing page)
Malgorzata Nowicka
git_last_commit: 0ff62e8
git_last_commit_date: 2022-11-01 11:13:16 -0400
nebbiolo1Linux (Ubuntu 22.04.1 LTS) / x86_64  OK    OK    WARNINGS  UNNEEDED, same version is already published
Package 153/534HostnameOS / ArchINSTALLBUILDCHECKBUILD BIN
DropletUtils 1.19.3  (landing page)
Jonathan Griffiths
git_last_commit: e44a19f
git_last_commit_date: 2023-02-06 10:27:08 -0400
nebbiolo1Linux (Ubuntu 22.04.1 LTS) / x86_64  OK    OK    WARNINGS  UNNEEDED, same version is already published
Package 154/534HostnameOS / ArchINSTALLBUILDCHECKBUILD BIN
easyRNASeq 2.35.0  (landing page)
Nicolas Delhomme
git_last_commit: 04012c4
git_last_commit_date: 2022-11-01 11:06:37 -0400
nebbiolo1Linux (Ubuntu 22.04.1 LTS) / x86_64  OK    OK    OK  UNNEEDED, same version is already published
Package 155/534HostnameOS / ArchINSTALLBUILDCHECKBUILD BIN
EDASeq 2.33.0  (landing page)
Davide Risso
git_last_commit: 04a9ebb
git_last_commit_date: 2022-11-01 11:06:16 -0400
nebbiolo1Linux (Ubuntu 22.04.1 LTS) / x86_64  OK    OK    OK  UNNEEDED, same version is already published
Package 156/534HostnameOS / ArchINSTALLBUILDCHECKBUILD BIN
eisaR 1.11.0  (landing page)
Michael Stadler
git_last_commit: 3c48231
git_last_commit_date: 2022-11-03 08:42:54 -0400
nebbiolo1Linux (Ubuntu 22.04.1 LTS) / x86_64  OK    OK    OK  UNNEEDED, same version is already published
Package 157/534HostnameOS / ArchINSTALLBUILDCHECKBUILD BIN
ELMER 2.23.0  (landing page)
Tiago Chedraoui Silva
git_last_commit: 27c3e6f
git_last_commit_date: 2022-11-01 11:11:45 -0400
nebbiolo1Linux (Ubuntu 22.04.1 LTS) / x86_64  OK    ERROR  skipped
Package 158/534HostnameOS / ArchINSTALLBUILDCHECKBUILD BIN
enhancerHomologSearch 1.5.3  (landing page)
Jianhong Ou
git_last_commit: a8800f9
git_last_commit_date: 2023-03-20 13:42:30 -0400
nebbiolo1Linux (Ubuntu 22.04.1 LTS) / x86_64  OK    OK    WARNINGS  UNNEEDED, same version is already published
Package 159/534HostnameOS / ArchINSTALLBUILDCHECKBUILD BIN
EnrichedHeatmap 1.29.3  (landing page)
Zuguang Gu
git_last_commit: a985497
git_last_commit_date: 2023-03-19 04:17:37 -0400
nebbiolo1Linux (Ubuntu 22.04.1 LTS) / x86_64  OK    OK    OK  UNNEEDED, same version is already published
Package 160/534HostnameOS / ArchINSTALLBUILDCHECKBUILD BIN
enrichTF 1.15.0  (landing page)
Zheng Wei
git_last_commit: 8cb8d13
git_last_commit_date: 2022-11-01 11:19:51 -0400
nebbiolo1Linux (Ubuntu 22.04.1 LTS) / x86_64  OK    OK    ERROR  
Package 161/534HostnameOS / ArchINSTALLBUILDCHECKBUILD BIN
ensembldb 2.23.2  (landing page)
Johannes Rainer
git_last_commit: e74f58e
git_last_commit_date: 2023-02-16 00:26:08 -0400
nebbiolo1Linux (Ubuntu 22.04.1 LTS) / x86_64  OK    OK    OK  UNNEEDED, same version is already published
Package 162/534HostnameOS / ArchINSTALLBUILDCHECKBUILD BIN
ensemblVEP 1.41.1  (landing page)
Bioconductor Package Maintainer
git_last_commit: af762fa
git_last_commit_date: 2022-11-28 21:19:59 -0400
nebbiolo1Linux (Ubuntu 22.04.1 LTS) / x86_64  OK    OK    OK  UNNEEDED, same version is already published
Package 163/534HostnameOS / ArchINSTALLBUILDCHECKBUILD BIN
epialleleR 1.7.1  (landing page)
Oleksii Nikolaienko
git_last_commit: 24dc011
git_last_commit_date: 2023-02-19 09:54:38 -0400
nebbiolo1Linux (Ubuntu 22.04.1 LTS) / x86_64  OK    OK    WARNINGS  UNNEEDED, same version is already published
Package 164/534HostnameOS / ArchINSTALLBUILDCHECKBUILD BIN
EpiCompare 1.3.4  (landing page)
Sera Choi
git_last_commit: b643b13
git_last_commit_date: 2023-02-24 15:43:23 -0400
nebbiolo1Linux (Ubuntu 22.04.1 LTS) / x86_64  OK    OK    ERROR  
Package 165/534HostnameOS / ArchINSTALLBUILDCHECKBUILD BIN
epidecodeR 1.7.0  (landing page)
Kandarp Joshi
git_last_commit: e99c464
git_last_commit_date: 2022-11-01 11:24:32 -0400
nebbiolo1Linux (Ubuntu 22.04.1 LTS) / x86_64  OK    OK    OK  UNNEEDED, same version is already published
Package 166/534HostnameOS / ArchINSTALLBUILDCHECKBUILD BIN
epigenomix 1.39.0  (landing page)
Hans-Ulrich Klein
git_last_commit: 9187ade
git_last_commit_date: 2022-11-01 11:07:58 -0400
nebbiolo1Linux (Ubuntu 22.04.1 LTS) / x86_64  OK    OK    OK  UNNEEDED, same version is already published
Package 167/534HostnameOS / ArchINSTALLBUILDCHECKBUILD BIN
epigraHMM 1.7.2  (landing page)
Pedro Baldoni
git_last_commit: 3fad014
git_last_commit_date: 2023-03-22 17:58:28 -0400
nebbiolo1Linux (Ubuntu 22.04.1 LTS) / x86_64  OK    OK    WARNINGS  UNNEEDED, same version is already published
Package 168/534HostnameOS / ArchINSTALLBUILDCHECKBUILD BIN
epihet 1.15.1  (landing page)
Xiaowen Chen
git_last_commit: b2de742
git_last_commit_date: 2023-02-08 10:22:43 -0400
nebbiolo1Linux (Ubuntu 22.04.1 LTS) / x86_64  ERROR    ERROR  skipped
Package 169/534HostnameOS / ArchINSTALLBUILDCHECKBUILD BIN
EpiMix 1.1.2  (landing page)
Yuanning Zheng
git_last_commit: c702fa7
git_last_commit_date: 2023-02-13 23:28:38 -0400
nebbiolo1Linux (Ubuntu 22.04.1 LTS) / x86_64  OK    OK    OK  UNNEEDED, same version is already published
Package 170/534HostnameOS / ArchINSTALLBUILDCHECKBUILD BIN
epimutacions 1.3.0  (landing page)
Dolors Pelegri-Siso
git_last_commit: 4b983d2
git_last_commit_date: 2022-11-01 11:26:53 -0400
nebbiolo1Linux (Ubuntu 22.04.1 LTS) / x86_64  OK    ERROR  skipped
Package 171/534HostnameOS / ArchINSTALLBUILDCHECKBUILD BIN
epistack 1.5.0  (landing page)
DEVAILLY Guillaume
git_last_commit: 8666251
git_last_commit_date: 2022-11-01 11:25:54 -0400
nebbiolo1Linux (Ubuntu 22.04.1 LTS) / x86_64  OK    OK    OK  UNNEEDED, same version is already published
Package 172/534HostnameOS / ArchINSTALLBUILDCHECKBUILD BIN
EpiTxDb 1.11.0  (landing page)
Felix G.M. Ernst
git_last_commit: aa28b39
git_last_commit_date: 2022-11-01 11:21:35 -0400
nebbiolo1Linux (Ubuntu 22.04.1 LTS) / x86_64  OK    OK    OK  UNNEEDED, same version is already published
Package 173/534HostnameOS / ArchINSTALLBUILDCHECKBUILD BIN
epivizr 2.29.0  (landing page)
Hector Corrada Bravo
git_last_commit: a0e3a4b
git_last_commit_date: 2022-11-01 11:08:48 -0400
nebbiolo1Linux (Ubuntu 22.04.1 LTS) / x86_64  OK    OK    OK  UNNEEDED, same version is already published
Package 174/534HostnameOS / ArchINSTALLBUILDCHECKBUILD BIN
epivizrData 1.27.0  (landing page)
Hector Corrada Bravo
git_last_commit: 4065423
git_last_commit_date: 2022-11-01 11:13:39 -0400
nebbiolo1Linux (Ubuntu 22.04.1 LTS) / x86_64  OK    OK    OK  UNNEEDED, same version is already published
Package 175/534HostnameOS / ArchINSTALLBUILDCHECKBUILD BIN
erma 1.15.0  (landing page)
VJ Carey
git_last_commit: ed3b144
git_last_commit_date: 2022-11-01 11:11:49 -0400
nebbiolo1Linux (Ubuntu 22.04.1 LTS) / x86_64  OK    OK    OK  UNNEEDED, same version is already published
Package 176/534HostnameOS / ArchINSTALLBUILDCHECKBUILD BIN
esATAC 1.21.0  (landing page)
Zheng Wei
git_last_commit: dc1b794
git_last_commit_date: 2022-11-01 11:16:47 -0400
nebbiolo1Linux (Ubuntu 22.04.1 LTS) / x86_64  OK    OK    ERROR  
Package 177/534HostnameOS / ArchINSTALLBUILDCHECKBUILD BIN
EventPointer 3.7.0  (landing page)
Juan A. Ferrer-Bonsoms
git_last_commit: 779db2e
git_last_commit_date: 2023-03-15 11:26:40 -0400
nebbiolo1Linux (Ubuntu 22.04.1 LTS) / x86_64  OK    OK    OK  UNNEEDED, same version is already published
Package 178/534HostnameOS / ArchINSTALLBUILDCHECKBUILD BIN
ExCluster 1.17.0  (landing page)
R. Matthew Tanner
git_last_commit: 35cd47a
git_last_commit_date: 2022-11-01 11:18:31 -0400
nebbiolo1Linux (Ubuntu 22.04.1 LTS) / x86_64  OK    OK    OK  UNNEEDED, same version is already published
Package 179/534HostnameOS / ArchINSTALLBUILDCHECKBUILD BIN
exomeCopy 1.45.0  (landing page)
Michael Love
git_last_commit: 584c54b
git_last_commit_date: 2022-11-01 11:06:27 -0400
nebbiolo1Linux (Ubuntu 22.04.1 LTS) / x86_64  OK    OK    OK  UNNEEDED, same version is already published
Package 180/534HostnameOS / ArchINSTALLBUILDCHECKBUILD BIN
exomePeak2 1.11.0  (landing page)
Zhen Wei
git_last_commit: 1b9534d
git_last_commit_date: 2022-11-01 11:21:28 -0400
nebbiolo1Linux (Ubuntu 22.04.1 LTS) / x86_64  OK    OK    ERROR  
Package 181/534HostnameOS / ArchINSTALLBUILDCHECKBUILD BIN
extraChIPs 1.3.8  (landing page)
Stephen Pederson
git_last_commit: c71e337
git_last_commit_date: 2023-03-25 11:38:23 -0400
nebbiolo1Linux (Ubuntu 22.04.1 LTS) / x86_64  OK    OK    OK  UNNEEDED, same version is already published
Package 182/534HostnameOS / ArchINSTALLBUILDCHECKBUILD BIN
factR 1.1.0  (landing page)
Fursham Hamid
git_last_commit: d8724d2
git_last_commit_date: 2022-11-01 11:27:13 -0400
nebbiolo1Linux (Ubuntu 22.04.1 LTS) / x86_64  OK    OK    OK  UNNEEDED, same version is already published
Package 183/534HostnameOS / ArchINSTALLBUILDCHECKBUILD BIN
fastseg 1.45.0  (landing page)
Alexander Blume
git_last_commit: 1d51d68
git_last_commit_date: 2022-11-01 11:06:32 -0400
nebbiolo1Linux (Ubuntu 22.04.1 LTS) / x86_64  OK    OK    OK  UNNEEDED, same version is already published
Package 184/534HostnameOS / ArchINSTALLBUILDCHECKBUILD BIN
fCCAC 1.25.0  (landing page)
Pedro Madrigal
git_last_commit: 298d1a3
git_last_commit_date: 2022-11-01 11:14:49 -0400
nebbiolo1Linux (Ubuntu 22.04.1 LTS) / x86_64  OK    OK    OK  UNNEEDED, same version is already published
Package 185/534HostnameOS / ArchINSTALLBUILDCHECKBUILD BIN
fcScan 1.13.0  (landing page)
Pierre Khoueiry Abdullah El-Kurdi
git_last_commit: 4f8702f
git_last_commit_date: 2022-11-01 11:20:20 -0400
nebbiolo1Linux (Ubuntu 22.04.1 LTS) / x86_64  OK    OK    OK  UNNEEDED, same version is already published
Package 186/534HostnameOS / ArchINSTALLBUILDCHECKBUILD BIN
FilterFFPE 1.9.0  (landing page)
Lanying Wei
git_last_commit: b758f66
git_last_commit_date: 2022-11-01 11:22:50 -0400
nebbiolo1Linux (Ubuntu 22.04.1 LTS) / x86_64  OK    OK    OK  UNNEEDED, same version is already published
Package 187/534HostnameOS / ArchINSTALLBUILDCHECKBUILD BIN
FindIT2 1.5.0  (landing page)
Guandong Shang
git_last_commit: db4c20d
git_last_commit_date: 2022-11-01 11:25:15 -0400
nebbiolo1Linux (Ubuntu 22.04.1 LTS) / x86_64  OK    OK    OK  UNNEEDED, same version is already published
Package 188/534HostnameOS / ArchINSTALLBUILDCHECKBUILD BIN
fishpond 2.5.4  (landing page)
Michael Love
git_last_commit: 43540e7
git_last_commit_date: 2023-01-25 14:15:29 -0400
nebbiolo1Linux (Ubuntu 22.04.1 LTS) / x86_64  OK    OK    OK  UNNEEDED, same version is already published
Package 189/534HostnameOS / ArchINSTALLBUILDCHECKBUILD BIN
FLAMES 1.5.5  (landing page)
Oliver Voogd
git_last_commit: 602a271
git_last_commit_date: 2023-03-06 01:05:53 -0400
nebbiolo1Linux (Ubuntu 22.04.1 LTS) / x86_64  OK    OK    WARNINGS  UNNEEDED, same version is already published
Package 190/534HostnameOS / ArchINSTALLBUILDCHECKBUILD BIN
FRASER 1.11.0  (landing page)
Christian Mertes
git_last_commit: ab699ed
git_last_commit_date: 2022-11-01 11:21:56 -0400
nebbiolo1Linux (Ubuntu 22.04.1 LTS) / x86_64  OK    OK    OK  UNNEEDED, same version is already published
Package 191/534HostnameOS / ArchINSTALLBUILDCHECKBUILD BIN
FunChIP 1.25.0  (landing page)
Alice Parodi
git_last_commit: 532b8e4
git_last_commit_date: 2022-11-01 11:13:49 -0400
nebbiolo1Linux (Ubuntu 22.04.1 LTS) / x86_64  OK    OK    WARNINGS  UNNEEDED, same version is already published
Package 192/534HostnameOS / ArchINSTALLBUILDCHECKBUILD BIN
GA4GHclient 1.23.0  (landing page)
Welliton Souza
git_last_commit: 74319af
git_last_commit_date: 2022-11-01 11:15:24 -0400
nebbiolo1Linux (Ubuntu 22.04.1 LTS) / x86_64  OK    OK    OK  UNNEEDED, same version is already published
Package 193/534HostnameOS / ArchINSTALLBUILDCHECKBUILD BIN
gcapc 1.23.0  (landing page)
Mingxiang Teng
git_last_commit: 353104a
git_last_commit_date: 2022-11-01 11:14:56 -0400
nebbiolo1Linux (Ubuntu 22.04.1 LTS) / x86_64  OK    OK    OK  UNNEEDED, same version is already published
Package 194/534HostnameOS / ArchINSTALLBUILDCHECKBUILD BIN
genbankr 1.27.1  (landing page)
Gabriel Becker
git_last_commit: 4954cb0
git_last_commit_date: 2023-02-27 17:41:01 -0400
nebbiolo1Linux (Ubuntu 22.04.1 LTS) / x86_64  OK    ERROR  skipped
Package 195/534HostnameOS / ArchINSTALLBUILDCHECKBUILD BIN
geneAttribution 1.25.0  (landing page)
Arthur Wuster
git_last_commit: 5aab3ee
git_last_commit_date: 2022-11-01 11:14:21 -0400
nebbiolo1Linux (Ubuntu 22.04.1 LTS) / x86_64  OK    OK    OK  UNNEEDED, same version is already published
Package 196/534HostnameOS / ArchINSTALLBUILDCHECKBUILD BIN
GeneBreak 1.29.0  (landing page)
Evert van den Broek
git_last_commit: 7a3d512
git_last_commit_date: 2022-11-01 11:12:24 -0400
nebbiolo1Linux (Ubuntu 22.04.1 LTS) / x86_64  OK    OK    OK  UNNEEDED, same version is already published
Package 197/534HostnameOS / ArchINSTALLBUILDCHECKBUILD BIN
GeneGeneInteR 1.25.0  (landing page)
Mathieu Emily
git_last_commit: ef03e43
git_last_commit_date: 2022-11-01 11:14:08 -0400
nebbiolo1Linux (Ubuntu 22.04.1 LTS) / x86_64  OK    OK    OK  UNNEEDED, same version is already published
Package 198/534HostnameOS / ArchINSTALLBUILDCHECKBUILD BIN
geneRxCluster 1.35.0  (landing page)
Charles Berry
git_last_commit: cee08aa
git_last_commit_date: 2022-11-01 11:09:05 -0400
nebbiolo1Linux (Ubuntu 22.04.1 LTS) / x86_64  OK    OK    OK  UNNEEDED, same version is already published
Package 199/534HostnameOS / ArchINSTALLBUILDCHECKBUILD BIN
GENESIS 2.29.0  (landing page)
Stephanie M. Gogarten
git_last_commit: 95364f3
git_last_commit_date: 2022-11-08 17:33:01 -0400
nebbiolo1Linux (Ubuntu 22.04.1 LTS) / x86_64  OK    OK    OK  UNNEEDED, same version is already published
Package 200/534HostnameOS / ArchINSTALLBUILDCHECKBUILD BIN
GeneStructureTools 1.19.0  (landing page)
Beth Signal
git_last_commit: bb48912
git_last_commit_date: 2022-11-01 11:17:16 -0400
nebbiolo1Linux (Ubuntu 22.04.1 LTS) / x86_64  OK    OK    OK  UNNEEDED, same version is already published
Package 201/534HostnameOS / ArchINSTALLBUILDCHECKBUILD BIN
genomation 1.31.0  (landing page)
Altuna Akalin , Vedran Franke
git_last_commit: ab5acbd
git_last_commit_date: 2022-11-01 11:10:49 -0400
nebbiolo1Linux (Ubuntu 22.04.1 LTS) / x86_64  OK    OK    WARNINGS  UNNEEDED, same version is already published
Package 202/534HostnameOS / ArchINSTALLBUILDCHECKBUILD BIN
GenomAutomorphism 1.1.3  (landing page)
Robersy Sanchez
git_last_commit: 804b5e3
git_last_commit_date: 2023-02-24 16:05:10 -0400
nebbiolo1Linux (Ubuntu 22.04.1 LTS) / x86_64  OK    OK    OK  UNNEEDED, same version is already published
Package 203/534HostnameOS / ArchINSTALLBUILDCHECKBUILD BIN
genomeIntervals 1.55.0  (landing page)
Julien Gagneur
git_last_commit: 65437b0
git_last_commit_date: 2022-11-01 11:04:21 -0400
nebbiolo1Linux (Ubuntu 22.04.1 LTS) / x86_64  OK    OK    WARNINGS  UNNEEDED, same version is already published
Package 204/534HostnameOS / ArchINSTALLBUILDCHECKBUILD BIN
GenomicAlignments 1.35.1  (landing page)
Hervé Pagès
git_last_commit: 1f8a1c3
git_last_commit_date: 2023-03-08 18:26:20 -0400
nebbiolo1Linux (Ubuntu 22.04.1 LTS) / x86_64  OK    OK    WARNINGS  UNNEEDED, same version is already published
Package 205/534HostnameOS / ArchINSTALLBUILDCHECKBUILD BIN
GenomicDataCommons 1.23.2  (landing page)
Sean Davis
git_last_commit: e0e9824
git_last_commit_date: 2023-01-30 12:51:38 -0400
nebbiolo1Linux (Ubuntu 22.04.1 LTS) / x86_64  OK    ERROR  skipped
Package 206/534HostnameOS / ArchINSTALLBUILDCHECKBUILD BIN
GenomicDistributions 1.7.0  (landing page)
Kristyna Kupkova
git_last_commit: 134b183
git_last_commit_date: 2022-11-01 11:23:45 -0400
nebbiolo1Linux (Ubuntu 22.04.1 LTS) / x86_64  OK    OK    OK  UNNEEDED, same version is already published
Package 207/534HostnameOS / ArchINSTALLBUILDCHECKBUILD BIN
GenomicFeatures 1.51.4  (landing page)
H. Pagès
git_last_commit: c864561
git_last_commit_date: 2022-12-14 21:06:06 -0400
nebbiolo1Linux (Ubuntu 22.04.1 LTS) / x86_64  OK    OK    WARNINGS  UNNEEDED, same version is already published
Package 208/534HostnameOS / ArchINSTALLBUILDCHECKBUILD BIN
GenomicFiles 1.35.1  (landing page)
Bioconductor Package Maintainer
git_last_commit: aeb833c
git_last_commit_date: 2023-03-17 15:01:20 -0400
nebbiolo1Linux (Ubuntu 22.04.1 LTS) / x86_64  OK    OK    WARNINGS  UNNEEDED, same version is already published
Package 209/534HostnameOS / ArchINSTALLBUILDCHECKBUILD BIN
GenomicInteractionNodes 1.3.0  (landing page)
Jianhong Ou
git_last_commit: d333b67
git_last_commit_date: 2022-11-01 11:26:54 -0400
nebbiolo1Linux (Ubuntu 22.04.1 LTS) / x86_64  OK    OK    OK  UNNEEDED, same version is already published
Package 210/534HostnameOS / ArchINSTALLBUILDCHECKBUILD BIN
GenomicInteractions 1.33.0  (landing page)
Liz Ing-Simmons
git_last_commit: 9a34ccf
git_last_commit_date: 2022-11-01 11:10:21 -0400
nebbiolo1Linux (Ubuntu 22.04.1 LTS) / x86_64  OK    OK    OK  UNNEEDED, same version is already published
Package 211/534HostnameOS / ArchINSTALLBUILDCHECKBUILD BIN
GenomicOZone 1.13.0  (landing page)
Hua Zhong, Mingzhou Song
git_last_commit: e628f5b
git_last_commit_date: 2022-11-01 11:20:20 -0400
nebbiolo1Linux (Ubuntu 22.04.1 LTS) / x86_64  OK    OK    OK  UNNEEDED, same version is already published
Package 212/534HostnameOS / ArchINSTALLBUILDCHECKBUILD BIN
GenomicScores 2.11.0  (landing page)
Robert Castelo
git_last_commit: d78fec9
git_last_commit_date: 2022-11-01 11:15:32 -0400
nebbiolo1Linux (Ubuntu 22.04.1 LTS) / x86_64  OK    OK    WARNINGS  UNNEEDED, same version is already published
Package 213/534HostnameOS / ArchINSTALLBUILDCHECKBUILD BIN
GenomicTuples 1.33.0  (landing page)
Peter Hickey
git_last_commit: 2d72eeb
git_last_commit_date: 2022-11-01 11:10:31 -0400
nebbiolo1Linux (Ubuntu 22.04.1 LTS) / x86_64  OK    OK    WARNINGS  UNNEEDED, same version is already published
Package 214/534HostnameOS / ArchINSTALLBUILDCHECKBUILD BIN
genotypeeval 1.31.1  (landing page)
Jennifer Tom
git_last_commit: 579bec6
git_last_commit_date: 2023-02-08 10:31:28 -0400
nebbiolo1Linux (Ubuntu 22.04.1 LTS) / x86_64  OK    OK    ERROR  
Package 215/534HostnameOS / ArchINSTALLBUILDCHECKBUILD BIN
GenVisR 1.31.1  (landing page)
Zachary Skidmore
git_last_commit: f65e33d
git_last_commit_date: 2023-01-16 15:04:04 -0400
nebbiolo1Linux (Ubuntu 22.04.1 LTS) / x86_64  OK    OK    ERROR  
Package 216/534HostnameOS / ArchINSTALLBUILDCHECKBUILD BIN
ggbio 1.47.0  (landing page)
Michael Lawrence
git_last_commit: 45abc27
git_last_commit_date: 2022-11-01 11:06:25 -0400
nebbiolo1Linux (Ubuntu 22.04.1 LTS) / x86_64  OK    OK    WARNINGS  UNNEEDED, same version is already published
Package 217/534HostnameOS / ArchINSTALLBUILDCHECKBUILD BIN
gmapR 1.41.0  (landing page)
Michael Lawrence
git_last_commit: a0fba74
git_last_commit_date: 2023-02-17 08:58:46 -0400
nebbiolo1Linux (Ubuntu 22.04.1 LTS) / x86_64  OK    OK    WARNINGS  UNNEEDED, same version is already published
Package 218/534HostnameOS / ArchINSTALLBUILDCHECKBUILD BIN
gmoviz 1.11.0  (landing page)
Kathleen Zeglinski
git_last_commit: 0739ba9
git_last_commit_date: 2022-11-01 11:21:38 -0400
nebbiolo1Linux (Ubuntu 22.04.1 LTS) / x86_64  OK    OK    OK  UNNEEDED, same version is already published
Package 219/534HostnameOS / ArchINSTALLBUILDCHECKBUILD BIN
GMRP 1.27.0  (landing page)
Yuan-De Tan
git_last_commit: 5af050f
git_last_commit_date: 2022-11-01 11:18:01 -0400
nebbiolo1Linux (Ubuntu 22.04.1 LTS) / x86_64  OK    OK    WARNINGS  UNNEEDED, same version is already published
Package 220/534HostnameOS / ArchINSTALLBUILDCHECKBUILD BIN
GOfuncR 1.19.0  (landing page)
Steffi Grote
git_last_commit: dd2419d
git_last_commit_date: 2022-11-01 11:16:52 -0400
nebbiolo1Linux (Ubuntu 22.04.1 LTS) / x86_64  OK    OK    OK  UNNEEDED, same version is already published
Package 221/534HostnameOS / ArchINSTALLBUILDCHECKBUILD BIN
GOTHiC 1.35.0  (landing page)
Borbala Mifsud
git_last_commit: a97a62c
git_last_commit_date: 2022-11-01 11:20:09 -0400
nebbiolo1Linux (Ubuntu 22.04.1 LTS) / x86_64  OK    OK    OK  UNNEEDED, same version is already published
Package 222/534HostnameOS / ArchINSTALLBUILDCHECKBUILD BIN
GRaNIE 1.3.32  (landing page)
Christian Arnold
git_last_commit: ddf7ae0
git_last_commit_date: 2023-03-10 11:20:50 -0400
nebbiolo1Linux (Ubuntu 22.04.1 LTS) / x86_64  OK    OK    OK  UNNEEDED, same version is already published
Package 223/534HostnameOS / ArchINSTALLBUILDCHECKBUILD BIN
GreyListChIP 1.31.0  (landing page)
Rory Stark
git_last_commit: 6f93742
git_last_commit_date: 2022-11-01 11:11:03 -0400
nebbiolo1Linux (Ubuntu 22.04.1 LTS) / x86_64  OK    OK    ERROR  
Package 224/534HostnameOS / ArchINSTALLBUILDCHECKBUILD BIN
groHMM 1.33.0  (landing page)
Tulip Nandu , W. Lee Kraus
git_last_commit: f2bc9ca
git_last_commit_date: 2022-11-01 11:10:38 -0400
nebbiolo1Linux (Ubuntu 22.04.1 LTS) / x86_64  OK    OK    OK  UNNEEDED, same version is already published
Package 225/534HostnameOS / ArchINSTALLBUILDCHECKBUILD BIN
gtrellis 1.31.1  (landing page)
Zuguang Gu
git_last_commit: 489528b
git_last_commit_date: 2023-03-22 09:41:06 -0400
nebbiolo1Linux (Ubuntu 22.04.1 LTS) / x86_64  OK    OK    OK  UNNEEDED, same version is already published
Package 226/534HostnameOS / ArchINSTALLBUILDCHECKBUILD BIN
GUIDEseq 1.29.4  (landing page)
Lihua Julie Zhu
git_last_commit: a1608c6
git_last_commit_date: 2022-11-21 23:35:38 -0400
nebbiolo1Linux (Ubuntu 22.04.1 LTS) / x86_64  OK    OK    WARNINGS  UNNEEDED, same version is already published
Package 227/534HostnameOS / ArchINSTALLBUILDCHECKBUILD BIN
Guitar 2.15.0  (landing page)
Jia Meng
git_last_commit: 90c0b89
git_last_commit_date: 2022-11-01 11:12:15 -0400
nebbiolo1Linux (Ubuntu 22.04.1 LTS) / x86_64  OK    OK    OK  UNNEEDED, same version is already published
Package 228/534HostnameOS / ArchINSTALLBUILDCHECKBUILD BIN
Gviz 1.43.1  (landing page)
Robert Ivanek
git_last_commit: c60b082
git_last_commit_date: 2023-03-15 06:30:36 -0400
nebbiolo1Linux (Ubuntu 22.04.1 LTS) / x86_64  OK    OK    OK  UNNEEDED, same version is already published
Package 229/534HostnameOS / ArchINSTALLBUILDCHECKBUILD BIN
gwascat 2.31.0  (landing page)
VJ Carey
git_last_commit: 667130c
git_last_commit_date: 2022-11-01 11:06:43 -0400
nebbiolo1Linux (Ubuntu 22.04.1 LTS) / x86_64  OK    OK    OK  UNNEEDED, same version is already published
Package 230/534HostnameOS / ArchINSTALLBUILDCHECKBUILD BIN
h5vc 2.33.0  (landing page)
Paul Theodor Pyl
git_last_commit: a9ce41f
git_last_commit_date: 2022-11-01 11:08:58 -0400
nebbiolo1Linux (Ubuntu 22.04.1 LTS) / x86_64  OK    OK    WARNINGS  UNNEEDED, same version is already published
Package 231/534HostnameOS / ArchINSTALLBUILDCHECKBUILD BIN
heatmaps 1.23.0  (landing page)
Malcolm Perry
git_last_commit: 745e9b9
git_last_commit_date: 2022-11-01 11:15:40 -0400
nebbiolo1Linux (Ubuntu 22.04.1 LTS) / x86_64  OK    OK    OK  UNNEEDED, same version is already published
Package 232/534HostnameOS / ArchINSTALLBUILDCHECKBUILD BIN
HelloRanges 1.25.0  (landing page)
Michael Lawrence
git_last_commit: cd2ba49
git_last_commit_date: 2022-11-01 11:14:42 -0400
nebbiolo1Linux (Ubuntu 22.04.1 LTS) / x86_64  OK    OK    ERROR  
Package 233/534HostnameOS / ArchINSTALLBUILDCHECKBUILD BIN
hermes 1.3.0  (landing page)
Daniel Sabanés Bové
git_last_commit: 48dcdf0
git_last_commit_date: 2022-11-01 11:26:13 -0400
nebbiolo1Linux (Ubuntu 22.04.1 LTS) / x86_64  OK    OK    OK  UNNEEDED, same version is already published
Package 234/534HostnameOS / ArchINSTALLBUILDCHECKBUILD BIN
hiAnnotator 1.33.0  (landing page)
Nirav V Malani
git_last_commit: 4c6e4d4
git_last_commit_date: 2022-11-01 11:09:42 -0400
nebbiolo1Linux (Ubuntu 22.04.1 LTS) / x86_64  OK    OK    OK  UNNEEDED, same version is already published
Package 235/534HostnameOS / ArchINSTALLBUILDCHECKBUILD BIN
HiCBricks 1.17.0  (landing page)
Koustav Pal
git_last_commit: d85dbc7
git_last_commit_date: 2022-11-01 11:18:41 -0400
nebbiolo1Linux (Ubuntu 22.04.1 LTS) / x86_64  OK    OK    OK  UNNEEDED, same version is already published
Package 236/534HostnameOS / ArchINSTALLBUILDCHECKBUILD BIN
HiCcompare 1.21.0  (landing page)
John Stansfield , Mikhail Dozmorov
git_last_commit: e251280
git_last_commit_date: 2022-11-01 11:16:02 -0400
nebbiolo1Linux (Ubuntu 22.04.1 LTS) / x86_64  OK    OK    WARNINGS  UNNEEDED, same version is already published
Package 237/534HostnameOS / ArchINSTALLBUILDCHECKBUILD BIN
HiCDCPlus 1.7.0  (landing page)
Merve Sahin
git_last_commit: 2610977
git_last_commit_date: 2022-11-01 11:24:01 -0400
nebbiolo1Linux (Ubuntu 22.04.1 LTS) / x86_64  OK    OK    OK  UNNEEDED, same version is already published
Package 238/534HostnameOS / ArchINSTALLBUILDCHECKBUILD BIN
HiCDOC 1.1.1  (landing page)
Maigné Élise
git_last_commit: 317e301
git_last_commit_date: 2022-11-30 10:33:16 -0400
nebbiolo1Linux (Ubuntu 22.04.1 LTS) / x86_64  OK    OK    OK  UNNEEDED, same version is already published
Package 239/534HostnameOS / ArchINSTALLBUILDCHECKBUILD BIN
HiCExperiment 0.99.11  (landing page)
Jacques Serizay
git_last_commit: b4055e8
git_last_commit_date: 2023-03-09 04:04:35 -0400
nebbiolo1Linux (Ubuntu 22.04.1 LTS) / x86_64  OK    OK    OK  UNNEEDED, same version is already published
Package 240/534HostnameOS / ArchINSTALLBUILDCHECKBUILD BIN
HiContacts 1.1.3  (landing page)
Jacques Serizay
git_last_commit: 625f84d
git_last_commit_date: 2023-03-22 12:03:15 -0400
nebbiolo1Linux (Ubuntu 22.04.1 LTS) / x86_64  OK    OK    OK  UNNEEDED, same version is already published
Package 241/534HostnameOS / ArchINSTALLBUILDCHECKBUILD BIN
HiCool 0.99.4  (landing page)
Jacques Serizay
git_last_commit: b492acd
git_last_commit_date: 2023-02-16 06:46:56 -0400
nebbiolo1Linux (Ubuntu 22.04.1 LTS) / x86_64  OK    OK    ERROR  
Package 242/534HostnameOS / ArchINSTALLBUILDCHECKBUILD BIN
HilbertCurve 1.29.1  (landing page)
Zuguang Gu
git_last_commit: f8143a5
git_last_commit_date: 2023-03-22 09:38:45 -0400
nebbiolo1Linux (Ubuntu 22.04.1 LTS) / x86_64  OK    OK    OK  UNNEEDED, same version is already published
Package 243/534HostnameOS / ArchINSTALLBUILDCHECKBUILD BIN
HiLDA 1.13.0  (landing page)
Zhi Yang
git_last_commit: 8d91092
git_last_commit_date: 2022-11-01 11:20:14 -0400
nebbiolo1Linux (Ubuntu 22.04.1 LTS) / x86_64  OK    OK    OK  UNNEEDED, same version is already published
Package 244/534HostnameOS / ArchINSTALLBUILDCHECKBUILD BIN
hiReadsProcessor 1.35.0  (landing page)
Nirav V Malani
git_last_commit: 440a53b
git_last_commit_date: 2022-11-01 11:10:10 -0400
nebbiolo1Linux (Ubuntu 22.04.1 LTS) / x86_64  OK    OK    OK  UNNEEDED, same version is already published
Package 245/534HostnameOS / ArchINSTALLBUILDCHECKBUILD BIN
HiTC 1.43.0  (landing page)
Nicolas Servant
git_last_commit: 5ca262b
git_last_commit_date: 2022-11-01 11:06:53 -0400
nebbiolo1Linux (Ubuntu 22.04.1 LTS) / x86_64  OK    OK    WARNINGS  UNNEEDED, same version is already published
Package 246/534HostnameOS / ArchINSTALLBUILDCHECKBUILD BIN
HTSeqGenie 4.29.1  (landing page)
Jens Reeder
git_last_commit: e9b146a
git_last_commit_date: 2023-01-20 12:47:05 -0400
nebbiolo1Linux (Ubuntu 22.04.1 LTS) / x86_64  OK    OK    ERROR  
Package 247/534HostnameOS / ArchINSTALLBUILDCHECKBUILD BIN
hummingbird 1.9.0  (landing page)
Eleni Adam
git_last_commit: 24c79c8
git_last_commit_date: 2022-11-01 11:22:33 -0400
nebbiolo1Linux (Ubuntu 22.04.1 LTS) / x86_64  OK    OK    ERROR  
Package 248/534HostnameOS / ArchINSTALLBUILDCHECKBUILD BIN
icetea 1.17.0  (landing page)
Vivek Bhardwaj
git_last_commit: 52ec073
git_last_commit_date: 2022-11-01 11:18:00 -0400
nebbiolo1Linux (Ubuntu 22.04.1 LTS) / x86_64  OK    ERROR  skipped
Package 249/534HostnameOS / ArchINSTALLBUILDCHECKBUILD BIN
ideal 1.23.0  (landing page)
Federico Marini
git_last_commit: 11a9293
git_last_commit_date: 2023-01-05 09:07:52 -0400
nebbiolo1Linux (Ubuntu 22.04.1 LTS) / x86_64  OK    OK    ERROR  
Package 250/534HostnameOS / ArchINSTALLBUILDCHECKBUILD BIN
IdeoViz 1.35.0  (landing page)
Shraddha Pai
git_last_commit: a358946
git_last_commit_date: 2022-11-01 11:10:27 -0400
nebbiolo1Linux (Ubuntu 22.04.1 LTS) / x86_64  OK    OK    WARNINGS  UNNEEDED, same version is already published
Package 251/534HostnameOS / ArchINSTALLBUILDCHECKBUILD BIN
idr2d 1.13.0  (landing page)
Konstantin Krismer
git_last_commit: 8c8b82b
git_last_commit_date: 2022-11-01 11:20:29 -0400
nebbiolo1Linux (Ubuntu 22.04.1 LTS) / x86_64  OK    OK    OK  UNNEEDED, same version is already published
Package 252/534HostnameOS / ArchINSTALLBUILDCHECKBUILD BIN
igvR 1.19.7  (landing page)
Paul Shannon
git_last_commit: 26e99bd
git_last_commit_date: 2023-03-13 16:58:32 -0400
nebbiolo1Linux (Ubuntu 22.04.1 LTS) / x86_64  OK    OK    WARNINGS  UNNEEDED, same version is already published
Package 253/534HostnameOS / ArchINSTALLBUILDCHECKBUILD BIN
IMAS 1.23.0  (landing page)
Seonggyun Han
git_last_commit: e981ab2
git_last_commit_date: 2022-11-01 11:15:33 -0400
nebbiolo1Linux (Ubuntu 22.04.1 LTS) / x86_64  OK    OK    OK  UNNEEDED, same version is already published
Package 254/534HostnameOS / ArchINSTALLBUILDCHECKBUILD BIN
InPAS 2.7.0  (landing page)
Jianhong Ou
git_last_commit: e85a9a3
git_last_commit_date: 2022-11-01 11:11:19 -0400
nebbiolo1Linux (Ubuntu 22.04.1 LTS) / x86_64  OK    OK    OK  UNNEEDED, same version is already published
Package 255/534HostnameOS / ArchINSTALLBUILDCHECKBUILD BIN
INSPEcT 1.29.0  (landing page)
Stefano de Pretis
git_last_commit: 5409025
git_last_commit_date: 2022-11-01 11:11:51 -0400
nebbiolo1Linux (Ubuntu 22.04.1 LTS) / x86_64  OK    OK    OK  UNNEEDED, same version is already published
Package 256/534HostnameOS / ArchINSTALLBUILDCHECKBUILD BIN
InTAD 1.19.0  (landing page)
Konstantin Okonechnikov
git_last_commit: 7a16804
git_last_commit_date: 2022-11-01 11:17:35 -0400
nebbiolo1Linux (Ubuntu 22.04.1 LTS) / x86_64  OK    OK    OK  UNNEEDED, same version is already published
Package 257/534HostnameOS / ArchINSTALLBUILDCHECKBUILD BIN
intansv 1.39.0  (landing page)
Wen Yao
git_last_commit: 61af505
git_last_commit_date: 2022-11-01 11:08:29 -0400
nebbiolo1Linux (Ubuntu 22.04.1 LTS) / x86_64  OK    OK    OK  UNNEEDED, same version is already published
Package 258/534HostnameOS / ArchINSTALLBUILDCHECKBUILD BIN
InteractionSet 1.27.0  (landing page)
Aaron Lun
git_last_commit: 06a9ff0
git_last_commit_date: 2022-11-01 11:13:35 -0400
nebbiolo1Linux (Ubuntu 22.04.1 LTS) / x86_64  OK    OK    WARNINGS  UNNEEDED, same version is already published
Package 259/534HostnameOS / ArchINSTALLBUILDCHECKBUILD BIN
IntEREst 1.23.10  (landing page)
Ali Oghabian , Mikko Frilander
git_last_commit: af886af
git_last_commit_date: 2023-03-29 06:20:15 -0400
nebbiolo1Linux (Ubuntu 22.04.1 LTS) / x86_64  OK    OK    OK  UNNEEDED, same version is already published
Package 260/534HostnameOS / ArchINSTALLBUILDCHECKBUILD BIN
InterMineR 1.21.0  (landing page)
InterMine Team
git_last_commit: 370319e
git_last_commit_date: 2022-11-01 11:16:18 -0400
nebbiolo1Linux (Ubuntu 22.04.1 LTS) / x86_64  OK    OK    WARNINGS  UNNEEDED, same version is already published
Package 261/534HostnameOS / ArchINSTALLBUILDCHECKBUILD BIN
ipdDb 1.17.0  (landing page)
Steffen Klasberg
git_last_commit: b8c3592
git_last_commit_date: 2022-11-01 11:18:05 -0400
nebbiolo1Linux (Ubuntu 22.04.1 LTS) / x86_64  OK    OK    OK  UNNEEDED, same version is already published
Package 262/534HostnameOS / ArchINSTALLBUILDCHECKBUILD BIN
IsoformSwitchAnalyzeR 1.21.0  (landing page)
Kristoffer Vitting-Seerup
git_last_commit: 76182b8
git_last_commit_date: 2022-11-01 11:15:48 -0400
nebbiolo1Linux (Ubuntu 22.04.1 LTS) / x86_64  OK    ERROR  skipped
Package 263/534HostnameOS / ArchINSTALLBUILDCHECKBUILD BIN
isomiRs 1.27.0  (landing page)
Lorena Pantano
git_last_commit: 940a697
git_last_commit_date: 2022-11-01 11:13:22 -0400
nebbiolo1Linux (Ubuntu 22.04.1 LTS) / x86_64  OK    OK    OK  UNNEEDED, same version is already published
Package 264/534HostnameOS / ArchINSTALLBUILDCHECKBUILD BIN
IVAS 2.19.0  (landing page)
Seonggyun Han
git_last_commit: 48e6abc
git_last_commit_date: 2022-11-01 11:11:02 -0400
nebbiolo1Linux (Ubuntu 22.04.1 LTS) / x86_64  OK    OK    WARNINGS  UNNEEDED, same version is already published
Package 265/534HostnameOS / ArchINSTALLBUILDCHECKBUILD BIN
IWTomics 1.23.0  (landing page)
Marzia A Cremona
git_last_commit: 26ae5d4
git_last_commit_date: 2022-11-01 11:14:53 -0400
nebbiolo1Linux (Ubuntu 22.04.1 LTS) / x86_64  OK    OK    WARNINGS  UNNEEDED, same version is already published
Package 266/534HostnameOS / ArchINSTALLBUILDCHECKBUILD BIN
karyoploteR 1.25.0  (landing page)
Bernat Gel
git_last_commit: 051aa8b
git_last_commit_date: 2022-11-01 11:15:07 -0400
nebbiolo1Linux (Ubuntu 22.04.1 LTS) / x86_64  OK    OK    OK  UNNEEDED, same version is already published
Package 267/534HostnameOS / ArchINSTALLBUILDCHECKBUILD BIN
katdetectr 1.1.3  (landing page)
Daan Hazelaar
git_last_commit: c4ebc99
git_last_commit_date: 2023-03-24 09:48:57 -0400
nebbiolo1Linux (Ubuntu 22.04.1 LTS) / x86_64  OK    OK    ERROR  
Package 268/534HostnameOS / ArchINSTALLBUILDCHECKBUILD BIN
loci2path 1.19.0  (landing page)
Tianlei Xu
git_last_commit: 8c038a5
git_last_commit_date: 2022-11-01 11:16:50 -0400
nebbiolo1Linux (Ubuntu 22.04.1 LTS) / x86_64  OK    OK    OK  UNNEEDED, same version is already published
Package 269/534HostnameOS / ArchINSTALLBUILDCHECKBUILD BIN
LOLA 1.29.0  (landing page)
Nathan Sheffield
git_last_commit: cf3541b
git_last_commit_date: 2022-11-01 11:12:09 -0400
nebbiolo1Linux (Ubuntu 22.04.1 LTS) / x86_64  OK    OK    OK  UNNEEDED, same version is already published
Package 270/534HostnameOS / ArchINSTALLBUILDCHECKBUILD BIN
LoomExperiment 1.17.0  (landing page)
Bioconductor Package Maintainer
git_last_commit: 089ff7e
git_last_commit_date: 2022-11-01 11:18:53 -0400
nebbiolo1Linux (Ubuntu 22.04.1 LTS) / x86_64  OK    OK    OK  UNNEEDED, same version is already published
Package 271/534HostnameOS / ArchINSTALLBUILDCHECKBUILD BIN
lumi 2.51.0  (landing page)
Lei Huang
git_last_commit: 95a906f
git_last_commit_date: 2022-11-01 10:42:41 -0400
nebbiolo1Linux (Ubuntu 22.04.1 LTS) / x86_64  OK    OK    WARNINGS  UNNEEDED, same version is already published
Package 272/534HostnameOS / ArchINSTALLBUILDCHECKBUILD BIN
m6Aboost 1.5.0  (landing page)
You Zhou
git_last_commit: beb7431
git_last_commit_date: 2022-11-01 11:25:12 -0400
nebbiolo1Linux (Ubuntu 22.04.1 LTS) / x86_64  OK    OK    OK  UNNEEDED, same version is already published
Package 273/534HostnameOS / ArchINSTALLBUILDCHECKBUILD BIN
MADSEQ 1.25.0  (landing page)
Yu Kong
git_last_commit: 3fde695
git_last_commit_date: 2022-11-01 11:13:50 -0400
nebbiolo1Linux (Ubuntu 22.04.1 LTS) / x86_64  OK    OK    OK  UNNEEDED, same version is already published
Package 274/534HostnameOS / ArchINSTALLBUILDCHECKBUILD BIN
magpie 0.99.8  (landing page)
Daoyu Duan
git_last_commit: 97f0d92
git_last_commit_date: 2023-03-07 10:58:38 -0400
nebbiolo1Linux (Ubuntu 22.04.1 LTS) / x86_64  OK    OK    ERROR  
Package 275/534HostnameOS / ArchINSTALLBUILDCHECKBUILD BIN
maser 1.17.0  (landing page)
Diogo F.T. Veiga
git_last_commit: 2aacb1a
git_last_commit_date: 2022-11-01 11:17:54 -0400
nebbiolo1Linux (Ubuntu 22.04.1 LTS) / x86_64  OK    OK    OK  UNNEEDED, same version is already published
Package 276/534HostnameOS / ArchINSTALLBUILDCHECKBUILD BIN
MBASED 1.33.0  (landing page)
Oleg Mayba
git_last_commit: 050dd1f
git_last_commit_date: 2022-11-01 11:10:11 -0400
nebbiolo1Linux (Ubuntu 22.04.1 LTS) / x86_64  OK    OK    OK  UNNEEDED, same version is already published
Package 277/534HostnameOS / ArchINSTALLBUILDCHECKBUILD BIN
mCSEA 1.19.0  (landing page)
Jordi Martorell-Marugán
git_last_commit: dae9e6c
git_last_commit_date: 2022-11-01 11:17:00 -0400
nebbiolo1Linux (Ubuntu 22.04.1 LTS) / x86_64  OK    OK    OK  UNNEEDED, same version is already published
Package 278/534HostnameOS / ArchINSTALLBUILDCHECKBUILD BIN
MDTS 1.19.0  (landing page)
Jack M.. Fu
git_last_commit: eb9d47c
git_last_commit_date: 2022-11-01 11:17:17 -0400
nebbiolo1Linux (Ubuntu 22.04.1 LTS) / x86_64  OK    OK    OK  UNNEEDED, same version is already published
Package 279/534HostnameOS / ArchINSTALLBUILDCHECKBUILD BIN
MEAL 1.29.0  (landing page)
Xavier Escribà Montagut
git_last_commit: 1a43140
git_last_commit_date: 2022-11-01 11:12:19 -0400
nebbiolo1Linux (Ubuntu 22.04.1 LTS) / x86_64  OK    OK    WARNINGS  UNNEEDED, same version is already published
Package 280/534HostnameOS / ArchINSTALLBUILDCHECKBUILD BIN
MEDIPS 1.51.0  (landing page)
Lukas Chavez
git_last_commit: b841cb0
git_last_commit_date: 2022-11-01 11:05:24 -0400
nebbiolo1Linux (Ubuntu 22.04.1 LTS) / x86_64  OK    OK    OK  UNNEEDED, same version is already published
Package 281/534HostnameOS / ArchINSTALLBUILDCHECKBUILD BIN
megadepth 1.9.0  (landing page)
David Zhang
git_last_commit: 7af7486
git_last_commit_date: 2022-11-01 11:23:15 -0400
nebbiolo1Linux (Ubuntu 22.04.1 LTS) / x86_64  OK    OK    ERROR  
Package 282/534HostnameOS / ArchINSTALLBUILDCHECKBUILD BIN
Melissa 1.15.0  (landing page)
C. A. Kapourani
git_last_commit: 1bee4e5
git_last_commit_date: 2022-11-01 11:19:12 -0400
nebbiolo1Linux (Ubuntu 22.04.1 LTS) / x86_64  OK    OK    OK  UNNEEDED, same version is already published
Package 283/534HostnameOS / ArchINSTALLBUILDCHECKBUILD BIN
memes 1.7.0  (landing page)
Spencer Nystrom
git_last_commit: 34e0e0f
git_last_commit_date: 2022-11-01 11:24:18 -0400
nebbiolo1Linux (Ubuntu 22.04.1 LTS) / x86_64  OK    ERROR  skipped
Package 284/534HostnameOS / ArchINSTALLBUILDCHECKBUILD BIN
metagene 2.31.0  (landing page)
Charles Joly Beauparlant
git_last_commit: 7597c31
git_last_commit_date: 2022-11-01 11:10:04 -0400
nebbiolo1Linux (Ubuntu 22.04.1 LTS) / x86_64  OK    OK    ERROR  
Package 285/534HostnameOS / ArchINSTALLBUILDCHECKBUILD BIN
metagene2 1.15.1  (landing page)
Eric Fournier
git_last_commit: dc6eff2
git_last_commit_date: 2023-02-06 18:32:07 -0400
nebbiolo1Linux (Ubuntu 22.04.1 LTS) / x86_64  OK    OK    WARNINGS  UNNEEDED, same version is already published
Package 286/534HostnameOS / ArchINSTALLBUILDCHECKBUILD BIN
metaseqR2 1.11.0  (landing page)
Panagiotis Moulos
git_last_commit: 36efa5b
git_last_commit_date: 2022-11-01 11:22:03 -0400
nebbiolo1Linux (Ubuntu 22.04.1 LTS) / x86_64  OK    OK    ERROR  
Package 287/534HostnameOS / ArchINSTALLBUILDCHECKBUILD BIN
MethCP 1.13.0  (landing page)
Boying Gong
git_last_commit: dfe560d
git_last_commit_date: 2022-11-01 11:20:49 -0400
nebbiolo1Linux (Ubuntu 22.04.1 LTS) / x86_64  OK    OK    ERROR  
Package 288/534HostnameOS / ArchINSTALLBUILDCHECKBUILD BIN
methimpute 1.21.0  (landing page)
Aaron Taudt
git_last_commit: 5d8d695
git_last_commit_date: 2022-11-01 11:16:30 -0400
nebbiolo1Linux (Ubuntu 22.04.1 LTS) / x86_64  OK    OK    OK  UNNEEDED, same version is already published
Package 289/534HostnameOS / ArchINSTALLBUILDCHECKBUILD BIN
methInheritSim 1.21.0  (landing page)
Pascal Belleau
git_last_commit: 0f2cecc
git_last_commit_date: 2022-11-01 11:15:46 -0400
nebbiolo1Linux (Ubuntu 22.04.1 LTS) / x86_64  OK    OK    OK  UNNEEDED, same version is already published
Package 290/534HostnameOS / ArchINSTALLBUILDCHECKBUILD BIN
MethReg 1.9.0  (landing page)
Tiago Silva
git_last_commit: e4e95ba
git_last_commit_date: 2022-11-01 11:22:54 -0400
nebbiolo1Linux (Ubuntu 22.04.1 LTS) / x86_64  OK    OK    WARNINGS  UNNEEDED, same version is already published
Package 291/534HostnameOS / ArchINSTALLBUILDCHECKBUILD BIN
methrix 1.13.0  (landing page)
Anand Mayakonda
git_last_commit: 1131980
git_last_commit_date: 2022-11-01 11:20:54 -0400
nebbiolo1Linux (Ubuntu 22.04.1 LTS) / x86_64  OK    OK    ERROR  
Package 292/534HostnameOS / ArchINSTALLBUILDCHECKBUILD BIN
methylCC 1.13.1  (landing page)
Stephanie C. Hicks
git_last_commit: d106ccb
git_last_commit_date: 2022-11-04 21:44:20 -0400
nebbiolo1Linux (Ubuntu 22.04.1 LTS) / x86_64  OK    OK    OK  UNNEEDED, same version is already published
Package 293/534HostnameOS / ArchINSTALLBUILDCHECKBUILD BIN
methylInheritance 1.23.0  (landing page)
Astrid Deschênes
git_last_commit: 4002def
git_last_commit_date: 2022-11-01 11:15:34 -0400
nebbiolo1Linux (Ubuntu 22.04.1 LTS) / x86_64  OK    OK    OK  UNNEEDED, same version is already published
Package 294/534HostnameOS / ArchINSTALLBUILDCHECKBUILD BIN
methylKit 1.25.0  (landing page)
Altuna Akalin , Alexander Gosdschan
git_last_commit: 9fdb2d6
git_last_commit_date: 2022-11-01 11:14:04 -0400
nebbiolo1Linux (Ubuntu 22.04.1 LTS) / x86_64  OK    OK    WARNINGS  UNNEEDED, same version is already published
Package 295/534HostnameOS / ArchINSTALLBUILDCHECKBUILD BIN
methylPipe 1.33.0  (landing page)
Kamal Kishore
git_last_commit: 452179b
git_last_commit_date: 2022-11-01 11:10:12 -0400
nebbiolo1Linux (Ubuntu 22.04.1 LTS) / x86_64  OK    OK    WARNINGS  UNNEEDED, same version is already published
Package 296/534HostnameOS / ArchINSTALLBUILDCHECKBUILD BIN
MethylSeekR 1.39.0  (landing page)
Lukas Burger
git_last_commit: 98c8238
git_last_commit_date: 2022-11-01 11:07:49 -0400
nebbiolo1Linux (Ubuntu 22.04.1 LTS) / x86_64  OK    OK    OK  UNNEEDED, same version is already published
Package 297/534HostnameOS / ArchINSTALLBUILDCHECKBUILD BIN
methylSig 1.11.0  (landing page)
Raymond G. Cavalcante
git_last_commit: 5d89bed
git_last_commit_date: 2022-11-01 11:21:55 -0400
nebbiolo1Linux (Ubuntu 22.04.1 LTS) / x86_64  OK    OK    OK  UNNEEDED, same version is already published
Package 298/534HostnameOS / ArchINSTALLBUILDCHECKBUILD BIN
methylumi 2.45.0  (landing page)
Sean Davis
git_last_commit: bd20f4e
git_last_commit_date: 2022-11-01 11:04:28 -0400
nebbiolo1Linux (Ubuntu 22.04.1 LTS) / x86_64  OK    OK    OK  UNNEEDED, same version is already published
Package 299/534HostnameOS / ArchINSTALLBUILDCHECKBUILD BIN
minfi 1.45.0  (landing page)
Kasper Daniel Hansen
git_last_commit: 748572d
git_last_commit_date: 2022-11-01 11:06:23 -0400
nebbiolo1Linux (Ubuntu 22.04.1 LTS) / x86_64  OK    OK    OK  UNNEEDED, same version is already published
Package 300/534HostnameOS / ArchINSTALLBUILDCHECKBUILD BIN
MinimumDistance 1.43.0  (landing page)
Robert Scharpf
git_last_commit: d0215e7
git_last_commit_date: 2022-11-01 11:06:56 -0400
nebbiolo1Linux (Ubuntu 22.04.1 LTS) / x86_64  OK    OK    WARNINGS  UNNEEDED, same version is already published
Package 301/534HostnameOS / ArchINSTALLBUILDCHECKBUILD BIN
MIRA 1.21.0  (landing page)
John Lawson
git_last_commit: e528412
git_last_commit_date: 2022-11-01 11:16:28 -0400
nebbiolo1Linux (Ubuntu 22.04.1 LTS) / x86_64  OK    OK    OK  UNNEEDED, same version is already published
Package 302/534HostnameOS / ArchINSTALLBUILDCHECKBUILD BIN
missMethyl 1.33.1  (landing page)
Belinda Phipson
git_last_commit: be54308
git_last_commit_date: 2023-03-21 23:34:43 -0400
nebbiolo1Linux (Ubuntu 22.04.1 LTS) / x86_64  OK    OK    TIMEOUT  
Package 303/534HostnameOS / ArchINSTALLBUILDCHECKBUILD BIN
mitoClone2 1.5.0  (landing page)
Benjamin Story
git_last_commit: 6bf20c4
git_last_commit_date: 2022-11-01 11:25:23 -0400
nebbiolo1Linux (Ubuntu 22.04.1 LTS) / x86_64  OK    OK    WARNINGS  UNNEEDED, same version is already published
Package 304/534HostnameOS / ArchINSTALLBUILDCHECKBUILD BIN
MMAPPR2 1.13.0  (landing page)
Jonathon Hill
git_last_commit: 3719f84
git_last_commit_date: 2022-11-01 11:20:05 -0400
nebbiolo1Linux (Ubuntu 22.04.1 LTS) / x86_64  OK    OK    OK  UNNEEDED, same version is already published
Package 305/534HostnameOS / ArchINSTALLBUILDCHECKBUILD BIN
MMDiff2 1.27.0  (landing page)
Gabriele Schweikert
git_last_commit: 3176561
git_last_commit_date: 2022-11-01 11:13:41 -0400
nebbiolo1Linux (Ubuntu 22.04.1 LTS) / x86_64  OK    OK    OK  UNNEEDED, same version is already published
Package 306/534HostnameOS / ArchINSTALLBUILDCHECKBUILD BIN
Modstrings 1.15.0  (landing page)
Felix G.M. Ernst
git_last_commit: 7b67aa9
git_last_commit_date: 2022-11-01 11:19:22 -0400
nebbiolo1Linux (Ubuntu 22.04.1 LTS) / x86_64  OK    OK    OK  UNNEEDED, same version is already published
Package 307/534HostnameOS / ArchINSTALLBUILDCHECKBUILD BIN
monaLisa 1.5.0  (landing page)
Michael Stadler
git_last_commit: e24b24c
git_last_commit_date: 2022-11-01 11:25:44 -0400
nebbiolo1Linux (Ubuntu 22.04.1 LTS) / x86_64  OK    OK    OK  UNNEEDED, same version is already published
Package 308/534HostnameOS / ArchINSTALLBUILDCHECKBUILD BIN
mosaics 2.37.0  (landing page)
Dongjun Chung
git_last_commit: 04a778c
git_last_commit_date: 2022-11-01 11:05:34 -0400
nebbiolo1Linux (Ubuntu 22.04.1 LTS) / x86_64  OK    OK    OK  UNNEEDED, same version is already published
Package 309/534HostnameOS / ArchINSTALLBUILDCHECKBUILD BIN
Motif2Site 1.3.0  (landing page)
Peyman Zarrineh
git_last_commit: b1ab8d3
git_last_commit_date: 2022-11-01 11:26:28 -0400
nebbiolo1Linux (Ubuntu 22.04.1 LTS) / x86_64  OK    OK    OK  UNNEEDED, same version is already published
Package 310/534HostnameOS / ArchINSTALLBUILDCHECKBUILD BIN
motifbreakR 2.13.8  (landing page)
Simon Gert Coetzee
git_last_commit: 098eeb8
git_last_commit_date: 2023-03-24 17:24:09 -0400
nebbiolo1Linux (Ubuntu 22.04.1 LTS) / x86_64  OK    OK    ERROR  
Package 311/534HostnameOS / ArchINSTALLBUILDCHECKBUILD BIN
MotifDb 1.41.0  (landing page)
Paul Shannon
git_last_commit: 113732b
git_last_commit_date: 2022-11-01 11:07:15 -0400
nebbiolo1Linux (Ubuntu 22.04.1 LTS) / x86_64  OK    OK    WARNINGS  UNNEEDED, same version is already published
Package 312/534HostnameOS / ArchINSTALLBUILDCHECKBUILD BIN
motifmatchr 1.21.0  (landing page)
Alicia Schep
git_last_commit: d772875
git_last_commit_date: 2022-11-01 11:15:47 -0400
nebbiolo1Linux (Ubuntu 22.04.1 LTS) / x86_64  OK    OK    OK  UNNEEDED, same version is already published
Package 313/534HostnameOS / ArchINSTALLBUILDCHECKBUILD BIN
MouseFM 1.9.0  (landing page)
Matthias Munz
git_last_commit: d0a7ac7
git_last_commit_date: 2022-11-01 11:26:10 -0400
nebbiolo1Linux (Ubuntu 22.04.1 LTS) / x86_64  OK    OK    OK  UNNEEDED, same version is already published
Package 314/534HostnameOS / ArchINSTALLBUILDCHECKBUILD BIN
MSA2dist 1.3.1  (landing page)
Kristian K Ullrich
git_last_commit: 0cd7903
git_last_commit_date: 2022-11-08 11:21:59 -0400
nebbiolo1Linux (Ubuntu 22.04.1 LTS) / x86_64  OK    OK    OK  UNNEEDED, same version is already published
Package 315/534HostnameOS / ArchINSTALLBUILDCHECKBUILD BIN
msgbsR 1.23.0  (landing page)
Benjamin Mayne
git_last_commit: 642ad30
git_last_commit_date: 2022-11-01 11:15:43 -0400
nebbiolo1Linux (Ubuntu 22.04.1 LTS) / x86_64  OK    OK    OK  UNNEEDED, same version is already published
Package 316/534HostnameOS / ArchINSTALLBUILDCHECKBUILD BIN
MultiAssayExperiment 1.25.7  (landing page)
Marcel Ramos
git_last_commit: adef5f0
git_last_commit_date: 2023-01-24 12:20:38 -0400
nebbiolo1Linux (Ubuntu 22.04.1 LTS) / x86_64  OK    OK    OK  UNNEEDED, same version is already published
Package 317/534HostnameOS / ArchINSTALLBUILDCHECKBUILD BIN
multicrispr 1.9.0  (landing page)
Aditya Bhagwat
git_last_commit: d19c1d3
git_last_commit_date: 2022-11-01 11:22:14 -0400
nebbiolo1Linux (Ubuntu 22.04.1 LTS) / x86_64  OK    OK    OK  UNNEEDED, same version is already published
Package 318/534HostnameOS / ArchINSTALLBUILDCHECKBUILD BIN
MultiDataSet 1.27.0  (landing page)
Xavier Escribà Montagut
git_last_commit: 802f862
git_last_commit_date: 2022-11-01 11:13:37 -0400
nebbiolo1Linux (Ubuntu 22.04.1 LTS) / x86_64  OK    OK    WARNINGS  UNNEEDED, same version is already published
Package 319/534HostnameOS / ArchINSTALLBUILDCHECKBUILD BIN
multiHiCcompare 1.17.0  (landing page)
John Stansfield , Mikhail Dozmorov
git_last_commit: 4c8f411
git_last_commit_date: 2022-11-01 11:18:16 -0400
nebbiolo1Linux (Ubuntu 22.04.1 LTS) / x86_64  OK    OK    OK  UNNEEDED, same version is already published
Package 320/534HostnameOS / ArchINSTALLBUILDCHECKBUILD BIN
MungeSumstats 1.7.19  (landing page)
Alan Murphy
git_last_commit: e47b9b2
git_last_commit_date: 2023-02-21 12:29:32 -0400
nebbiolo1Linux (Ubuntu 22.04.1 LTS) / x86_64  OK    OK    OK  UNNEEDED, same version is already published
Package 321/534HostnameOS / ArchINSTALLBUILDCHECKBUILD BIN
musicatk 1.9.0  (landing page)
Aaron Chevalier
git_last_commit: 69829e2
git_last_commit_date: 2022-11-01 11:23:15 -0400
nebbiolo1Linux (Ubuntu 22.04.1 LTS) / x86_64  OK    OK    OK  NO, package depends on 'TCGAbiolinks' which is not available
Package 322/534HostnameOS / ArchINSTALLBUILDCHECKBUILD BIN
MutationalPatterns 3.9.1  (landing page)
Mark van Roosmalen
git_last_commit: b8898d2
git_last_commit_date: 2023-01-11 01:57:43 -0400
nebbiolo1Linux (Ubuntu 22.04.1 LTS) / x86_64  OK    OK    OK  UNNEEDED, same version is already published
Package 323/534HostnameOS / ArchINSTALLBUILDCHECKBUILD BIN
NADfinder 1.23.0  (landing page)
Jianhong Ou
git_last_commit: 8b9a90e
git_last_commit_date: 2022-11-01 11:15:27 -0400
nebbiolo1Linux (Ubuntu 22.04.1 LTS) / x86_64  OK    OK    OK  UNNEEDED, same version is already published
Package 324/534HostnameOS / ArchINSTALLBUILDCHECKBUILD BIN
NanoMethViz 2.5.3  (landing page)
Shian Su
git_last_commit: e2e552b
git_last_commit_date: 2023-02-13 00:08:27 -0400
nebbiolo1Linux (Ubuntu 22.04.1 LTS) / x86_64  OK    OK    OK  UNNEEDED, same version is already published
Package 325/534HostnameOS / ArchINSTALLBUILDCHECKBUILD BIN
nanotatoR 1.15.0  (landing page)
Surajit Bhattacharya
git_last_commit: 116b210
git_last_commit_date: 2022-11-01 11:19:50 -0400
nebbiolo1Linux (Ubuntu 22.04.1 LTS) / x86_64  OK    OK    OK  UNNEEDED, same version is already published
Package 326/534HostnameOS / ArchINSTALLBUILDCHECKBUILD BIN
ncRNAtools 1.9.0  (landing page)
Lara Selles Vidal
git_last_commit: d8457c9
git_last_commit_date: 2022-11-01 11:22:48 -0400
nebbiolo1Linux (Ubuntu 22.04.1 LTS) / x86_64  OK    OK    OK  UNNEEDED, same version is already published
Package 327/534HostnameOS / ArchINSTALLBUILDCHECKBUILD BIN
nearBynding 1.9.0  (landing page)
Veronica Busa
git_last_commit: 363a190
git_last_commit_date: 2022-11-01 11:22:51 -0400
nebbiolo1Linux (Ubuntu 22.04.1 LTS) / x86_64  OK    OK    OK  UNNEEDED, same version is already published
Package 328/534HostnameOS / ArchINSTALLBUILDCHECKBUILD BIN
netDx 1.11.0  (landing page)
Shraddha Pai
git_last_commit: 8c4d284
git_last_commit_date: 2023-02-23 10:04:25 -0400
nebbiolo1Linux (Ubuntu 22.04.1 LTS) / x86_64  OK    OK    TIMEOUT  
Package 329/534HostnameOS / ArchINSTALLBUILDCHECKBUILD BIN
NoRCE 1.11.0  (landing page)
Gulden Olgun
git_last_commit: 0258bbc
git_last_commit_date: 2022-11-01 11:21:35 -0400
nebbiolo1Linux (Ubuntu 22.04.1 LTS) / x86_64  OK    OK    OK  UNNEEDED, same version is already published
Package 330/534HostnameOS / ArchINSTALLBUILDCHECKBUILD BIN
normr 1.25.0  (landing page)
Johannes Helmuth
git_last_commit: 60c3267
git_last_commit_date: 2022-11-01 11:13:56 -0400
nebbiolo1Linux (Ubuntu 22.04.1 LTS) / x86_64  OK    OK    WARNINGS  UNNEEDED, same version is already published
Package 331/534HostnameOS / ArchINSTALLBUILDCHECKBUILD BIN
nucleR 2.31.0  (landing page)
Alba Sala
git_last_commit: b03e676
git_last_commit_date: 2022-11-01 11:06:05 -0400
nebbiolo1Linux (Ubuntu 22.04.1 LTS) / x86_64  OK    OK    WARNINGS  UNNEEDED, same version is already published
Package 332/534HostnameOS / ArchINSTALLBUILDCHECKBUILD BIN
nullranges 1.5.18  (landing page)
Michael Love
git_last_commit: 47e426d
git_last_commit_date: 2023-03-22 08:17:41 -0400
nebbiolo1Linux (Ubuntu 22.04.1 LTS) / x86_64  OK    OK    OK  UNNEEDED, same version is already published
Package 333/534HostnameOS / ArchINSTALLBUILDCHECKBUILD BIN
NxtIRFcore 1.5.1  (landing page)
Alex Chit Hei Wong
git_last_commit: 19af033
git_last_commit_date: 2023-03-27 08:18:08 -0400
nebbiolo1Linux (Ubuntu 22.04.1 LTS) / x86_64  OK    OK    WARNINGS  UNNEEDED, same version is already published
Package 334/534HostnameOS / ArchINSTALLBUILDCHECKBUILD BIN
ODER 1.5.0  (landing page)
David Zhang
git_last_commit: 0803904
git_last_commit_date: 2022-11-01 11:25:49 -0400
nebbiolo1Linux (Ubuntu 22.04.1 LTS) / x86_64  OK    OK    OK  UNNEEDED, same version is already published
Package 335/534HostnameOS / ArchINSTALLBUILDCHECKBUILD BIN
OGRE 1.3.0  (landing page)
Sven Berres
git_last_commit: aa1c0b1
git_last_commit_date: 2023-01-30 14:20:24 -0400
nebbiolo1Linux (Ubuntu 22.04.1 LTS) / x86_64  OK    OK    OK  UNNEEDED, same version is already published
Package 336/534HostnameOS / ArchINSTALLBUILDCHECKBUILD BIN
oligoClasses 1.61.0  (landing page)
Benilton Carvalho and Robert Scharpf
git_last_commit: 65d0f5c
git_last_commit_date: 2022-11-01 11:03:35 -0400
nebbiolo1Linux (Ubuntu 22.04.1 LTS) / x86_64  OK    OK    WARNINGS  UNNEEDED, same version is already published
Package 337/534HostnameOS / ArchINSTALLBUILDCHECKBUILD BIN
OmaDB 2.15.0  (landing page)
Klara Kaleb , Adrian Altenhoff
git_last_commit: b350e72
git_last_commit_date: 2022-11-01 11:16:49 -0400
nebbiolo1Linux (Ubuntu 22.04.1 LTS) / x86_64  OK    OK    OK  UNNEEDED, same version is already published
Package 338/534HostnameOS / ArchINSTALLBUILDCHECKBUILD BIN
OmicCircos 1.37.0  (landing page)
Ying Hu
git_last_commit: 0ead891
git_last_commit_date: 2022-11-01 11:08:26 -0400
nebbiolo1Linux (Ubuntu 22.04.1 LTS) / x86_64  OK    OK    WARNINGS  UNNEEDED, same version is already published
Package 339/534HostnameOS / ArchINSTALLBUILDCHECKBUILD BIN
oncoscanR 1.1.0  (landing page)
Yann Christinat
git_last_commit: bcfc7f0
git_last_commit_date: 2022-11-01 11:27:22 -0400
nebbiolo1Linux (Ubuntu 22.04.1 LTS) / x86_64  OK    OK    ERROR  
Package 340/534HostnameOS / ArchINSTALLBUILDCHECKBUILD BIN
openPrimeR 1.21.0  (landing page)
Matthias Döring
git_last_commit: 18b4ee4
git_last_commit_date: 2022-11-01 11:16:20 -0400
nebbiolo1Linux (Ubuntu 22.04.1 LTS) / x86_64  OK    OK    OK  UNNEEDED, same version is already published
Package 341/534HostnameOS / ArchINSTALLBUILDCHECKBUILD BIN
ORFik 1.19.8  (landing page)
Haakon Tjeldnes
git_last_commit: 7d13ceb
git_last_commit_date: 2023-03-23 10:21:25 -0400
nebbiolo1Linux (Ubuntu 22.04.1 LTS) / x86_64  OK    ERROR  skipped
Package 342/534HostnameOS / ArchINSTALLBUILDCHECKBUILD BIN
Organism.dplyr 1.27.2  (landing page)
Martin Morgan
git_last_commit: 4b09dd2
git_last_commit_date: 2023-03-27 16:58:32 -0400
nebbiolo1Linux (Ubuntu 22.04.1 LTS) / x86_64  OK    OK    OK  UNNEEDED, same version is already published
Package 343/534HostnameOS / ArchINSTALLBUILDCHECKBUILD BIN
OrganismDbi 1.41.0  (landing page)
Bioconductor Package Maintainer
git_last_commit: 784ff35
git_last_commit_date: 2022-11-01 11:07:19 -0400
nebbiolo1Linux (Ubuntu 22.04.1 LTS) / x86_64  OK    OK    WARNINGS  UNNEEDED, same version is already published
Package 344/534HostnameOS / ArchINSTALLBUILDCHECKBUILD BIN
OUTRIDER 1.17.1  (landing page)
Christian Mertes
git_last_commit: 689b51d
git_last_commit_date: 2023-01-05 16:00:16 -0400
nebbiolo1Linux (Ubuntu 22.04.1 LTS) / x86_64  OK    OK    OK  UNNEEDED, same version is already published
Package 345/534HostnameOS / ArchINSTALLBUILDCHECKBUILD BIN
packFinder 1.11.0  (landing page)
Jack Gisby
git_last_commit: 10423f0
git_last_commit_date: 2022-11-01 11:21:11 -0400
nebbiolo1Linux (Ubuntu 22.04.1 LTS) / x86_64  OK    OK    OK  UNNEEDED, same version is already published
Package 346/534HostnameOS / ArchINSTALLBUILDCHECKBUILD BIN
pageRank 1.9.0  (landing page)
Hongxu Ding
git_last_commit: 671e4c3
git_last_commit_date: 2022-11-01 11:22:53 -0400
nebbiolo1Linux (Ubuntu 22.04.1 LTS) / x86_64  OK    OK    OK  UNNEEDED, same version is already published
Package 347/534HostnameOS / ArchINSTALLBUILDCHECKBUILD BIN
panelcn.mops 1.21.0  (landing page)
Gundula Povysil
git_last_commit: fdf0d20
git_last_commit_date: 2022-11-01 11:16:24 -0400
nebbiolo1Linux (Ubuntu 22.04.1 LTS) / x86_64  OK    OK    OK  UNNEEDED, same version is already published
Package 348/534HostnameOS / ArchINSTALLBUILDCHECKBUILD BIN
PAST 1.15.0  (landing page)
Thrash Adam
git_last_commit: df62666
git_last_commit_date: 2022-11-01 11:19:58 -0400
nebbiolo1Linux (Ubuntu 22.04.1 LTS) / x86_64  OK    OK    WARNINGS  UNNEEDED, same version is already published
Package 349/534HostnameOS / ArchINSTALLBUILDCHECKBUILD BIN
pcaExplorer 2.25.0  (landing page)
Federico Marini
git_last_commit: 05d71e7
git_last_commit_date: 2022-11-03 10:03:12 -0400
nebbiolo1Linux (Ubuntu 22.04.1 LTS) / x86_64  OK    OK    ERROR  
Package 350/534HostnameOS / ArchINSTALLBUILDCHECKBUILD BIN
pepStat 1.33.0  (landing page)
Gregory C Imholte
git_last_commit: 6c4193f
git_last_commit_date: 2022-11-01 11:09:54 -0400
nebbiolo1Linux (Ubuntu 22.04.1 LTS) / x86_64  OK    OK    OK  UNNEEDED, same version is already published
Package 351/534HostnameOS / ArchINSTALLBUILDCHECKBUILD BIN
periodicDNA 1.9.0  (landing page)
Jacques Serizay
git_last_commit: cab0084
git_last_commit_date: 2022-11-01 15:41:21 -0400
nebbiolo1Linux (Ubuntu 22.04.1 LTS) / x86_64  OK    OK    WARNINGS  UNNEEDED, same version is already published
Package 352/534HostnameOS / ArchINSTALLBUILDCHECKBUILD BIN
PhIPData 1.7.0  (landing page)
Athena Chen
git_last_commit: 076c043
git_last_commit_date: 2022-11-01 11:24:09 -0400
nebbiolo1Linux (Ubuntu 22.04.1 LTS) / x86_64  OK    OK    OK  UNNEEDED, same version is already published
Package 353/534HostnameOS / ArchINSTALLBUILDCHECKBUILD BIN
Pi 2.11.0  (landing page)
Hai Fang
git_last_commit: 9bee510
git_last_commit_date: 2022-11-01 11:14:29 -0400
nebbiolo1Linux (Ubuntu 22.04.1 LTS) / x86_64  OK    OK    WARNINGS  UNNEEDED, same version is already published
Package 354/534HostnameOS / ArchINSTALLBUILDCHECKBUILD BIN
PICS 2.43.0  (landing page)
Renan Sauteraud
git_last_commit: cab2528
git_last_commit_date: 2022-11-01 11:05:01 -0400
nebbiolo1Linux (Ubuntu 22.04.1 LTS) / x86_64  OK    OK    OK  UNNEEDED, same version is already published
Package 355/534HostnameOS / ArchINSTALLBUILDCHECKBUILD BIN
PING 2.43.0  (landing page)
Renan Sauteraud
git_last_commit: 8b3b206
git_last_commit_date: 2022-11-01 11:06:44 -0400
nebbiolo1Linux (Ubuntu 22.04.1 LTS) / x86_64  OK    OK    WARNINGS  UNNEEDED, same version is already published
Package 356/534HostnameOS / ArchINSTALLBUILDCHECKBUILD BIN
plyranges 1.19.0  (landing page)
Stuart Lee
git_last_commit: 932ef74
git_last_commit_date: 2022-11-01 11:17:28 -0400
nebbiolo1Linux (Ubuntu 22.04.1 LTS) / x86_64  OK    OK    WARNINGS  UNNEEDED, same version is already published
Package 357/534HostnameOS / ArchINSTALLBUILDCHECKBUILD BIN
podkat 1.31.1  (landing page)
Ulrich Bodenhofer
git_last_commit: e370b8f
git_last_commit_date: 2022-11-16 10:18:43 -0400
nebbiolo1Linux (Ubuntu 22.04.1 LTS) / x86_64  OK    OK    WARNINGS  UNNEEDED, same version is already published
Package 358/534HostnameOS / ArchINSTALLBUILDCHECKBUILD BIN
pqsfinder 2.15.1  (landing page)
Jiri Hon
git_last_commit: c95179a
git_last_commit_date: 2023-01-01 11:14:35 -0400
nebbiolo1Linux (Ubuntu 22.04.1 LTS) / x86_64  OK    OK    WARNINGS  UNNEEDED, same version is already published
Package 359/534HostnameOS / ArchINSTALLBUILDCHECKBUILD BIN
pram 1.15.0  (landing page)
Peng Liu
git_last_commit: 00f64b5
git_last_commit_date: 2022-11-01 11:19:24 -0400
nebbiolo1Linux (Ubuntu 22.04.1 LTS) / x86_64  OK    OK    OK  UNNEEDED, same version is already published
Package 360/534HostnameOS / ArchINSTALLBUILDCHECKBUILD BIN
prebs 1.39.0  (landing page)
Karolis Uziela
git_last_commit: 4e05358
git_last_commit_date: 2022-11-01 11:08:10 -0400
nebbiolo1Linux (Ubuntu 22.04.1 LTS) / x86_64  OK    OK    OK  UNNEEDED, same version is already published
Package 361/534HostnameOS / ArchINSTALLBUILDCHECKBUILD BIN
preciseTAD 1.9.0  (landing page)
Mikhail Dozmorov
git_last_commit: 7bd32e9
git_last_commit_date: 2022-11-01 11:22:52 -0400
nebbiolo1Linux (Ubuntu 22.04.1 LTS) / x86_64  OK    OK    OK  UNNEEDED, same version is already published
Package 362/534HostnameOS / ArchINSTALLBUILDCHECKBUILD BIN
PrecisionTrialDrawer 1.15.1  (landing page)
Giorgio Melloni
git_last_commit: befc1f7
git_last_commit_date: 2023-01-25 10:39:45 -0400
nebbiolo1Linux (Ubuntu 22.04.1 LTS) / x86_64  OK    ERROR  skipped
Package 363/534HostnameOS / ArchINSTALLBUILDCHECKBUILD BIN
primirTSS 1.17.0  (landing page)
Pumin Li
git_last_commit: a09f41c
git_last_commit_date: 2022-11-01 11:18:23 -0400
nebbiolo1Linux (Ubuntu 22.04.1 LTS) / x86_64  OK    OK    WARNINGS  UNNEEDED, same version is already published
Package 364/534HostnameOS / ArchINSTALLBUILDCHECKBUILD BIN
proActiv 1.9.0  (landing page)
Joseph Lee
git_last_commit: dc9befb
git_last_commit_date: 2022-11-01 11:22:49 -0400
nebbiolo1Linux (Ubuntu 22.04.1 LTS) / x86_64  OK    OK    OK  UNNEEDED, same version is already published
Package 365/534HostnameOS / ArchINSTALLBUILDCHECKBUILD BIN
proBAMr 1.33.0  (landing page)
Xiaojing Wang
git_last_commit: 7561f04
git_last_commit_date: 2022-11-01 11:10:28 -0400
nebbiolo1Linux (Ubuntu 22.04.1 LTS) / x86_64  OK    OK    OK  UNNEEDED, same version is already published
Package 366/534HostnameOS / ArchINSTALLBUILDCHECKBUILD BIN
profileplyr 1.15.1  (landing page)
Tom Carroll , Doug Barrows
git_last_commit: 137a606
git_last_commit_date: 2023-01-18 16:17:51 -0400
nebbiolo1Linux (Ubuntu 22.04.1 LTS) / x86_64  OK    OK    OK  UNNEEDED, same version is already published
Package 367/534HostnameOS / ArchINSTALLBUILDCHECKBUILD BIN
ProteoDisco 1.5.0  (landing page)
Job van Riet
git_last_commit: b1a2ab6
git_last_commit_date: 2022-11-01 11:25:34 -0400
nebbiolo1Linux (Ubuntu 22.04.1 LTS) / x86_64  OK    OK    WARNINGS  UNNEEDED, same version is already published
Package 368/534HostnameOS / ArchINSTALLBUILDCHECKBUILD BIN
PureCN 2.5.0  (landing page)
Markus Riester
git_last_commit: 7d7d59b
git_last_commit_date: 2022-11-01 11:13:36 -0400
nebbiolo1Linux (Ubuntu 22.04.1 LTS) / x86_64  OK    OK    OK  UNNEEDED, same version is already published
Package 369/534HostnameOS / ArchINSTALLBUILDCHECKBUILD BIN
Pviz 1.33.0  (landing page)
Renan Sauteraud
git_last_commit: daeec52
git_last_commit_date: 2022-11-01 11:09:55 -0400
nebbiolo1Linux (Ubuntu 22.04.1 LTS) / x86_64  OK    OK    WARNINGS  UNNEEDED, same version is already published
Package 370/534HostnameOS / ArchINSTALLBUILDCHECKBUILD BIN
pwOmics 1.31.0  (landing page)
Maren Sitte
git_last_commit: aa14525
git_last_commit_date: 2022-11-01 11:11:40 -0400
nebbiolo1Linux (Ubuntu 22.04.1 LTS) / x86_64  OK    OK    ERROR  
Package 371/534HostnameOS / ArchINSTALLBUILDCHECKBUILD BIN
QDNAseq 1.35.0  (landing page)
Daoud Sie
git_last_commit: 743de98
git_last_commit_date: 2022-11-01 11:09:22 -0400
nebbiolo1Linux (Ubuntu 22.04.1 LTS) / x86_64  OK    OK    OK  UNNEEDED, same version is already published
Package 372/534HostnameOS / ArchINSTALLBUILDCHECKBUILD BIN
qpgraph 2.33.0  (landing page)
Robert Castelo
git_last_commit: 35ee6f1
git_last_commit_date: 2022-11-01 11:04:16 -0400
nebbiolo1Linux (Ubuntu 22.04.1 LTS) / x86_64  OK    OK    WARNINGS  UNNEEDED, same version is already published
Package 373/534HostnameOS / ArchINSTALLBUILDCHECKBUILD BIN
qsea 1.25.1  (landing page)
Matthias Lienhard
git_last_commit: 3cdd22d
git_last_commit_date: 2023-03-22 07:20:21 -0400
nebbiolo1Linux (Ubuntu 22.04.1 LTS) / x86_64  OK    OK    OK  UNNEEDED, same version is already published
Package 374/534HostnameOS / ArchINSTALLBUILDCHECKBUILD BIN
Qtlizer 1.13.0  (landing page)
Matthias Munz
git_last_commit: bfb70a9
git_last_commit_date: 2022-11-01 11:20:28 -0400
nebbiolo1Linux (Ubuntu 22.04.1 LTS) / x86_64  OK    OK    OK  UNNEEDED, same version is already published
Package 375/534HostnameOS / ArchINSTALLBUILDCHECKBUILD BIN
QuasR 1.39.2  (landing page)
Michael Stadler
git_last_commit: cd52416
git_last_commit_date: 2023-01-27 11:17:31 -0400
nebbiolo1Linux (Ubuntu 22.04.1 LTS) / x86_64  OK    OK    WARNINGS  UNNEEDED, same version is already published
Package 376/534HostnameOS / ArchINSTALLBUILDCHECKBUILD BIN
R3CPET 1.31.0  (landing page)
Mohamed Nadhir Djekidel
git_last_commit: 87e69cc
git_last_commit_date: 2022-11-01 11:11:36 -0400
nebbiolo1Linux (Ubuntu 22.04.1 LTS) / x86_64  OK    OK    WARNINGS  UNNEEDED, same version is already published
Package 377/534HostnameOS / ArchINSTALLBUILDCHECKBUILD BIN
r3Cseq 1.45.0  (landing page)
Supat Thongjuea or
git_last_commit: c39e8b0
git_last_commit_date: 2022-11-01 11:06:25 -0400
nebbiolo1Linux (Ubuntu 22.04.1 LTS) / x86_64  OK    OK    OK  UNNEEDED, same version is already published
Package 378/534HostnameOS / ArchINSTALLBUILDCHECKBUILD BIN
R453Plus1Toolbox 1.49.0  (landing page)
Hans-Ulrich Klein
git_last_commit: 7b302c5
git_last_commit_date: 2022-11-01 11:05:23 -0400
nebbiolo1Linux (Ubuntu 22.04.1 LTS) / x86_64  OK    OK    OK  UNNEEDED, same version is already published
Package 379/534HostnameOS / ArchINSTALLBUILDCHECKBUILD BIN
RaggedExperiment 1.23.0  (landing page)
Marcel Ramos
git_last_commit: 283f9dd
git_last_commit_date: 2022-11-01 11:15:30 -0400
nebbiolo1Linux (Ubuntu 22.04.1 LTS) / x86_64  OK    OK    ERROR  
Package 380/534HostnameOS / ArchINSTALLBUILDCHECKBUILD BIN
ramr 1.7.0  (landing page)
Oleksii Nikolaienko
git_last_commit: 0a492b4
git_last_commit_date: 2022-11-01 11:23:46 -0400
nebbiolo1Linux (Ubuntu 22.04.1 LTS) / x86_64  OK    OK    OK  UNNEEDED, same version is already published
Package 381/534HostnameOS / ArchINSTALLBUILDCHECKBUILD BIN
RareVariantVis 2.27.0  (landing page)
Tomasz Stokowy
git_last_commit: cf766a6
git_last_commit_date: 2022-11-01 11:11:46 -0400
nebbiolo1Linux (Ubuntu 22.04.1 LTS) / x86_64  OK    OK    OK  UNNEEDED, same version is already published
Package 382/534HostnameOS / ArchINSTALLBUILDCHECKBUILD BIN
RCAS 1.25.0  (landing page)
Bora Uyar
git_last_commit: 3ba35cb
git_last_commit_date: 2022-11-01 11:14:07 -0400
nebbiolo1Linux (Ubuntu 22.04.1 LTS) / x86_64  OK    OK    ERROR  
Package 383/534HostnameOS / ArchINSTALLBUILDCHECKBUILD BIN
rCGH 1.29.0  (landing page)
Frederic Commo
git_last_commit: f152ae6
git_last_commit_date: 2022-11-01 11:11:54 -0400
nebbiolo1Linux (Ubuntu 22.04.1 LTS) / x86_64  OK    OK    OK  UNNEEDED, same version is already published
Package 384/534HostnameOS / ArchINSTALLBUILDCHECKBUILD BIN
RcisTarget 1.19.2  (landing page)
Sara Aibar
git_last_commit: 33623d4
git_last_commit_date: 2022-12-01 10:36:14 -0400
nebbiolo1Linux (Ubuntu 22.04.1 LTS) / x86_64  OK    OK    ERROR  
Package 385/534HostnameOS / ArchINSTALLBUILDCHECKBUILD BIN
recount 1.25.1  (landing page)
Leonardo Collado-Torres
git_last_commit: a01c094
git_last_commit_date: 2023-03-10 09:34:25 -0400
nebbiolo1Linux (Ubuntu 22.04.1 LTS) / x86_64  OK    OK    OK  UNNEEDED, same version is already published
Package 386/534HostnameOS / ArchINSTALLBUILDCHECKBUILD BIN
recount3 1.9.1  (landing page)
Leonardo Collado-Torres
git_last_commit: 7c4e68e
git_last_commit_date: 2023-01-11 12:20:44 -0400
nebbiolo1Linux (Ubuntu 22.04.1 LTS) / x86_64  OK    OK    ERROR  
Package 387/534HostnameOS / ArchINSTALLBUILDCHECKBUILD BIN
recoup 1.27.0  (landing page)
Panagiotis Moulos
git_last_commit: 8e93a69
git_last_commit_date: 2022-11-01 11:13:20 -0400
nebbiolo1Linux (Ubuntu 22.04.1 LTS) / x86_64  OK    OK    OK  UNNEEDED, same version is already published
Package 388/534HostnameOS / ArchINSTALLBUILDCHECKBUILD BIN
regioneR 1.31.0  (landing page)
Bernat Gel
git_last_commit: 42495d1
git_last_commit_date: 2022-11-01 11:11:26 -0400
nebbiolo1Linux (Ubuntu 22.04.1 LTS) / x86_64  OK    OK    WARNINGS  UNNEEDED, same version is already published
Package 389/534HostnameOS / ArchINSTALLBUILDCHECKBUILD BIN
regionReport 1.33.0  (landing page)
Leonardo Collado-Torres
git_last_commit: 50b8940
git_last_commit_date: 2022-11-01 11:10:26 -0400
nebbiolo1Linux (Ubuntu 22.04.1 LTS) / x86_64  OK    OK    OK  UNNEEDED, same version is already published
Package 390/534HostnameOS / ArchINSTALLBUILDCHECKBUILD BIN
regutools 1.11.0  (landing page)
Joselyn Chavez
git_last_commit: cdbd584
git_last_commit_date: 2022-11-01 11:22:01 -0400
nebbiolo1Linux (Ubuntu 22.04.1 LTS) / x86_64  OK    OK    OK  UNNEEDED, same version is already published
Package 391/534HostnameOS / ArchINSTALLBUILDCHECKBUILD BIN
REMP 1.23.0  (landing page)
Yinan Zheng
git_last_commit: d2728d0
git_last_commit_date: 2022-11-01 11:15:10 -0400
nebbiolo1Linux (Ubuntu 22.04.1 LTS) / x86_64  OK    OK    OK  UNNEEDED, same version is already published
Package 392/534HostnameOS / ArchINSTALLBUILDCHECKBUILD BIN
Repitools 1.45.0  (landing page)
Mark Robinson
git_last_commit: 0b1a124
git_last_commit_date: 2022-11-01 11:06:01 -0400
nebbiolo1Linux (Ubuntu 22.04.1 LTS) / x86_64  OK    OK    WARNINGS  UNNEEDED, same version is already published
Package 393/534HostnameOS / ArchINSTALLBUILDCHECKBUILD BIN
RepViz 1.15.0  (landing page)
Thomas Faux, Asta Laiho
git_last_commit: 21837d4
git_last_commit_date: 2022-11-01 11:19:41 -0400
nebbiolo1Linux (Ubuntu 22.04.1 LTS) / x86_64  OK    OK    WARNINGS  UNNEEDED, same version is already published
Package 394/534HostnameOS / ArchINSTALLBUILDCHECKBUILD BIN
RESOLVE 1.1.0  (landing page)
Luca De Sano
git_last_commit: 159ed37
git_last_commit_date: 2022-11-01 11:27:44 -0400
nebbiolo1Linux (Ubuntu 22.04.1 LTS) / x86_64  OK    OK    OK  UNNEEDED, same version is already published
Package 395/534HostnameOS / ArchINSTALLBUILDCHECKBUILD BIN
rfPred 1.37.0  (landing page)
Hugo Varet
git_last_commit: 6a7a600
git_last_commit_date: 2022-11-01 11:08:32 -0400
nebbiolo1Linux (Ubuntu 22.04.1 LTS) / x86_64  OK    OK    OK  UNNEEDED, same version is already published
Package 396/534HostnameOS / ArchINSTALLBUILDCHECKBUILD BIN
rGADEM 2.47.0  (landing page)
Arnaud Droit
git_last_commit: d3e9d1d
git_last_commit_date: 2022-11-01 11:04:51 -0400
nebbiolo1Linux (Ubuntu 22.04.1 LTS) / x86_64  OK    OK    OK  UNNEEDED, same version is already published
Package 397/534HostnameOS / ArchINSTALLBUILDCHECKBUILD BIN
RGMQL 1.19.0  (landing page)
Simone Pallotta
git_last_commit: 2d792c7
git_last_commit_date: 2022-11-01 11:16:57 -0400
nebbiolo1Linux (Ubuntu 22.04.1 LTS) / x86_64  OK    OK    WARNINGS  UNNEEDED, same version is already published
Package 398/534HostnameOS / ArchINSTALLBUILDCHECKBUILD BIN
RgnTX 1.1.0  (landing page)
Yue Wang
git_last_commit: cbac260
git_last_commit_date: 2022-11-01 11:27:09 -0400
nebbiolo1Linux (Ubuntu 22.04.1 LTS) / x86_64  OK    OK    OK  UNNEEDED, same version is already published
Package 399/534HostnameOS / ArchINSTALLBUILDCHECKBUILD BIN
rGREAT 2.1.6  (landing page)
Zuguang Gu
git_last_commit: 5ad0699
git_last_commit_date: 2023-03-25 12:13:23 -0400
nebbiolo1Linux (Ubuntu 22.04.1 LTS) / x86_64  OK    ERROR  skipped
Package 400/534HostnameOS / ArchINSTALLBUILDCHECKBUILD BIN
Rhisat2 1.15.0  (landing page)
Charlotte Soneson
git_last_commit: e092493
git_last_commit_date: 2022-12-09 03:48:41 -0400
nebbiolo1Linux (Ubuntu 22.04.1 LTS) / x86_64  OK    OK    WARNINGS  UNNEEDED, same version is already published
Package 401/534HostnameOS / ArchINSTALLBUILDCHECKBUILD BIN
RiboCrypt 1.5.0  (landing page)
Michal Swirski
git_last_commit: 4766276
git_last_commit_date: 2022-11-01 11:26:05 -0400
nebbiolo1Linux (Ubuntu 22.04.1 LTS) / x86_64  OK    OK    OK  UNNEEDED, same version is already published
Package 402/534HostnameOS / ArchINSTALLBUILDCHECKBUILD BIN
RiboDiPA 1.7.0  (landing page)
Ji-Ping Wang
git_last_commit: bc4e531
git_last_commit_date: 2022-11-01 11:23:51 -0400
nebbiolo1Linux (Ubuntu 22.04.1 LTS) / x86_64  OK    OK    OK  UNNEEDED, same version is already published
Package 403/534HostnameOS / ArchINSTALLBUILDCHECKBUILD BIN
RiboProfiling 1.29.0  (landing page)
A. Popa
git_last_commit: fadaf0d
git_last_commit_date: 2022-11-01 11:12:25 -0400
nebbiolo1Linux (Ubuntu 22.04.1 LTS) / x86_64  OK    OK    WARNINGS  UNNEEDED, same version is already published
Package 404/534HostnameOS / ArchINSTALLBUILDCHECKBUILD BIN
riboSeqR 1.33.0  (landing page)
Thomas J. Hardcastle
git_last_commit: 955574d
git_last_commit_date: 2022-11-01 11:09:52 -0400
nebbiolo1Linux (Ubuntu 22.04.1 LTS) / x86_64  OK    OK    OK  NO, package depends on 'baySeq' which is not available
Package 405/534HostnameOS / ArchINSTALLBUILDCHECKBUILD BIN
ribosomeProfilingQC 1.11.1  (landing page)
Jianhong Ou
git_last_commit: 04d805b
git_last_commit_date: 2023-03-16 13:52:00 -0400
nebbiolo1Linux (Ubuntu 22.04.1 LTS) / x86_64  OK    OK    OK  UNNEEDED, same version is already published
Package 406/534HostnameOS / ArchINSTALLBUILDCHECKBUILD BIN
RIPAT 1.9.0  (landing page)
Min-Jeong Baek
git_last_commit: f200d28
git_last_commit_date: 2022-11-01 11:22:40 -0400
nebbiolo1Linux (Ubuntu 22.04.1 LTS) / x86_64  OK    OK    ERROR  
Package 407/534HostnameOS / ArchINSTALLBUILDCHECKBUILD BIN
RJMCMCNucleosomes 1.23.0  (landing page)
Astrid Deschênes
git_last_commit: 67b5aab
git_last_commit_date: 2022-11-01 11:15:01 -0400
nebbiolo1Linux (Ubuntu 22.04.1 LTS) / x86_64  OK    OK    OK  UNNEEDED, same version is already published
Package 408/534HostnameOS / ArchINSTALLBUILDCHECKBUILD BIN
RLSeq 1.5.2  (landing page)
Henry Miller
git_last_commit: 81d0655
git_last_commit_date: 2022-11-07 12:19:57 -0400
nebbiolo1Linux (Ubuntu 22.04.1 LTS) / x86_64  OK    OK    OK  UNNEEDED, same version is already published
Package 409/534HostnameOS / ArchINSTALLBUILDCHECKBUILD BIN
Rmmquant 1.17.0  (landing page)
Zytnicki Matthias
git_last_commit: 05b4004
git_last_commit_date: 2022-11-01 11:17:58 -0400
nebbiolo1Linux (Ubuntu 22.04.1 LTS) / x86_64  OK    OK    ERROR  
Package 410/534HostnameOS / ArchINSTALLBUILDCHECKBUILD BIN
rmspc 1.5.1  (landing page)
Meriem Bahda
git_last_commit: c88d728
git_last_commit_date: 2022-12-27 18:37:56 -0400
nebbiolo1Linux (Ubuntu 22.04.1 LTS) / x86_64  OK    OK    OK  UNNEEDED, same version is already published
Package 411/534HostnameOS / ArchINSTALLBUILDCHECKBUILD BIN
rnaEditr 1.9.0  (landing page)
Lanyu Zhang
git_last_commit: a33b3aa
git_last_commit_date: 2022-11-01 11:23:04 -0400
nebbiolo1Linux (Ubuntu 22.04.1 LTS) / x86_64  OK    OK    WARNINGS  UNNEEDED, same version is already published
Package 412/534HostnameOS / ArchINSTALLBUILDCHECKBUILD BIN
RNAmodR 1.13.0  (landing page)
Felix G.M. Ernst
git_last_commit: c2d06da
git_last_commit_date: 2022-11-01 11:20:02 -0400
nebbiolo1Linux (Ubuntu 22.04.1 LTS) / x86_64  OK    OK    OK  UNNEEDED, same version is already published
Package 413/534HostnameOS / ArchINSTALLBUILDCHECKBUILD BIN
RNAmodR.AlkAnilineSeq 1.13.0  (landing page)
Felix G.M. Ernst
git_last_commit: 775bb9c
git_last_commit_date: 2022-11-01 11:20:04 -0400
nebbiolo1Linux (Ubuntu 22.04.1 LTS) / x86_64  OK    OK    OK  UNNEEDED, same version is already published
Package 414/534HostnameOS / ArchINSTALLBUILDCHECKBUILD BIN
RNAmodR.ML 1.13.0  (landing page)
Felix G.M. Ernst
git_last_commit: 3341ac9
git_last_commit_date: 2022-11-01 11:20:06 -0400
nebbiolo1Linux (Ubuntu 22.04.1 LTS) / x86_64  OK    OK    OK  UNNEEDED, same version is already published
Package 415/534HostnameOS / ArchINSTALLBUILDCHECKBUILD BIN
RNAmodR.RiboMethSeq 1.13.0  (landing page)
Felix G.M. Ernst
git_last_commit: 10195b1
git_last_commit_date: 2022-11-01 11:20:03 -0400
nebbiolo1Linux (Ubuntu 22.04.1 LTS) / x86_64  OK    OK    OK  UNNEEDED, same version is already published
Package 416/534HostnameOS / ArchINSTALLBUILDCHECKBUILD BIN
RnBeads 2.17.0  (landing page)
Fabian Mueller
git_last_commit: 99cf51e
git_last_commit_date: 2023-01-03 07:42:18 -0400
nebbiolo1Linux (Ubuntu 22.04.1 LTS) / x86_64  OK    OK    OK  UNNEEDED, same version is already published
Package 417/534HostnameOS / ArchINSTALLBUILDCHECKBUILD BIN
roar 1.35.0  (landing page)
Elena Grassi
git_last_commit: 0327d8d
git_last_commit_date: 2022-11-01 11:09:03 -0400
nebbiolo1Linux (Ubuntu 22.04.1 LTS) / x86_64  OK    OK    OK  UNNEEDED, same version is already published
Package 418/534HostnameOS / ArchINSTALLBUILDCHECKBUILD BIN
Rsamtools 2.15.2  (landing page)
Bioconductor Package Maintainer
git_last_commit: 3ffc876
git_last_commit_date: 2023-03-17 11:52:21 -0400
nebbiolo1Linux (Ubuntu 22.04.1 LTS) / x86_64  OK    OK    WARNINGS  UNNEEDED, same version is already published
Package 419/534HostnameOS / ArchINSTALLBUILDCHECKBUILD BIN
RSVSim 1.39.0  (landing page)
Christoph Bartenhagen
git_last_commit: d86a39d
git_last_commit_date: 2022-11-01 11:07:44 -0400
nebbiolo1Linux (Ubuntu 22.04.1 LTS) / x86_64  OK    OK    OK  UNNEEDED, same version is already published
Package 420/534HostnameOS / ArchINSTALLBUILDCHECKBUILD BIN
RTCGAToolbox 2.29.6  (landing page)
Marcel Ramos
git_last_commit: 26e6ddb
git_last_commit_date: 2023-03-28 19:59:25 -0400
nebbiolo1Linux (Ubuntu 22.04.1 LTS) / x86_64  OK    OK    OK  UNNEEDED, same version is already published
Package 421/534HostnameOS / ArchINSTALLBUILDCHECKBUILD BIN
rtracklayer 1.59.1  (landing page)
Michael Lawrence
git_last_commit: 861e3d8
git_last_commit_date: 2022-12-26 05:08:47 -0400
nebbiolo1Linux (Ubuntu 22.04.1 LTS) / x86_64  OK    OK    WARNINGS  UNNEEDED, same version is already published
Package 422/534HostnameOS / ArchINSTALLBUILDCHECKBUILD BIN
Scale4C 1.21.0  (landing page)
Carolin Walter
git_last_commit: 0ebe76e
git_last_commit_date: 2022-11-01 11:15:49 -0400
nebbiolo1Linux (Ubuntu 22.04.1 LTS) / x86_64  OK    OK    OK  UNNEEDED, same version is already published
Package 423/534HostnameOS / ArchINSTALLBUILDCHECKBUILD BIN
scanMiR 1.5.3  (landing page)
Fridolin Gross
git_last_commit: 5a74ce7
git_last_commit_date: 2023-01-23 04:23:16 -0400
nebbiolo1Linux (Ubuntu 22.04.1 LTS) / x86_64  OK    OK    WARNINGS  UNNEEDED, same version is already published
Package 424/534HostnameOS / ArchINSTALLBUILDCHECKBUILD BIN
scanMiRApp 1.5.0  (landing page)
Pierre-Luc Germain
git_last_commit: aa48c69
git_last_commit_date: 2022-11-01 11:25:25 -0400
nebbiolo1Linux (Ubuntu 22.04.1 LTS) / x86_64  OK    OK    WARNINGS  UNNEEDED, same version is already published
Package 425/534HostnameOS / ArchINSTALLBUILDCHECKBUILD BIN
SCATE 1.9.0  (landing page)
Wenpin Hou
git_last_commit: f493110
git_last_commit_date: 2022-11-01 11:22:41 -0400
nebbiolo1Linux (Ubuntu 22.04.1 LTS) / x86_64  OK    OK    ERROR  
Package 426/534HostnameOS / ArchINSTALLBUILDCHECKBUILD BIN
scDblFinder 1.13.8  (landing page)
Pierre-Luc Germain
git_last_commit: 058d289
git_last_commit_date: 2023-02-04 10:28:53 -0400
nebbiolo1Linux (Ubuntu 22.04.1 LTS) / x86_64  OK    OK    OK  UNNEEDED, same version is already published
Package 427/534HostnameOS / ArchINSTALLBUILDCHECKBUILD BIN
scmeth 1.19.0  (landing page)
Divy Kangeyan
git_last_commit: 2196961
git_last_commit_date: 2022-11-01 11:17:10 -0400
nebbiolo1Linux (Ubuntu 22.04.1 LTS) / x86_64  OK    OK    OK  UNNEEDED, same version is already published
Package 428/534HostnameOS / ArchINSTALLBUILDCHECKBUILD BIN
SCOPE 1.11.0  (landing page)
Rujin Wang
git_last_commit: 7296da2
git_last_commit_date: 2022-11-01 11:21:21 -0400
nebbiolo1Linux (Ubuntu 22.04.1 LTS) / x86_64  OK    OK    OK  UNNEEDED, same version is already published
Package 429/534HostnameOS / ArchINSTALLBUILDCHECKBUILD BIN
scoreInvHap 1.21.0  (landing page)
Dolors Pelegri-Siso
git_last_commit: 391aa10
git_last_commit_date: 2022-11-01 11:15:54 -0400
nebbiolo1Linux (Ubuntu 22.04.1 LTS) / x86_64  OK    OK    OK  UNNEEDED, same version is already published
Package 430/534HostnameOS / ArchINSTALLBUILDCHECKBUILD BIN
scPipe 1.99.5  (landing page)
Shian Su
git_last_commit: 6c1ceb5
git_last_commit_date: 2023-03-06 19:02:51 -0400
nebbiolo1Linux (Ubuntu 22.04.1 LTS) / x86_64  OK    OK    WARNINGS  UNNEEDED, same version is already published
Package 431/534HostnameOS / ArchINSTALLBUILDCHECKBUILD BIN
scRNAseqApp 0.99.20  (landing page)
Jianhong Ou
git_last_commit: cd925e8
git_last_commit_date: 2023-03-24 11:25:17 -0400
nebbiolo1Linux (Ubuntu 22.04.1 LTS) / x86_64  OK    OK    OK  UNNEEDED, same version is already published
Package 432/534HostnameOS / ArchINSTALLBUILDCHECKBUILD BIN
scruff 1.17.0  (landing page)
Zhe Wang
git_last_commit: ee6a5fa
git_last_commit_date: 2022-11-01 11:18:08 -0400
nebbiolo1Linux (Ubuntu 22.04.1 LTS) / x86_64  OK    OK    OK  UNNEEDED, same version is already published
Package 433/534HostnameOS / ArchINSTALLBUILDCHECKBUILD BIN
scuttle 1.9.4  (landing page)
Aaron Lun
git_last_commit: e15a392
git_last_commit_date: 2023-01-22 21:55:18 -0400
nebbiolo1Linux (Ubuntu 22.04.1 LTS) / x86_64  OK    OK    OK  UNNEEDED, same version is already published
Package 434/534HostnameOS / ArchINSTALLBUILDCHECKBUILD BIN
segmenter 1.5.0  (landing page)
Mahmoud Ahmed
git_last_commit: c48af39
git_last_commit_date: 2022-11-01 11:25:15 -0400
nebbiolo1Linux (Ubuntu 22.04.1 LTS) / x86_64  OK    OK    OK  UNNEEDED, same version is already published
Package 435/534HostnameOS / ArchINSTALLBUILDCHECKBUILD BIN
segmentSeq 2.33.0  (landing page)
Thomas J. Hardcastle
git_last_commit: b7dc0c6
git_last_commit_date: 2022-11-01 11:04:54 -0400
nebbiolo1Linux (Ubuntu 22.04.1 LTS) / x86_64  OK    OK    OK  NO, package depends on 'baySeq' which is not available
Package 436/534HostnameOS / ArchINSTALLBUILDCHECKBUILD BIN
seq2pathway 1.31.0  (landing page)
Arjun Kinstlick
git_last_commit: c7c23a5
git_last_commit_date: 2022-11-01 11:11:01 -0400
nebbiolo1Linux (Ubuntu 22.04.1 LTS) / x86_64  OK    OK    WARNINGS  UNNEEDED, same version is already published
Package 437/534HostnameOS / ArchINSTALLBUILDCHECKBUILD BIN
seqArchRplus 0.99.8  (landing page)
Sarvesh Nikumbh
git_last_commit: 06af1a1
git_last_commit_date: 2022-12-06 09:32:56 -0400
nebbiolo1Linux (Ubuntu 22.04.1 LTS) / x86_64  OK    OK    OK  UNNEEDED, same version is already published
Package 438/534HostnameOS / ArchINSTALLBUILDCHECKBUILD BIN
SeqArray 1.39.2  (landing page)
Xiuwen Zheng
git_last_commit: f1efe25
git_last_commit_date: 2022-12-23 23:37:41 -0400
nebbiolo1Linux (Ubuntu 22.04.1 LTS) / x86_64  OK    OK    OK  UNNEEDED, same version is already published
Package 439/534HostnameOS / ArchINSTALLBUILDCHECKBUILD BIN
seqbias 1.47.0  (landing page)
Daniel Jones
git_last_commit: 116b2b9
git_last_commit_date: 2022-11-01 11:05:31 -0400
nebbiolo1Linux (Ubuntu 22.04.1 LTS) / x86_64  OK    OK    WARNINGS  UNNEEDED, same version is already published
Package 440/534HostnameOS / ArchINSTALLBUILDCHECKBUILD BIN
seqCAT 1.21.0  (landing page)
Erik Fasterius
git_last_commit: f2a5e1b
git_last_commit_date: 2022-11-01 11:16:23 -0400
nebbiolo1Linux (Ubuntu 22.04.1 LTS) / x86_64  OK    OK    OK  UNNEEDED, same version is already published
Package 441/534HostnameOS / ArchINSTALLBUILDCHECKBUILD BIN
SeqGate 1.9.0  (landing page)
Stéphanie Rialle
git_last_commit: 3cf33e4
git_last_commit_date: 2022-11-01 11:22:56 -0400
nebbiolo1Linux (Ubuntu 22.04.1 LTS) / x86_64  OK    OK    OK  UNNEEDED, same version is already published
Package 442/534HostnameOS / ArchINSTALLBUILDCHECKBUILD BIN
seqPattern 1.31.0  (landing page)
Vanja Haberle
git_last_commit: 4189aa9
git_last_commit_date: 2022-11-01 11:10:59 -0400
nebbiolo1Linux (Ubuntu 22.04.1 LTS) / x86_64  OK    OK    OK  UNNEEDED, same version is already published
Package 443/534HostnameOS / ArchINSTALLBUILDCHECKBUILD BIN
seqsetvis 1.19.2  (landing page)
Joseph R Boyd
git_last_commit: 0a26790
git_last_commit_date: 2023-02-24 10:41:56 -0400
nebbiolo1Linux (Ubuntu 22.04.1 LTS) / x86_64  OK    OK    OK  UNNEEDED, same version is already published
Package 444/534HostnameOS / ArchINSTALLBUILDCHECKBUILD BIN
SeqSQC 1.21.0  (landing page)
Qian Liu
git_last_commit: a93009f
git_last_commit_date: 2022-11-01 11:16:40 -0400
nebbiolo1Linux (Ubuntu 22.04.1 LTS) / x86_64  OK    OK    OK  UNNEEDED, same version is already published
Package 445/534HostnameOS / ArchINSTALLBUILDCHECKBUILD BIN
SeqVarTools 1.37.0  (landing page)
Stephanie M. Gogarten
git_last_commit: 455dd5d
git_last_commit_date: 2022-12-16 03:15:09 -0400
nebbiolo1Linux (Ubuntu 22.04.1 LTS) / x86_64  OK    OK    OK  UNNEEDED, same version is already published
Package 446/534HostnameOS / ArchINSTALLBUILDCHECKBUILD BIN
sesame 1.17.8  (landing page)
Wanding Zhou
git_last_commit: b12e802
git_last_commit_date: 2023-03-27 23:29:30 -0400
nebbiolo1Linux (Ubuntu 22.04.1 LTS) / x86_64  OK    OK    ERROR  
Package 447/534HostnameOS / ArchINSTALLBUILDCHECKBUILD BIN
sevenC 1.19.0  (landing page)
Jonas Ibn-Salem
git_last_commit: 702f39d
git_last_commit_date: 2022-11-01 11:17:44 -0400
nebbiolo1Linux (Ubuntu 22.04.1 LTS) / x86_64  OK    OK    OK  UNNEEDED, same version is already published
Package 448/534HostnameOS / ArchINSTALLB