Back to Multiple platform build/check report for BioC 3.20:   simplified   long
ABCDEFGHIJKL[M]NOPQRSTUVWXYZ

This page was generated on 2024-07-16 11:39 -0400 (Tue, 16 Jul 2024).

HostnameOSArch (*)R versionInstalled pkgs
nebbiolo2Linux (Ubuntu 22.04.3 LTS)x86_644.4.1 (2024-06-14) -- "Race for Your Life" 4677
palomino6Windows Server 2022 Datacenterx644.4.1 (2024-06-14 ucrt) -- "Race for Your Life" 4416
lconwaymacOS 12.7.1 Montereyx86_644.4.1 (2024-06-14) -- "Race for Your Life" 4444
kjohnson3macOS 13.6.5 Venturaarm644.4.1 (2024-06-14) -- "Race for Your Life" 4393
palomino8Windows Server 2022 Datacenterx644.4.1 (2024-06-14 ucrt) -- "Race for Your Life" 4373
Click on any hostname to see more info about the system (e.g. compilers)      (*) as reported by 'uname -p', except on Windows and Mac OS X

Package 1282/2243HostnameOS / ArchINSTALLBUILDCHECKBUILD BIN
monaLisa 1.11.2  (landing page)
Michael Stadler
Snapshot Date: 2024-07-15 14:00 -0400 (Mon, 15 Jul 2024)
git_url: https://git.bioconductor.org/packages/monaLisa
git_branch: devel
git_last_commit: caedfbd
git_last_commit_date: 2024-07-10 03:32:11 -0400 (Wed, 10 Jul 2024)
nebbiolo2Linux (Ubuntu 22.04.3 LTS) / x86_64  OK    OK    OK  UNNEEDED, same version is already published
palomino6Windows Server 2022 Datacenter / x64  OK    OK    OK    OK  
lconwaymacOS 12.7.1 Monterey / x86_64  OK    OK    OK    OK  UNNEEDED, same version is already published
kjohnson3macOS 13.6.5 Ventura / arm64  OK    OK    OK    OK  NO, package depends on 'TFBSTools' which is only available as a source package that needs compilation
palomino8Windows Server 2022 Datacenter / x64  OK    OK    OK    OK  


BUILD results for monaLisa on nebbiolo2

To the developers/maintainers of the monaLisa package:
- Allow up to 24 hours (and sometimes 48 hours) for your latest push to git@git.bioconductor.org:packages/monaLisa.git to reflect on this report. See Troubleshooting Build Report for more information.
- Use the following Renviron settings to reproduce errors and warnings.
- If 'R CMD check' started to fail recently on the Linux builder(s) over a missing dependency, add the missing dependency to 'Suggests:' in your DESCRIPTION file. See Renviron.bioc for more information.

raw results


Summary

Package: monaLisa
Version: 1.11.2
Command: /home/biocbuild/bbs-3.20-bioc/R/bin/R CMD build --keep-empty-dirs --no-resave-data --md5 monaLisa
StartedAt: 2024-07-15 18:21:17 -0400 (Mon, 15 Jul 2024)
EndedAt: 2024-07-15 18:25:16 -0400 (Mon, 15 Jul 2024)
EllapsedTime: 238.4 seconds
RetCode: 0
Status:   OK  
PackageFile: monaLisa_1.11.2.tar.gz
PackageFileSize: 4.97 MiB

Command output

##############################################################################
##############################################################################
###
### Running command:
###
###   /home/biocbuild/bbs-3.20-bioc/R/bin/R CMD build --keep-empty-dirs --no-resave-data --md5 monaLisa
###
##############################################################################
##############################################################################


* checking for file ‘monaLisa/DESCRIPTION’ ... OK
* preparing ‘monaLisa’:
* checking DESCRIPTION meta-information ... OK
* installing the package to build vignettes
* creating vignettes ... OK
* checking for LF line-endings in source and make files and shell scripts
* checking for empty or unneeded directories
Omitted ‘LazyData’ from DESCRIPTION
* adding MD5 file
* building ‘monaLisa_1.11.2.tar.gz’