Back to Multiple platform build/check report for BioC 3.14
ABCDEFGHIJKLMNO[P]QRSTUVWXYZ

This page was generated on 2021-10-22 12:03:44 -0400 (Fri, 22 Oct 2021).

All results for package PhIPData

To the developers/maintainers of the PhIPData package:
- Please allow up to 24 hours (and sometimes 48 hours) for your latest push to git@git.bioconductor.org:packages/PhIPData.git to
reflect on this report. See How and When does the builder pull? When will my changes propagate? here for more information.
- Make sure to use the following settings in order to reproduce any error or warning you see on this page.

raw results

Package 1406/2075HostnameOS / ArchINSTALLBUILDCHECKBUILD BIN
PhIPData 1.1.2  (landing page)
Athena Chen
Snapshot Date: 2021-10-21 14:50:08 -0400 (Thu, 21 Oct 2021)
git_url: https://git.bioconductor.org/packages/PhIPData
git_branch: master
git_last_commit: 7a1a190
git_last_commit_date: 2021-08-23 12:02:56 -0400 (Mon, 23 Aug 2021)
nebbiolo2Linux (Ubuntu 20.04.2 LTS) / x86_64  OK    OK    OK  UNNEEDED, same version is already published
riesling1Windows Server 2019 Standard / x64  OK    OK    OK    OK  UNNEEDED, same version is already published
merida1macOS 10.14.6 Mojave / x86_64  OK    OK    OK    NA