Back to Multiple platform build/check report for BioC 3.20:   simplified   long
A[B]CDEFGHIJKLMNOPQRSTUVWXYZ

This page was generated on 2024-07-18 11:38 -0400 (Thu, 18 Jul 2024).

HostnameOSArch (*)R versionInstalled pkgs
nebbiolo2Linux (Ubuntu 22.04.3 LTS)x86_644.4.1 (2024-06-14) -- "Race for Your Life" 4683
palomino8Windows Server 2022 Datacenterx644.4.1 (2024-06-14 ucrt) -- "Race for Your Life" 4379
lconwaymacOS 12.7.1 Montereyx86_644.4.1 (2024-06-14) -- "Race for Your Life" 4450
kjohnson3macOS 13.6.5 Venturaarm644.4.1 (2024-06-14) -- "Race for Your Life" 4399
Click on any hostname to see more info about the system (e.g. compilers)      (*) as reported by 'uname -p', except on Windows and Mac OS X

Package 239/2248HostnameOS / ArchINSTALLBUILDCHECKBUILD BIN
brendaDb 1.19.0  (landing page)
Yi Zhou
Snapshot Date: 2024-07-17 14:00 -0400 (Wed, 17 Jul 2024)
git_url: https://git.bioconductor.org/packages/brendaDb
git_branch: devel
git_last_commit: 1d08ce5
git_last_commit_date: 2024-04-30 11:16:38 -0400 (Tue, 30 Apr 2024)
nebbiolo2Linux (Ubuntu 22.04.3 LTS) / x86_64  OK    OK    OK  UNNEEDED, same version is already published
palomino8Windows Server 2022 Datacenter / x64  OK    OK    OK    OK  UNNEEDED, same version is already published
lconwaymacOS 12.7.1 Monterey / x86_64  OK    OK    OK    OK  UNNEEDED, same version is already published
kjohnson3macOS 13.6.5 Ventura / arm64  OK    OK    OK    OK  UNNEEDED, same version is already published


INSTALL results for brendaDb on nebbiolo2

To the developers/maintainers of the brendaDb package:
- Allow up to 24 hours (and sometimes 48 hours) for your latest push to git@git.bioconductor.org:packages/brendaDb.git to reflect on this report. See Troubleshooting Build Report for more information.
- Use the following Renviron settings to reproduce errors and warnings.
- If 'R CMD check' started to fail recently on the Linux builder(s) over a missing dependency, add the missing dependency to 'Suggests:' in your DESCRIPTION file. See Renviron.bioc for more information.

raw results


Summary

Package: brendaDb
Version: 1.19.0
Command: /home/biocbuild/bbs-3.20-bioc/R/bin/R CMD INSTALL brendaDb
StartedAt: 2024-07-17 15:20:32 -0400 (Wed, 17 Jul 2024)
EndedAt: 2024-07-17 15:20:43 -0400 (Wed, 17 Jul 2024)
EllapsedTime: 11.5 seconds
RetCode: 0
Status:   OK  

Command output

##############################################################################
##############################################################################
###
### Running command:
###
###   /home/biocbuild/bbs-3.20-bioc/R/bin/R CMD INSTALL brendaDb
###
##############################################################################
##############################################################################


* installing to library ‘/home/biocbuild/bbs-3.20-bioc/R/site-library’
* installing *source* package ‘brendaDb’ ...
** using staged installation
** libs
using C++ compiler: ‘g++ (Ubuntu 11.4.0-1ubuntu1~22.04) 11.4.0’
using C++11
g++ -std=gnu++11 -I"/home/biocbuild/bbs-3.20-bioc/R/include" -DNDEBUG  -I'/home/biocbuild/bbs-3.20-bioc/R/site-library/Rcpp/include' -I/usr/local/include    -fpic  -g -O2  -Wall  -c RcppExports.cpp -o RcppExports.o
g++ -std=gnu++11 -I"/home/biocbuild/bbs-3.20-bioc/R/include" -DNDEBUG  -I'/home/biocbuild/bbs-3.20-bioc/R/site-library/Rcpp/include' -I/usr/local/include    -fpic  -g -O2  -Wall  -c read_brenda.cpp -o read_brenda.o
g++ -std=gnu++11 -shared -L/home/biocbuild/bbs-3.20-bioc/R/lib -L/usr/local/lib -o brendaDb.so RcppExports.o read_brenda.o -L/home/biocbuild/bbs-3.20-bioc/R/lib -lR
installing to /home/biocbuild/bbs-3.20-bioc/R/site-library/00LOCK-brendaDb/00new/brendaDb/libs
** R
** data
** inst
** byte-compile and prepare package for lazy loading
** help
*** installing help indices
*** copying figures
** building package indices
** installing vignettes
** testing if installed package can be loaded from temporary location
** checking absolute paths in shared objects and dynamic libraries
** testing if installed package can be loaded from final location
** testing if installed package keeps a record of temporary installation path
* DONE (brendaDb)