Back to Multiple platform build/check report for BioC 3.18:   simplified   long
AB[C]DEFGHIJKLMNOPQRSTUVWXYZ

This page was generated on 2023-06-20 11:38:28 -0400 (Tue, 20 Jun 2023).

HostnameOSArch (*)R versionInstalled pkgs
nebbiolo2Linux (Ubuntu 22.04.2 LTS)x86_644.3.0 RC (2023-04-18 r84287) -- "Already Tomorrow" 4602
palomino4Windows Server 2022 Datacenterx644.3.0 RC (2023-04-18 r84287 ucrt) -- "Already Tomorrow" 4352
lconwaymacOS 12.6.5 Montereyx86_644.3.0 RC (2023-04-13 r84266) -- "Already Tomorrow" 4359
kunpeng2Linux (openEuler 22.03 LTS-SP1)aarch644.3.0 (2023-04-21) -- "Already Tomorrow" 4383
Click on any hostname to see more info about the system (e.g. compilers)      (*) as reported by 'uname -p', except on Windows and Mac OS X

Package 268/2199HostnameOS / ArchINSTALLBUILDCHECKBUILD BIN
categoryCompare 1.45.0  (landing page)
Robert M. Flight
Snapshot Date: 2023-06-19 14:00:08 -0400 (Mon, 19 Jun 2023)
git_url: https://git.bioconductor.org/packages/categoryCompare
git_branch: devel
git_last_commit: bb12c51
git_last_commit_date: 2023-04-25 10:22:59 -0400 (Tue, 25 Apr 2023)
nebbiolo2Linux (Ubuntu 22.04.2 LTS) / x86_64  OK    OK    OK  UNNEEDED, same version is already published
palomino4Windows Server 2022 Datacenter / x64  OK    OK    OK    OK  UNNEEDED, same version is already published
lconwaymacOS 12.6.5 Monterey / x86_64  OK    OK    OK    OK  UNNEEDED, same version is already published
kunpeng2Linux (openEuler 22.03 LTS-SP1) / aarch64  OK    OK    ERROR  

BUILD BIN results for categoryCompare on lconway


The builds on kunpeng2 (Linux ARM64) are experimental!
To the developers/maintainers of the categoryCompare package:
- Allow up to 24 hours (and sometimes 48 hours) for your latest push to git@git.bioconductor.org:packages/categoryCompare.git to reflect on this report. See Troubleshooting Build Report for more information.
- Use the following Renviron settings to reproduce errors and warnings.
- If 'R CMD check' started to fail recently on the Linux builder(s) over a missing dependency, add the missing dependency to 'Suggests:' in your DESCRIPTION file. See Renviron.bioc for more information.

raw results


Summary

Package: categoryCompare
Version: 1.45.0
Command: rm -rf categoryCompare.buildbin-libdir && mkdir categoryCompare.buildbin-libdir && /Users/biocbuild/BBS/utils/build-universal.sh categoryCompare_1.45.0.tar.gz /Library/Frameworks/R.framework/Resources/bin/R categoryCompare.buildbin-libdir
StartedAt: 2023-06-19 23:36:44 -0400 (Mon, 19 Jun 2023)
EndedAt: 2023-06-19 23:37:26 -0400 (Mon, 19 Jun 2023)
EllapsedTime: 41.8 seconds
RetCode: 0
Status:   OK  
PackageFile: categoryCompare_1.45.0.tgz
PackageFileSize: 2.587 MiB

Command output

##############################################################################
##############################################################################
###
### Running command:
###
###   rm -rf categoryCompare.buildbin-libdir && mkdir categoryCompare.buildbin-libdir && /Users/biocbuild/BBS/utils/build-universal.sh categoryCompare_1.45.0.tar.gz /Library/Frameworks/R.framework/Resources/bin/R categoryCompare.buildbin-libdir
###
##############################################################################
##############################################################################


>>>>>>> 
>>>>>>> INSTALLATION WITH 'R CMD INSTALL --preclean --no-multiarch --library=categoryCompare.buildbin-libdir categoryCompare_1.45.0.tar.gz'
>>>>>>> 

* installing *source* package ‘categoryCompare’ ...
** using staged installation
** R
** data
** inst
** byte-compile and prepare package for lazy loading
Note: ... may be used in an incorrect context 
** help
*** installing help indices
** building package indices
** installing vignettes
** testing if installed package can be loaded from temporary location
** testing if installed package can be loaded from final location
** testing if installed package keeps a record of temporary installation path
* DONE (categoryCompare)