Back to Multiple platform build/check report for BioC 3.19:   simplified   long
ABCDEFGH[I]JKLMNOPQRSTUVWXYZ

This page was generated on 2024-02-22 12:47:45 -0500 (Thu, 22 Feb 2024).

HostnameOSArch (*)R versionInstalled pkgs
nebbiolo1Linux (Ubuntu 22.04.3 LTS)x86_64R Under development (unstable) (2024-01-16 r85808) -- "Unsuffered Consequences" 4657
palomino3Windows Server 2022 Datacenterx64R Under development (unstable) (2024-01-14 r85805 ucrt) -- "Unsuffered Consequences" 4397
Click on any hostname to see more info about the system (e.g. compilers)      (*) as reported by 'uname -p', except on Windows and Mac OS X

All results for package IRanges


To the developers/maintainers of the IRanges package:
- Allow up to 24 hours (and sometimes 48 hours) for your latest push to git@git.bioconductor.org:packages/IRanges.git to reflect on this report. See Troubleshooting Build Report for more information.
- Use the following Renviron settings to reproduce errors and warnings.
- If 'R CMD check' started to fail recently on the Linux builder(s) over a missing dependency, add the missing dependency to 'Suggests:' in your DESCRIPTION file. See Renviron.bioc for more information.

raw results

Package 1036/2244HostnameOS / ArchINSTALLBUILDCHECKBUILD BIN
IRanges 2.37.1  (landing page)
Hervé Pagès
Snapshot Date: 2024-02-21 14:10:10 -0500 (Wed, 21 Feb 2024)
git_url: https://git.bioconductor.org/packages/IRanges
git_branch: devel
git_last_commit: 60cf550
git_last_commit_date: 2024-01-22 18:47:58 -0500 (Mon, 22 Jan 2024)
nebbiolo1Linux (Ubuntu 22.04.3 LTS) / x86_64  OK    OK    WARNINGS  UNNEEDED, same version is already published
palomino3Windows Server 2022 Datacenter / x64  OK    OK    WARNINGS    OK  UNNEEDED, same version is already published

Results for Bioconductor software packages that depend directly on package IRanges

QUICK STATSOS / ArchINSTALLBUILDCHECKBUILD BIN
nebbiolo1Linux (Ubuntu 22.04.3 LTS) / x86_64
012502
122491
01996376
palomino3Windows Server 2022 Datacenter / x64
012491
042461
21188360
00461
Package 1/514HostnameOS / ArchINSTALLBUILDCHECKBUILD BIN
alabaster.bumpy 1.3.1  (landing page)
Aaron Lun
git_last_commit: 827d907
git_last_commit_date: 2024-01-01 13:27:45 -0500
nebbiolo1Linux (Ubuntu 22.04.3 LTS) / x86_64  OK    OK    OK  UNNEEDED, same version is already published
palomino3Windows Server 2022 Datacenter / x64  OK    OK    OK    OK  UNNEEDED, same version is already published
Package 2/514HostnameOS / ArchINSTALLBUILDCHECKBUILD BIN
alabaster.ranges 1.3.3  (landing page)
Aaron Lun
git_last_commit: 888fc95
git_last_commit_date: 2024-01-25 16:23:00 -0500
nebbiolo1Linux (Ubuntu 22.04.3 LTS) / x86_64  OK    OK    OK  UNNEEDED, same version is already published
palomino3Windows Server 2022 Datacenter / x64  OK    OK    OK    OK  UNNEEDED, same version is already published
Package 3/514HostnameOS / ArchINSTALLBUILDCHECKBUILD BIN
alabaster.se 1.3.3  (landing page)
Aaron Lun
git_last_commit: d19842f
git_last_commit_date: 2023-12-29 15:02:55 -0500
nebbiolo1Linux (Ubuntu 22.04.3 LTS) / x86_64  OK    OK    OK  UNNEEDED, same version is already published
palomino3Windows Server 2022 Datacenter / x64  OK    OK    OK    OK  UNNEEDED, same version is already published
Package 4/514HostnameOS / ArchINSTALLBUILDCHECKBUILD BIN
ALDEx2 1.35.0  (landing page)
Greg Gloor
git_last_commit: 9e689b5
git_last_commit_date: 2023-10-24 10:38:50 -0500
nebbiolo1Linux (Ubuntu 22.04.3 LTS) / x86_64  OK    OK    OK  UNNEEDED, same version is already published
palomino3Windows Server 2022 Datacenter / x64  OK    OK    OK    OK  UNNEEDED, same version is already published
Package 5/514HostnameOS / ArchINSTALLBUILDCHECKBUILD BIN
AllelicImbalance 1.41.0  (landing page)
Jesper R Gadin
git_last_commit: 13b7eae
git_last_commit_date: 2023-10-24 09:56:05 -0500
nebbiolo1Linux (Ubuntu 22.04.3 LTS) / x86_64  OK    OK    OK  UNNEEDED, same version is already published
palomino3Windows Server 2022 Datacenter / x64  OK    OK    OK    OK  UNNEEDED, same version is already published
Package 6/514HostnameOS / ArchINSTALLBUILDCHECKBUILD BIN
amplican 1.25.1  (landing page)
Eivind Valen
git_last_commit: ae00250
git_last_commit_date: 2024-01-25 10:41:52 -0500
nebbiolo1Linux (Ubuntu 22.04.3 LTS) / x86_64  OK    OK    OK  UNNEEDED, same version is already published
palomino3Windows Server 2022 Datacenter / x64  OK    OK    OK    OK  UNNEEDED, same version is already published
Package 7/514HostnameOS / ArchINSTALLBUILDCHECKBUILD BIN
AneuFinder 1.31.0  (landing page)
Aaron Taudt
git_last_commit: b8d11a4
git_last_commit_date: 2023-10-24 10:48:50 -0500
nebbiolo1Linux (Ubuntu 22.04.3 LTS) / x86_64  OK    OK    OK  UNNEEDED, same version is already published
palomino3Windows Server 2022 Datacenter / x64  OK    OK    OK    OK  UNNEEDED, same version is already published
Package 8/514HostnameOS / ArchINSTALLBUILDCHECKBUILD BIN
annmap 1.45.0  (landing page)
Chris Wirth
git_last_commit: 8e3d9a4
git_last_commit_date: 2023-10-24 09:50:21 -0500
nebbiolo1Linux (Ubuntu 22.04.3 LTS) / x86_64  OK    OK    WARNINGS  UNNEEDED, same version is already published
palomino3Windows Server 2022 Datacenter / x64... NOT SUPPORTED ...
Package 9/514HostnameOS / ArchINSTALLBUILDCHECKBUILD BIN
AnnotationDbi 1.65.2  (landing page)
Bioconductor Package Maintainer
git_last_commit: 7daf9f4
git_last_commit_date: 2023-11-03 10:00:09 -0500
nebbiolo1Linux (Ubuntu 22.04.3 LTS) / x86_64  OK    OK    WARNINGS  UNNEEDED, same version is already published
palomino3Windows Server 2022 Datacenter / x64  OK    OK    WARNINGS    OK  UNNEEDED, same version is already published
Package 10/514HostnameOS / ArchINSTALLBUILDCHECKBUILD BIN
AnnotationHubData 1.33.1  (landing page)
Bioconductor Package Maintainer
git_last_commit: 088c3b2
git_last_commit_date: 2024-02-12 13:04:33 -0500
nebbiolo1Linux (Ubuntu 22.04.3 LTS) / x86_64  OK    OK    WARNINGS  UNNEEDED, same version is already published
palomino3Windows Server 2022 Datacenter / x64  OK    OK    WARNINGS    OK  UNNEEDED, same version is already published
Package 11/514HostnameOS / ArchINSTALLBUILDCHECKBUILD BIN
annotatr 1.29.0  (landing page)
Raymond G. Cavalcante
git_last_commit: 7656a7a
git_last_commit_date: 2023-10-24 10:53:43 -0500
nebbiolo1Linux (Ubuntu 22.04.3 LTS) / x86_64  OK    OK    OK  UNNEEDED, same version is already published
palomino3Windows Server 2022 Datacenter / x64  OK    OK    OK    OK  UNNEEDED, same version is already published
Package 12/514HostnameOS / ArchINSTALLBUILDCHECKBUILD BIN
appreci8R 1.21.6  (landing page)
Sarah Sandmann
git_last_commit: dd97042
git_last_commit_date: 2024-02-14 07:22:16 -0500
nebbiolo1Linux (Ubuntu 22.04.3 LTS) / x86_64  OK    OK    OK  UNNEEDED, same version is already published
palomino3Windows Server 2022 Datacenter / x64  OK    OK    OK    OK  UNNEEDED, same version is already published
Package 13/514HostnameOS / ArchINSTALLBUILDCHECKBUILD BIN
ASpli 2.13.0  (landing page)
Ariel Chernomoretz
git_last_commit: 7525b85
git_last_commit_date: 2023-10-24 10:51:51 -0500
nebbiolo1Linux (Ubuntu 22.04.3 LTS) / x86_64  OK    OK    WARNINGS  UNNEEDED, same version is already published
palomino3Windows Server 2022 Datacenter / x64  OK    OK    WARNINGS    OK  UNNEEDED, same version is already published
Package 14/514HostnameOS / ArchINSTALLBUILDCHECKBUILD BIN
AssessORF 1.21.0  (landing page)
Deepank Korandla
git_last_commit: cfe8f1a
git_last_commit_date: 2023-10-24 11:09:10 -0500
nebbiolo1Linux (Ubuntu 22.04.3 LTS) / x86_64  OK    OK    ERROR  
palomino3Windows Server 2022 Datacenter / x64  OK    OK    OK    OK  UNNEEDED, same version is already published
Package 15/514HostnameOS / ArchINSTALLBUILDCHECKBUILD BIN
ATACCoGAPS 1.5.0  (landing page)
Rossin Erbe
git_last_commit: e9769e5
git_last_commit_date: 2023-10-24 11:42:56 -0500
nebbiolo1Linux (Ubuntu 22.04.3 LTS) / x86_64  ERROR    ERROR  skipped
palomino3Windows Server 2022 Datacenter / x64  ERROR    ERROR  skippedskipped
Package 16/514HostnameOS / ArchINSTALLBUILDCHECKBUILD BIN
ATACseqQC 1.27.1  (landing page)
Jianhong Ou
git_last_commit: d414adb
git_last_commit_date: 2023-12-12 09:55:41 -0500
nebbiolo1Linux (Ubuntu 22.04.3 LTS) / x86_64  OK    OK    OK  UNNEEDED, same version is already published
palomino3Windows Server 2022 Datacenter / x64  OK    OK    OK    OK  UNNEEDED, same version is already published
Package 17/514HostnameOS / ArchINSTALLBUILDCHECKBUILD BIN
ATACseqTFEA 1.5.1  (landing page)
Jianhong Ou
git_last_commit: bd2f07b
git_last_commit_date: 2024-02-05 17:31:24 -0500
nebbiolo1Linux (Ubuntu 22.04.3 LTS) / x86_64  OK    OK    OK  UNNEEDED, same version is already published
palomino3Windows Server 2022 Datacenter / x64  OK    OK    OK    OK  UNNEEDED, same version is already published
Package 18/514HostnameOS / ArchINSTALLBUILDCHECKBUILD BIN
atena 1.9.0  (landing page)
Beatriz Calvo-Serra
git_last_commit: db720af
git_last_commit_date: 2023-10-24 11:36:26 -0500
nebbiolo1Linux (Ubuntu 22.04.3 LTS) / x86_64  OK    OK    OK  UNNEEDED, same version is already published
palomino3Windows Server 2022 Datacenter / x64  OK    OK    OK    OK  UNNEEDED, same version is already published
Package 19/514HostnameOS / ArchINSTALLBUILDCHECKBUILD BIN
BaalChIP 1.29.0  (landing page)
Ines de Santiago
git_last_commit: 29cf4ff
git_last_commit_date: 2023-10-24 10:52:41 -0500
nebbiolo1Linux (Ubuntu 22.04.3 LTS) / x86_64  OK    OK    WARNINGS  UNNEEDED, same version is already published
palomino3Windows Server 2022 Datacenter / x64  OK    OK    WARNINGS    OK  UNNEEDED, same version is already published
Package 20/514HostnameOS / ArchINSTALLBUILDCHECKBUILD BIN
ballgown 2.35.0  (landing page)
Jack Fu
git_last_commit: 0158b63
git_last_commit_date: 2023-10-24 10:00:15 -0500
nebbiolo1Linux (Ubuntu 22.04.3 LTS) / x86_64  OK    OK    OK  UNNEEDED, same version is already published
palomino3Windows Server 2022 Datacenter / x64  OK    OK    OK    OK  UNNEEDED, same version is already published
Package 21/514HostnameOS / ArchINSTALLBUILDCHECKBUILD BIN
bambu 3.5.0  (landing page)
Ying Chen
git_last_commit: fed41f6
git_last_commit_date: 2023-10-24 11:27:04 -0500
nebbiolo1Linux (Ubuntu 22.04.3 LTS) / x86_64  OK    OK    OK  UNNEEDED, same version is already published
palomino3Windows Server 2022 Datacenter / x64  OK    OK    OK    OK  UNNEEDED, same version is already published
Package 22/514HostnameOS / ArchINSTALLBUILDCHECKBUILD BIN
bamsignals 1.35.0  (landing page)
Johannes Helmuth
git_last_commit: b1662da
git_last_commit_date: 2023-10-24 10:42:09 -0500
nebbiolo1Linux (Ubuntu 22.04.3 LTS) / x86_64  OK    OK    OK  UNNEEDED, same version is already published
palomino3Windows Server 2022 Datacenter / x64  OK    OK    OK    OK  UNNEEDED, same version is already published
Package 23/514HostnameOS / ArchINSTALLBUILDCHECKBUILD BIN
BasicSTARRseq 1.31.0  (landing page)
Annika Buerger
git_last_commit: 19f3a96
git_last_commit_date: 2023-10-24 10:47:24 -0500
nebbiolo1Linux (Ubuntu 22.04.3 LTS) / x86_64  OK    OK    OK  UNNEEDED, same version is already published
palomino3Windows Server 2022 Datacenter / x64  OK    OK    OK    OK  UNNEEDED, same version is already published
Package 24/514HostnameOS / ArchINSTALLBUILDCHECKBUILD BIN
BBCAnalyzer 1.33.0  (landing page)
Sarah Sandmann
git_last_commit: 074ba92
git_last_commit_date: 2023-10-24 10:44:49 -0500
nebbiolo1Linux (Ubuntu 22.04.3 LTS) / x86_64  OK    OK    OK  UNNEEDED, same version is already published
palomino3Windows Server 2022 Datacenter / x64  OK    OK    WARNINGS    OK  UNNEEDED, same version is already published
Package 25/514HostnameOS / ArchINSTALLBUILDCHECKBUILD BIN
beadarray 2.53.0  (landing page)
Mark Dunning
git_last_commit: 45ee237
git_last_commit_date: 2023-10-24 09:36:14 -0500
nebbiolo1Linux (Ubuntu 22.04.3 LTS) / x86_64  OK    OK    OK  UNNEEDED, same version is already published
palomino3Windows Server 2022 Datacenter / x64  OK    OK    OK    OK  UNNEEDED, same version is already published
Package 26/514HostnameOS / ArchINSTALLBUILDCHECKBUILD BIN
BindingSiteFinder 2.1.0  (landing page)
Mirko Brüggemann
git_last_commit: 8230907
git_last_commit_date: 2023-10-24 11:35:05 -0500
nebbiolo1Linux (Ubuntu 22.04.3 LTS) / x86_64  OK    OK    OK  UNNEEDED, same version is already published
palomino3Windows Server 2022 Datacenter / x64  OK    OK    OK    OK  UNNEEDED, same version is already published
Package 27/514HostnameOS / ArchINSTALLBUILDCHECKBUILD BIN
BiocOncoTK 1.23.1  (landing page)
VJ Carey
git_last_commit: 02d07a2
git_last_commit_date: 2024-02-05 14:34:06 -0500
nebbiolo1Linux (Ubuntu 22.04.3 LTS) / x86_64  OK    OK    OK  UNNEEDED, same version is already published
palomino3Windows Server 2022 Datacenter / x64  OK    OK    OK    OK  UNNEEDED, same version is already published
Package 28/514HostnameOS / ArchINSTALLBUILDCHECKBUILD BIN
biomvRCNS 1.43.1  (landing page)
Yang Du
git_last_commit: 5dee23f
git_last_commit_date: 2023-12-19 22:47:27 -0500
nebbiolo1Linux (Ubuntu 22.04.3 LTS) / x86_64  OK    OK    OK  UNNEEDED, same version is already published
palomino3Windows Server 2022 Datacenter / x64  OK    OK    OK    OK  UNNEEDED, same version is already published
Package 29/514HostnameOS / ArchINSTALLBUILDCHECKBUILD BIN
Biostrings 2.71.2  (landing page)
Hervé Pagès
git_last_commit: ae89951
git_last_commit_date: 2024-02-12 12:48:02 -0500
nebbiolo1Linux (Ubuntu 22.04.3 LTS) / x86_64  OK    OK    WARNINGS  UNNEEDED, same version is already published
palomino3Windows Server 2022 Datacenter / x64  OK    OK    WARNINGS    OK  UNNEEDED, same version is already published
Package 30/514HostnameOS / ArchINSTALLBUILDCHECKBUILD BIN
biovizBase 1.51.0  (landing page)
Michael Lawrence
git_last_commit: 226610a
git_last_commit_date: 2023-10-24 09:48:08 -0500
nebbiolo1Linux (Ubuntu 22.04.3 LTS) / x86_64  OK    OK    WARNINGS  UNNEEDED, same version is already published
palomino3Windows Server 2022 Datacenter / x64  OK    OK    WARNINGS    OK  UNNEEDED, same version is already published
Package 31/514HostnameOS / ArchINSTALLBUILDCHECKBUILD BIN
biscuiteer 1.17.2  (landing page)
Jacob Morrison
git_last_commit: abae576
git_last_commit_date: 2023-12-06 12:12:19 -0500
nebbiolo1Linux (Ubuntu 22.04.3 LTS) / x86_64  OK    OK    ERROR  
palomino3Windows Server 2022 Datacenter / x64  OK    OK    ERROR    OK  
Package 32/514HostnameOS / ArchINSTALLBUILDCHECKBUILD BIN
BiSeq 1.43.0  (landing page)
Katja Hebestreit
git_last_commit: 7f41896
git_last_commit_date: 2023-10-24 09:53:54 -0500
nebbiolo1Linux (Ubuntu 22.04.3 LTS) / x86_64  OK    OK    OK  UNNEEDED, same version is already published
palomino3Windows Server 2022 Datacenter / x64  OK    OK    OK    OK  UNNEEDED, same version is already published
Package 33/514HostnameOS / ArchINSTALLBUILDCHECKBUILD BIN
bnbc 1.25.1  (landing page)
Kipper Fletez-Brant
git_last_commit: 5d4b2ed
git_last_commit_date: 2024-01-23 22:01:12 -0500
nebbiolo1Linux (Ubuntu 22.04.3 LTS) / x86_64  OK    OK    OK  UNNEEDED, same version is already published
palomino3Windows Server 2022 Datacenter / x64  OK    OK    OK    OK  UNNEEDED, same version is already published
Package 34/514HostnameOS / ArchINSTALLBUILDCHECKBUILD BIN
BPRMeth 1.29.0  (landing page)
Chantriolnt-Andreas Kapourani
git_last_commit: c9d9582
git_last_commit_date: 2023-10-24 10:54:10 -0500
nebbiolo1Linux (Ubuntu 22.04.3 LTS) / x86_64  OK    OK    OK  UNNEEDED, same version is already published
palomino3Windows Server 2022 Datacenter / x64  OK    OK    OK    OK  UNNEEDED, same version is already published
Package 35/514HostnameOS / ArchINSTALLBUILDCHECKBUILD BIN
branchpointer 1.29.0  (landing page)
Beth Signal
git_last_commit: 1808e53
git_last_commit_date: 2023-10-24 10:56:02 -0500
nebbiolo1Linux (Ubuntu 22.04.3 LTS) / x86_64  OK    OK    OK  UNNEEDED, same version is already published
palomino3Windows Server 2022 Datacenter / x64  OK    OK    OK    OK  UNNEEDED, same version is already published
Package 36/514HostnameOS / ArchINSTALLBUILDCHECKBUILD BIN
breakpointR 1.21.0  (landing page)
David Porubsky
git_last_commit: 52e8c14
git_last_commit_date: 2023-10-24 11:08:00 -0500
nebbiolo1Linux (Ubuntu 22.04.3 LTS) / x86_64  OK    OK    OK  UNNEEDED, same version is already published
palomino3Windows Server 2022 Datacenter / x64  OK    OK    OK    OK  UNNEEDED, same version is already published
Package 37/514HostnameOS / ArchINSTALLBUILDCHECKBUILD BIN
BRGenomics 1.15.0  (landing page)
Mike DeBerardine
git_last_commit: 6949bcc
git_last_commit_date: 2023-10-24 11:20:40 -0500
nebbiolo1Linux (Ubuntu 22.04.3 LTS) / x86_64  OK    OK    ERROR  
palomino3Windows Server 2022 Datacenter / x64  OK    OK    ERROR    OK  
Package 38/514HostnameOS / ArchINSTALLBUILDCHECKBUILD BIN
BSgenome 1.71.2  (landing page)
Hervé Pagès
git_last_commit: 0cbac87
git_last_commit_date: 2024-02-07 18:38:59 -0500
nebbiolo1Linux (Ubuntu 22.04.3 LTS) / x86_64  OK    OK    WARNINGS  UNNEEDED, same version is already published
palomino3Windows Server 2022 Datacenter / x64  OK    OK    WARNINGS    OK  UNNEEDED, same version is already published
Package 39/514HostnameOS / ArchINSTALLBUILDCHECKBUILD BIN
BSgenomeForge 1.3.2  (landing page)
Hervé Pagès
git_last_commit: f011316
git_last_commit_date: 2024-02-12 12:53:52 -0500
nebbiolo1Linux (Ubuntu 22.04.3 LTS) / x86_64  OK    ERROR  skipped
palomino3Windows Server 2022 Datacenter / x64  OK    ERROR  skippedskipped
Package 40/514HostnameOS / ArchINSTALLBUILDCHECKBUILD BIN
bsseq 1.39.0  (landing page)
Kasper Daniel Hansen
git_last_commit: c22c4d2
git_last_commit_date: 2023-10-24 09:50:39 -0500
nebbiolo1Linux (Ubuntu 22.04.3 LTS) / x86_64  OK    OK    OK  UNNEEDED, same version is already published
palomino3Windows Server 2022 Datacenter / x64  OK    OK    OK    OK  UNNEEDED, same version is already published
Package 41/514HostnameOS / ArchINSTALLBUILDCHECKBUILD BIN
BubbleTree 2.33.0  (landing page)
Todd Creasy , Wei Zhu
git_last_commit: 56d4a11
git_last_commit_date: 2023-10-24 10:41:33 -0500
nebbiolo1Linux (Ubuntu 22.04.3 LTS) / x86_64  OK    OK    OK  UNNEEDED, same version is already published
palomino3Windows Server 2022 Datacenter / x64  OK    OK    OK    OK  UNNEEDED, same version is already published
Package 42/514HostnameOS / ArchINSTALLBUILDCHECKBUILD BIN
BUMHMM 1.27.0  (landing page)
Alina Selega
git_last_commit: 8291b25
git_last_commit_date: 2023-10-24 10:54:31 -0500
nebbiolo1Linux (Ubuntu 22.04.3 LTS) / x86_64  OK    OK    OK  UNNEEDED, same version is already published
palomino3Windows Server 2022 Datacenter / x64  OK    OK    OK    OK  UNNEEDED, same version is already published
Package 43/514HostnameOS / ArchINSTALLBUILDCHECKBUILD BIN
bumphunter 1.45.0  (landing page)
Tamilselvi Guharaj
git_last_commit: 7457851
git_last_commit_date: 2023-10-24 09:52:09 -0500
nebbiolo1Linux (Ubuntu 22.04.3 LTS) / x86_64  OK    OK    OK  UNNEEDED, same version is already published
palomino3Windows Server 2022 Datacenter / x64  OK    OK    OK    OK  UNNEEDED, same version is already published
Package 44/514HostnameOS / ArchINSTALLBUILDCHECKBUILD BIN
BumpyMatrix 1.11.0  (landing page)
Aaron Lun
git_last_commit: b7f5eb3
git_last_commit_date: 2023-10-24 11:28:56 -0500
nebbiolo1Linux (Ubuntu 22.04.3 LTS) / x86_64  OK    OK    OK  UNNEEDED, same version is already published
palomino3Windows Server 2022 Datacenter / x64  OK    OK    OK    OK  UNNEEDED, same version is already published
Package 45/514HostnameOS / ArchINSTALLBUILDCHECKBUILD BIN
BUSpaRse 1.17.0  (landing page)
Lambda Moses
git_last_commit: 598a7d7
git_last_commit_date: 2024-01-26 19:07:20 -0500
nebbiolo1Linux (Ubuntu 22.04.3 LTS) / x86_64  OK    ERROR  skipped
palomino3Windows Server 2022 Datacenter / x64  OK    ERROR  skippedskipped
Package 46/514HostnameOS / ArchINSTALLBUILDCHECKBUILD BIN
CAFE 1.39.0  (landing page)
Sander Bollen
git_last_commit: fa0f9c9
git_last_commit_date: 2023-10-24 09:57:47 -0500
nebbiolo1Linux (Ubuntu 22.04.3 LTS) / x86_64  OK    OK    WARNINGS  UNNEEDED, same version is already published
palomino3Windows Server 2022 Datacenter / x64  OK    OK    WARNINGS    OK  UNNEEDED, same version is already published
Package 47/514HostnameOS / ArchINSTALLBUILDCHECKBUILD BIN
CAGEfightR 1.23.0  (landing page)
Malte Thodberg
git_last_commit: c9667b2
git_last_commit_date: 2023-10-24 11:05:23 -0500
nebbiolo1Linux (Ubuntu 22.04.3 LTS) / x86_64  OK    OK    OK  UNNEEDED, same version is already published
palomino3Windows Server 2022 Datacenter / x64  OK    OK    OK    OK  UNNEEDED, same version is already published
Package 48/514HostnameOS / ArchINSTALLBUILDCHECKBUILD BIN
cageminer 1.9.0  (landing page)
Fabrício Almeida-Silva
git_last_commit: 54b3150
git_last_commit_date: 2023-10-24 11:35:02 -0500
nebbiolo1Linux (Ubuntu 22.04.3 LTS) / x86_64  OK    OK    OK  UNNEEDED, same version is already published
palomino3Windows Server 2022 Datacenter / x64  OK    OK    OK    OK  UNNEEDED, same version is already published
Package 49/514HostnameOS / ArchINSTALLBUILDCHECKBUILD BIN
CAGEr 2.9.0  (landing page)
Charles Plessy
git_last_commit: 18d7295
git_last_commit_date: 2023-10-24 09:52:59 -0500
nebbiolo1Linux (Ubuntu 22.04.3 LTS) / x86_64  OK    OK    OK  UNNEEDED, same version is already published
palomino3Windows Server 2022 Datacenter / x64  OK    OK    OK    OK  UNNEEDED, same version is already published
Package 50/514HostnameOS / ArchINSTALLBUILDCHECKBUILD BIN
casper 2.37.0  (landing page)
David Rossell
git_last_commit: fdb9dd6
git_last_commit_date: 2023-10-24 09:52:32 -0500
nebbiolo1Linux (Ubuntu 22.04.3 LTS) / x86_64  OK    OK    OK  UNNEEDED, same version is already published
palomino3Windows Server 2022 Datacenter / x64  OK    OK    WARNINGS    OK  UNNEEDED, same version is already published
Package 51/514HostnameOS / ArchINSTALLBUILDCHECKBUILD BIN
cBioPortalData 2.15.3  (landing page)
Marcel Ramos
git_last_commit: 3e7aefc
git_last_commit_date: 2024-02-02 15:02:35 -0500
nebbiolo1Linux (Ubuntu 22.04.3 LTS) / x86_64  OK    OK    OK  UNNEEDED, same version is already published
palomino3Windows Server 2022 Datacenter / x64  OK    OK    OK    OK  UNNEEDED, same version is already published
Package 52/514HostnameOS / ArchINSTALLBUILDCHECKBUILD BIN
CexoR 1.41.0  (landing page)
Pedro Madrigal
git_last_commit: eff3905
git_last_commit_date: 2023-10-24 11:36:53 -0500
nebbiolo1Linux (Ubuntu 22.04.3 LTS) / x86_64  OK    OK    OK  UNNEEDED, same version is already published
palomino3Windows Server 2022 Datacenter / x64  OK    OK    OK    OK  UNNEEDED, same version is already published
Package 53/514HostnameOS / ArchINSTALLBUILDCHECKBUILD BIN
cfdnakit 1.1.0  (landing page)
Pitithat Puranachot
git_last_commit: f8949e4
git_last_commit_date: 2023-12-14 00:54:59 -0500
nebbiolo1Linux (Ubuntu 22.04.3 LTS) / x86_64  OK    OK    OK  UNNEEDED, same version is already published
palomino3Windows Server 2022 Datacenter / x64  OK    OK    OK    OK  UNNEEDED, same version is already published
Package 54/514HostnameOS / ArchINSTALLBUILDCHECKBUILD BIN
cfDNAPro 1.9.0  (landing page)
Haichao Wang
git_last_commit: 24d81de
git_last_commit_date: 2023-10-24 11:35:16 -0500
nebbiolo1Linux (Ubuntu 22.04.3 LTS) / x86_64  OK    OK    WARNINGS  UNNEEDED, same version is already published
palomino3Windows Server 2022 Datacenter / x64  OK    OK    WARNINGS    OK  UNNEEDED, same version is already published
Package 55/514HostnameOS / ArchINSTALLBUILDCHECKBUILD BIN
chimeraviz 1.29.0  (landing page)
Stian Lågstad
git_last_commit: 925f992
git_last_commit_date: 2023-11-25 11:53:49 -0500
nebbiolo1Linux (Ubuntu 22.04.3 LTS) / x86_64  OK    OK    OK  UNNEEDED, same version is already published
palomino3Windows Server 2022 Datacenter / x64  OK    OK    OK    OK  UNNEEDED, same version is already published
Package 56/514HostnameOS / ArchINSTALLBUILDCHECKBUILD BIN
ChIPanalyser 1.25.0  (landing page)
Patrick C.N. Martin
git_last_commit: 022da06
git_last_commit_date: 2023-10-24 10:59:22 -0500
nebbiolo1Linux (Ubuntu 22.04.3 LTS) / x86_64  OK    OK    OK  UNNEEDED, same version is already published
palomino3Windows Server 2022 Datacenter / x64  OK    OK    OK    OK  UNNEEDED, same version is already published
Package 57/514HostnameOS / ArchINSTALLBUILDCHECKBUILD BIN
ChIPComp 1.33.0  (landing page)
Li Chen
git_last_commit: 9b4235c
git_last_commit_date: 2023-10-24 10:44:51 -0500
nebbiolo1Linux (Ubuntu 22.04.3 LTS) / x86_64  OK    OK    OK  UNNEEDED, same version is already published
palomino3Windows Server 2022 Datacenter / x64  OK    OK    OK    OK  UNNEEDED, same version is already published
Package 58/514HostnameOS / ArchINSTALLBUILDCHECKBUILD BIN
chipenrich 2.27.0  (landing page)
Kai Wang
git_last_commit: b712917
git_last_commit_date: 2023-10-24 09:55:43 -0500
nebbiolo1Linux (Ubuntu 22.04.3 LTS) / x86_64  OK    OK    OK  UNNEEDED, same version is already published
palomino3Windows Server 2022 Datacenter / x64  OK    OK    OK    OK  UNNEEDED, same version is already published
Package 59/514HostnameOS / ArchINSTALLBUILDCHECKBUILD BIN
ChIPexoQual 1.27.0  (landing page)
Rene Welch
git_last_commit: a0dc514
git_last_commit_date: 2023-10-24 10:55:06 -0500
nebbiolo1Linux (Ubuntu 22.04.3 LTS) / x86_64  OK    OK    OK  UNNEEDED, same version is already published
palomino3Windows Server 2022 Datacenter / x64  OK    OK    OK    OK  UNNEEDED, same version is already published
Package 60/514HostnameOS / ArchINSTALLBUILDCHECKBUILD BIN
ChIPpeakAnno 3.37.4  (landing page)
Jianhong Ou
git_last_commit: 58a122c
git_last_commit_date: 2024-01-29 08:57:31 -0500
nebbiolo1Linux (Ubuntu 22.04.3 LTS) / x86_64  OK    OK    OK  UNNEEDED, same version is already published
palomino3Windows Server 2022 Datacenter / x64  OK    OK    OK    OK  UNNEEDED, same version is already published
Package 61/514HostnameOS / ArchINSTALLBUILDCHECKBUILD BIN
ChIPQC 1.39.0  (landing page)
Tom Carroll , Rory Stark
git_last_commit: 5965ee6
git_last_commit_date: 2023-10-24 09:58:19 -0500
nebbiolo1Linux (Ubuntu 22.04.3 LTS) / x86_64  OK    OK    WARNINGS  UNNEEDED, same version is already published
palomino3Windows Server 2022 Datacenter / x64  OK    OK    WARNINGS    OK  UNNEEDED, same version is already published
Package 62/514HostnameOS / ArchINSTALLBUILDCHECKBUILD BIN
ChIPseeker 1.39.0  (landing page)
Guangchuang Yu
git_last_commit: cb681a6
git_last_commit_date: 2023-10-25 05:07:35 -0500
nebbiolo1Linux (Ubuntu 22.04.3 LTS) / x86_64  OK    OK    OK  UNNEEDED, same version is already published
palomino3Windows Server 2022 Datacenter / x64  OK    OK    OK    OK  UNNEEDED, same version is already published
Package 63/514HostnameOS / ArchINSTALLBUILDCHECKBUILD BIN
chipseq 1.53.0  (landing page)
Bioconductor Package Maintainer
git_last_commit: 05c6094
git_last_commit_date: 2023-10-24 09:42:03 -0500
nebbiolo1Linux (Ubuntu 22.04.3 LTS) / x86_64  OK    OK    WARNINGS  UNNEEDED, same version is already published
palomino3Windows Server 2022 Datacenter / x64  OK    OK    WARNINGS    OK  UNNEEDED, same version is already published
Package 64/514HostnameOS / ArchINSTALLBUILDCHECKBUILD BIN
ChIPseqR 1.57.0  (landing page)
Peter Humburg
git_last_commit: a94f315
git_last_commit_date: 2023-10-24 09:42:51 -0500
nebbiolo1Linux (Ubuntu 22.04.3 LTS) / x86_64  OK    OK    OK  UNNEEDED, same version is already published
palomino3Windows Server 2022 Datacenter / x64  OK    OK    OK    OK  UNNEEDED, same version is already published
Package 65/514HostnameOS / ArchINSTALLBUILDCHECKBUILD BIN
ChIPsim 1.57.0  (landing page)
Peter Humburg
git_last_commit: db7e80e
git_last_commit_date: 2023-10-24 09:42:24 -0500
nebbiolo1Linux (Ubuntu 22.04.3 LTS) / x86_64  OK    OK    OK  UNNEEDED, same version is already published
palomino3Windows Server 2022 Datacenter / x64  OK    OK    OK    OK  UNNEEDED, same version is already published
Package 66/514HostnameOS / ArchINSTALLBUILDCHECKBUILD BIN
ChromHeatMap 1.57.0  (landing page)
Tim F. Rayner
git_last_commit: 380cfa5
git_last_commit_date: 2023-10-24 09:42:48 -0500
nebbiolo1Linux (Ubuntu 22.04.3 LTS) / x86_64  OK    OK    OK  UNNEEDED, same version is already published
palomino3Windows Server 2022 Datacenter / x64  OK    OK    OK    OK  UNNEEDED, same version is already published
Package 67/514HostnameOS / ArchINSTALLBUILDCHECKBUILD BIN
ChromSCape 1.13.0  (landing page)
Pacome Prompsy
git_last_commit: d73b93e
git_last_commit_date: 2023-10-24 11:26:16 -0500
nebbiolo1Linux (Ubuntu 22.04.3 LTS) / x86_64  OK    OK    WARNINGS  UNNEEDED, same version is already published
palomino3Windows Server 2022 Datacenter / x64  OK    OK    WARNINGS    OK  UNNEEDED, same version is already published
Package 68/514HostnameOS / ArchINSTALLBUILDCHECKBUILD BIN
chromstaR 1.29.0  (landing page)
Aaron Taudt
git_last_commit: 1a8d1f3
git_last_commit_date: 2023-10-24 10:51:00 -0500
nebbiolo1Linux (Ubuntu 22.04.3 LTS) / x86_64  OK    OK    OK  UNNEEDED, same version is already published
palomino3Windows Server 2022 Datacenter / x64  OK    OK    OK    OK  UNNEEDED, same version is already published
Package 69/514HostnameOS / ArchINSTALLBUILDCHECKBUILD BIN
chromVAR 1.25.0  (landing page)
Alicia Schep
git_last_commit: 4dc365e
git_last_commit_date: 2023-10-24 11:00:14 -0500
nebbiolo1Linux (Ubuntu 22.04.3 LTS) / x86_64  OK    OK    OK  UNNEEDED, same version is already published
palomino3Windows Server 2022 Datacenter / x64  OK    OK    OK    OK  UNNEEDED, same version is already published
Package 70/514HostnameOS / ArchINSTALLBUILDCHECKBUILD BIN
cicero 1.21.0  (landing page)
Hannah Pliner
git_last_commit: e41d30f
git_last_commit_date: 2023-10-24 11:08:17 -0500
nebbiolo1Linux (Ubuntu 22.04.3 LTS) / x86_64  ERROR    ERROR  skipped
palomino3Windows Server 2022 Datacenter / x64  ERROR    ERROR  skippedskipped
Package 71/514HostnameOS / ArchINSTALLBUILDCHECKBUILD BIN
CINdex 1.31.0  (landing page)
Yuriy Gusev
git_last_commit: 7afb5b1
git_last_commit_date: 2023-10-24 10:49:08 -0500
nebbiolo1Linux (Ubuntu 22.04.3 LTS) / x86_64  OK    OK    WARNINGS  UNNEEDED, same version is already published
palomino3Windows Server 2022 Datacenter / x64  OK    OK    WARNINGS    OK  UNNEEDED, same version is already published
Package 72/514HostnameOS / ArchINSTALLBUILDCHECKBUILD BIN
circRNAprofiler 1.17.0  (landing page)
Simona Aufiero
git_last_commit: 84d864a
git_last_commit_date: 2023-10-26 12:17:10 -0500
nebbiolo1Linux (Ubuntu 22.04.3 LTS) / x86_64  OK    OK    OK  UNNEEDED, same version is already published
palomino3Windows Server 2022 Datacenter / x64  OK    OK    OK    OK  UNNEEDED, same version is already published
Package 73/514HostnameOS / ArchINSTALLBUILDCHECKBUILD BIN
CircSeqAlignTk 1.5.0  (landing page)
Jianqiang Sun
git_last_commit: 43c5ebb
git_last_commit_date: 2023-10-24 11:44:28 -0500
nebbiolo1Linux (Ubuntu 22.04.3 LTS) / x86_64  OK    OK    OK  UNNEEDED, same version is already published
palomino3Windows Server 2022 Datacenter / x64  OK    OK    ERROR    OK  
Package 74/514HostnameOS / ArchINSTALLBUILDCHECKBUILD BIN
cleanUpdTSeq 1.41.0  (landing page)
Jianhong Ou ; Lihua Julie Zhu
git_last_commit: 69081b0
git_last_commit_date: 2023-10-24 09:54:49 -0500
nebbiolo1Linux (Ubuntu 22.04.3 LTS) / x86_64  OK    OK    OK  UNNEEDED, same version is already published
palomino3Windows Server 2022 Datacenter / x64  OK    OK    OK    OK  UNNEEDED, same version is already published
Package 75/514HostnameOS / ArchINSTALLBUILDCHECKBUILD BIN
cleaver 1.41.2  (landing page)
Sebastian Gibb
git_last_commit: 1b9155e
git_last_commit_date: 2023-12-03 04:46:46 -0500
nebbiolo1Linux (Ubuntu 22.04.3 LTS) / x86_64  OK    OK    OK  UNNEEDED, same version is already published
palomino3Windows Server 2022 Datacenter / x64  OK    OK    OK    OK  UNNEEDED, same version is already published
Package 76/514HostnameOS / ArchINSTALLBUILDCHECKBUILD BIN
cn.mops 1.49.0  (landing page)
Gundula Povysil
git_last_commit: e309333
git_last_commit_date: 2024-01-19 07:20:54 -0500
nebbiolo1Linux (Ubuntu 22.04.3 LTS) / x86_64  OK    OK    OK  UNNEEDED, same version is already published
palomino3Windows Server 2022 Datacenter / x64  OK    OK    OK    OK  UNNEEDED, same version is already published
Package 77/514HostnameOS / ArchINSTALLBUILDCHECKBUILD BIN
CNEr 1.39.0  (landing page)
Ge Tan
git_last_commit: 22a4e19
git_last_commit_date: 2023-10-24 09:57:27 -0500
nebbiolo1Linux (Ubuntu 22.04.3 LTS) / x86_64  OK    OK    WARNINGS  UNNEEDED, same version is already published
palomino3Windows Server 2022 Datacenter / x64  OK    OK    WARNINGS    OK  UNNEEDED, same version is already published
Package 78/514HostnameOS / ArchINSTALLBUILDCHECKBUILD BIN
CNVfilteR 1.17.0  (landing page)
Jose Marcos Moreno-Cabrera
git_last_commit: a88be24
git_last_commit_date: 2023-10-24 11:17:02 -0500
nebbiolo1Linux (Ubuntu 22.04.3 LTS) / x86_64  OK    OK    OK  UNNEEDED, same version is already published
palomino3Windows Server 2022 Datacenter / x64  OK    OK    OK    OK  UNNEEDED, same version is already published
Package 79/514HostnameOS / ArchINSTALLBUILDCHECKBUILD BIN
CNVMetrics 1.7.0  (landing page)
Astrid Deschênes
git_last_commit: f26fe0d
git_last_commit_date: 2023-10-24 11:38:44 -0500
nebbiolo1Linux (Ubuntu 22.04.3 LTS) / x86_64  OK    OK    OK  UNNEEDED, same version is already published
palomino3Windows Server 2022 Datacenter / x64  OK    OK    OK    OK  UNNEEDED, same version is already published
Package 80/514HostnameOS / ArchINSTALLBUILDCHECKBUILD BIN
CNVPanelizer 1.35.0  (landing page)
Thomas Wolf
git_last_commit: e659edd
git_last_commit_date: 2023-10-24 10:44:06 -0500
nebbiolo1Linux (Ubuntu 22.04.3 LTS) / x86_64  ERROR    ERROR  skipped
palomino3Windows Server 2022 Datacenter / x64  ERROR    ERROR  skippedskipped
Package 81/514HostnameOS / ArchINSTALLBUILDCHECKBUILD BIN
CNVRanger 1.19.1  (landing page)
Ludwig Geistlinger
git_last_commit: 43040b1
git_last_commit_date: 2024-01-19 20:16:38 -0500
nebbiolo1Linux (Ubuntu 22.04.3 LTS) / x86_64  OK    OK    OK  UNNEEDED, same version is already published
palomino3Windows Server 2022 Datacenter / x64  OK    OK    OK    OK  UNNEEDED, same version is already published
Package 82/514HostnameOS / ArchINSTALLBUILDCHECKBUILD BIN
CNVrd2 1.41.0  (landing page)
Hoang Tan Nguyen
git_last_commit: 7a7ceef
git_last_commit_date: 2023-10-24 09:56:44 -0500
nebbiolo1Linux (Ubuntu 22.04.3 LTS) / x86_64  OK    OK    OK  UNNEEDED, same version is already published
palomino3Windows Server 2022 Datacenter / x64  OK    OK    OK    OK  UNNEEDED, same version is already published
Package 83/514HostnameOS / ArchINSTALLBUILDCHECKBUILD BIN
COCOA 2.17.0  (landing page)
John Lawson
git_last_commit: f07eb9a
git_last_commit_date: 2023-10-24 11:09:00 -0500
nebbiolo1Linux (Ubuntu 22.04.3 LTS) / x86_64  OK    OK    OK  UNNEEDED, same version is already published
palomino3Windows Server 2022 Datacenter / x64  OK    OK    OK    OK  UNNEEDED, same version is already published
Package 84/514HostnameOS / ArchINSTALLBUILDCHECKBUILD BIN
CODEX 1.35.0  (landing page)
Yuchao Jiang
git_last_commit: 838ddda
git_last_commit_date: 2023-10-24 10:40:53 -0500
nebbiolo1Linux (Ubuntu 22.04.3 LTS) / x86_64  OK    OK    OK  UNNEEDED, same version is already published
palomino3Windows Server 2022 Datacenter / x64  OK    OK    OK    OK  UNNEEDED, same version is already published
Package 85/514HostnameOS / ArchINSTALLBUILDCHECKBUILD BIN
comapr 1.7.1  (landing page)
Ruqian Lyu
git_last_commit: 1c4273d
git_last_commit_date: 2023-10-26 23:51:15 -0500
nebbiolo1Linux (Ubuntu 22.04.3 LTS) / x86_64  OK    OK    OK  UNNEEDED, same version is already published
palomino3Windows Server 2022 Datacenter / x64  OK    OK    OK    OK  UNNEEDED, same version is already published
Package 86/514HostnameOS / ArchINSTALLBUILDCHECKBUILD BIN
coMET 1.35.0  (landing page)
Tiphaine Martin
git_last_commit: cfaf67e
git_last_commit_date: 2023-10-24 11:45:22 -0500
nebbiolo1Linux (Ubuntu 22.04.3 LTS) / x86_64  OK    OK    WARNINGS  UNNEEDED, same version is already published
palomino3Windows Server 2022 Datacenter / x64  OK    OK    WARNINGS    OK  UNNEEDED, same version is already published
Package 87/514HostnameOS / ArchINSTALLBUILDCHECKBUILD BIN
coMethDMR 1.7.0  (landing page)
Fernanda Veitzman
git_last_commit: b5ea1bb
git_last_commit_date: 2023-10-24 11:38:47 -0500
nebbiolo1Linux (Ubuntu 22.04.3 LTS) / x86_64  OK    OK    OK  UNNEEDED, same version is already published
palomino3Windows Server 2022 Datacenter / x64  OK    OK    OK    OK  UNNEEDED, same version is already published
Package 88/514HostnameOS / ArchINSTALLBUILDCHECKBUILD BIN
compEpiTools 1.37.0  (landing page)
Mattia Furlan
git_last_commit: 3664bd5
git_last_commit_date: 2023-10-24 10:00:44 -0500
nebbiolo1Linux (Ubuntu 22.04.3 LTS) / x86_64  OK    OK    WARNINGS  UNNEEDED, same version is already published
palomino3Windows Server 2022 Datacenter / x64  OK    OK    WARNINGS    OK  UNNEEDED, same version is already published
Package 89/514HostnameOS / ArchINSTALLBUILDCHECKBUILD BIN
ComplexHeatmap 2.19.0  (landing page)
Zuguang Gu
git_last_commit: f54043a
git_last_commit_date: 2023-10-24 10:42:36 -0500
nebbiolo1Linux (Ubuntu 22.04.3 LTS) / x86_64  OK    OK    OK  UNNEEDED, same version is already published
palomino3Windows Server 2022 Datacenter / x64  OK    OK    OK    OK  UNNEEDED, same version is already published
Package 90/514HostnameOS / ArchINSTALLBUILDCHECKBUILD BIN
CompoundDb 1.7.1  (landing page)
Johannes Rainer
git_last_commit: bf6117f
git_last_commit_date: 2023-12-05 05:55:06 -0500
nebbiolo1Linux (Ubuntu 22.04.3 LTS) / x86_64  OK    OK    OK  UNNEEDED, same version is already published
palomino3Windows Server 2022 Datacenter / x64  OK    OK    OK    OK  UNNEEDED, same version is already published
Package 91/514HostnameOS / ArchINSTALLBUILDCHECKBUILD BIN
consensusSeekeR 1.31.0  (landing page)
Astrid Deschenes
git_last_commit: 4b9cef7
git_last_commit_date: 2023-10-24 10:46:19 -0500
nebbiolo1Linux (Ubuntu 22.04.3 LTS) / x86_64  OK    OK    OK  UNNEEDED, same version is already published
palomino3Windows Server 2022 Datacenter / x64  OK    OK    OK    OK  UNNEEDED, same version is already published
Package 92/514HostnameOS / ArchINSTALLBUILDCHECKBUILD BIN
contiBAIT 1.31.1  (landing page)
Kieran O'Neill
git_last_commit: a473e33
git_last_commit_date: 2024-02-01 14:51:17 -0500
nebbiolo1Linux (Ubuntu 22.04.3 LTS) / x86_64  ERROR    ERROR  skipped
palomino3Windows Server 2022 Datacenter / x64  ERROR    ERROR  skippedskipped
Package 93/514HostnameOS / ArchINSTALLBUILDCHECKBUILD BIN
conumee 1.37.0  (landing page)
Volker Hovestadt
git_last_commit: f40271c
git_last_commit_date: 2023-10-24 10:43:01 -0500
nebbiolo1Linux (Ubuntu 22.04.3 LTS) / x86_64  OK    OK    OK  UNNEEDED, same version is already published
palomino3Windows Server 2022 Datacenter / x64... NOT SUPPORTED ...
Package 94/514HostnameOS / ArchINSTALLBUILDCHECKBUILD BIN
CopyNumberPlots 1.19.0  (landing page)
Bernat Gel
git_last_commit: 5be9b08
git_last_commit_date: 2023-10-24 11:13:15 -0500
nebbiolo1Linux (Ubuntu 22.04.3 LTS) / x86_64  OK    OK    OK  UNNEEDED, same version is already published
palomino3Windows Server 2022 Datacenter / x64  OK    OK    OK    OK  UNNEEDED, same version is already published
Package 95/514HostnameOS / ArchINSTALLBUILDCHECKBUILD BIN
CoverageView 1.41.0  (landing page)
Ernesto Lowy
git_last_commit: b3ab7f7
git_last_commit_date: 2023-10-24 09:58:32 -0500
nebbiolo1Linux (Ubuntu 22.04.3 LTS) / x86_64  OK    OK    WARNINGS  UNNEEDED, same version is already published
palomino3Windows Server 2022 Datacenter / x64... NOT SUPPORTED ...
Package 96/514HostnameOS / ArchINSTALLBUILDCHECKBUILD BIN
crisprBase 1.7.1  (landing page)
Jean-Philippe Fortin
git_last_commit: 7f5207a
git_last_commit_date: 2024-02-02 13:41:25 -0500
nebbiolo1Linux (Ubuntu 22.04.3 LTS) / x86_64  OK    OK    OK  UNNEEDED, same version is already published
palomino3Windows Server 2022 Datacenter / x64  OK    OK    OK    OK  UNNEEDED, same version is already published
Package 97/514HostnameOS / ArchINSTALLBUILDCHECKBUILD BIN
crisprBowtie 1.7.0  (landing page)
Jean-Philippe Fortin
git_last_commit: 801118b
git_last_commit_date: 2023-10-24 11:39:40 -0500
nebbiolo1Linux (Ubuntu 22.04.3 LTS) / x86_64  OK    OK    OK  UNNEEDED, same version is already published
palomino3Windows Server 2022 Datacenter / x64  OK    OK    OK    OK  UNNEEDED, same version is already published
Package 98/514HostnameOS / ArchINSTALLBUILDCHECKBUILD BIN
crisprDesign 1.5.1  (landing page)
Jean-Philippe Fortin
git_last_commit: 4ff15ad
git_last_commit_date: 2024-02-01 14:21:02 -0500
nebbiolo1Linux (Ubuntu 22.04.3 LTS) / x86_64  OK    OK    OK  UNNEEDED, same version is already published
palomino3Windows Server 2022 Datacenter / x64  OK    OK    OK    OK  UNNEEDED, same version is already published
Package 99/514HostnameOS / ArchINSTALLBUILDCHECKBUILD BIN
crisprScore 1.7.2  (landing page)
Jean-Philippe Fortin
git_last_commit: 4e9d45f
git_last_commit_date: 2024-01-16 14:09:00 -0500
nebbiolo1Linux (Ubuntu 22.04.3 LTS) / x86_64  OK    OK    OK  UNNEEDED, same version is already published
palomino3Windows Server 2022 Datacenter / x64  OK    OK    OK    OK  UNNEEDED, same version is already published
Package 100/514HostnameOS / ArchINSTALLBUILDCHECKBUILD BIN
CRISPRseek 1.43.0  (landing page)
Lihua Julie Zhu
git_last_commit: 58ee6b3
git_last_commit_date: 2023-10-24 09:56:49 -0500
nebbiolo1Linux (Ubuntu 22.04.3 LTS) / x86_64  OK    OK    OK  UNNEEDED, same version is already published
palomino3Windows Server 2022 Datacenter / x64  OK    OK    OK    OK  UNNEEDED, same version is already published
Package 101/514HostnameOS / ArchINSTALLBUILDCHECKBUILD BIN
CrispRVariants 1.31.0  (landing page)
Helen Lindsay
git_last_commit: 4e3a6d1
git_last_commit_date: 2023-10-24 10:46:52 -0500
nebbiolo1Linux (Ubuntu 22.04.3 LTS) / x86_64  OK    OK    WARNINGS  UNNEEDED, same version is already published
palomino3Windows Server 2022 Datacenter / x64  OK    OK    WARNINGS    OK  UNNEEDED, same version is already published
Package 102/514HostnameOS / ArchINSTALLBUILDCHECKBUILD BIN
crisprViz 1.5.0  (landing page)
Jean-Philippe Fortin
git_last_commit: 3dc6ba4
git_last_commit_date: 2023-10-24 11:44:10 -0500
nebbiolo1Linux (Ubuntu 22.04.3 LTS) / x86_64  OK    OK    OK  UNNEEDED, same version is already published
palomino3Windows Server 2022 Datacenter / x64  OK    OK    OK    OK  UNNEEDED, same version is already published
Package 103/514HostnameOS / ArchINSTALLBUILDCHECKBUILD BIN
CSAR 1.55.0  (landing page)
Jose M Muino
git_last_commit: 6f88f19
git_last_commit_date: 2023-10-24 09:43:04 -0500
nebbiolo1Linux (Ubuntu 22.04.3 LTS) / x86_64  OK    OK    OK  UNNEEDED, same version is already published
palomino3Windows Server 2022 Datacenter / x64  OK    OK    OK    OK  UNNEEDED, same version is already published
Package 104/514HostnameOS / ArchINSTALLBUILDCHECKBUILD BIN
csaw 1.37.1  (landing page)
Aaron Lun
git_last_commit: b6fe934
git_last_commit_date: 2023-11-30 02:21:57 -0500
nebbiolo1Linux (Ubuntu 22.04.3 LTS) / x86_64  OK    OK    WARNINGS  UNNEEDED, same version is already published
palomino3Windows Server 2022 Datacenter / x64  OK    OK    WARNINGS    OK  UNNEEDED, same version is already published
Package 105/514HostnameOS / ArchINSTALLBUILDCHECKBUILD BIN
CSSQ 1.15.0  (landing page)
Fan Lab at Georgia Institute of Technology
git_last_commit: b72333f
git_last_commit_date: 2023-10-24 11:18:33 -0500
nebbiolo1Linux (Ubuntu 22.04.3 LTS) / x86_64  OK    OK    OK  UNNEEDED, same version is already published
palomino3Windows Server 2022 Datacenter / x64  OK    OK    OK    OK  UNNEEDED, same version is already published
Package 106/514HostnameOS / ArchINSTALLBUILDCHECKBUILD BIN
CTexploreR 0.99.5  (landing page)
Axelle Loriot
git_last_commit: ee97824
git_last_commit_date: 2023-11-10 10:17:01 -0500
nebbiolo1Linux (Ubuntu 22.04.3 LTS) / x86_64  OK    OK    OK  UNNEEDED, same version is already published
palomino3Windows Server 2022 Datacenter / x64  OK    OK    OK    OK  UNNEEDED, same version is already published
Package 107/514HostnameOS / ArchINSTALLBUILDCHECKBUILD BIN
customProDB 1.43.0  (landing page)
Xiaojing Wang
git_last_commit: 2c17e50
git_last_commit_date: 2023-10-24 09:54:20 -0500
nebbiolo1Linux (Ubuntu 22.04.3 LTS) / x86_64  OK    ERROR  skipped
palomino3Windows Server 2022 Datacenter / x64  OK    ERROR  skippedskipped
Package 108/514HostnameOS / ArchINSTALLBUILDCHECKBUILD BIN
dada2 1.31.0  (landing page)
Benjamin Callahan
git_last_commit: b28635a
git_last_commit_date: 2023-10-24 10:47:58 -0500
nebbiolo1Linux (Ubuntu 22.04.3 LTS) / x86_64  OK    OK    WARNINGS  UNNEEDED, same version is already published
palomino3Windows Server 2022 Datacenter / x64  OK    OK    WARNINGS    OK  UNNEEDED, same version is already published
Package 109/514HostnameOS / ArchINSTALLBUILDCHECKBUILD BIN
DAMEfinder 1.15.0  (landing page)
Stephany Orjuela
git_last_commit: 0914bc9
git_last_commit_date: 2023-10-24 11:19:04 -0500
nebbiolo1Linux (Ubuntu 22.04.3 LTS) / x86_64  OK    OK    OK  UNNEEDED, same version is already published
palomino3Windows Server 2022 Datacenter / x64  OK    OK    OK    OK  UNNEEDED, same version is already published
Package 110/514HostnameOS / ArchINSTALLBUILDCHECKBUILD BIN
debrowser 1.31.2  (landing page)
Alper Kucukural
git_last_commit: 77c8a5c
git_last_commit_date: 2024-02-05 11:12:54 -0500
nebbiolo1Linux (Ubuntu 22.04.3 LTS) / x86_64  OK    TIMEOUT  skipped
palomino3Windows Server 2022 Datacenter / x64  OK    OK    OK    OK  UNNEEDED, same version is already published
Package 111/514HostnameOS / ArchINSTALLBUILDCHECKBUILD BIN
DECIPHER 2.31.2  (landing page)
Erik Wright
git_last_commit: 5a431e5
git_last_commit_date: 2024-02-11 13:41:50 -0500
nebbiolo1Linux (Ubuntu 22.04.3 LTS) / x86_64  OK    OK    OK  UNNEEDED, same version is already published
palomino3Windows Server 2022 Datacenter / x64  OK    OK    OK    OK  UNNEEDED, same version is already published
Package 112/514HostnameOS / ArchINSTALLBUILDCHECKBUILD BIN
deconvR 1.9.0  (landing page)
Irem B. Gündüz
git_last_commit: b8c4f11
git_last_commit_date: 2023-10-24 11:37:39 -0500
nebbiolo1Linux (Ubuntu 22.04.3 LTS) / x86_64  OK    OK    OK  UNNEEDED, same version is already published
palomino3Windows Server 2022 Datacenter / x64  OK    OK    OK    OK  UNNEEDED, same version is already published
Package 113/514HostnameOS / ArchINSTALLBUILDCHECKBUILD BIN
deepSNV 1.49.0  (landing page)
Moritz Gerstung
git_last_commit: 69c2512
git_last_commit_date: 2023-10-24 09:49:21 -0500
nebbiolo1Linux (Ubuntu 22.04.3 LTS) / x86_64  OK    OK    OK  UNNEEDED, same version is already published
palomino3Windows Server 2022 Datacenter / x64  OK    OK    OK    OK  UNNEEDED, same version is already published
Package 114/514HostnameOS / ArchINSTALLBUILDCHECKBUILD BIN
DegNorm 1.13.0  (landing page)
Ji-Ping Wang
git_last_commit: 06ea7b9
git_last_commit_date: 2023-10-24 11:22:52 -0500
nebbiolo1Linux (Ubuntu 22.04.3 LTS) / x86_64  OK    OK    OK  UNNEEDED, same version is already published
palomino3Windows Server 2022 Datacenter / x64  OK    OK    OK    OK  UNNEEDED, same version is already published
Package 115/514HostnameOS / ArchINSTALLBUILDCHECKBUILD BIN
DelayedArray 0.29.4  (landing page)
Hervé Pagès
git_last_commit: 1a2cc13
git_last_commit_date: 2024-02-18 02:13:22 -0500
nebbiolo1Linux (Ubuntu 22.04.3 LTS) / x86_64  OK    OK    WARNINGS  UNNEEDED, same version is already published
palomino3Windows Server 2022 Datacenter / x64  OK    OK    WARNINGS    OK  UNNEEDED, same version is already published
Package 116/514HostnameOS / ArchINSTALLBUILDCHECKBUILD BIN
DelayedMatrixStats 1.25.1  (landing page)
Peter Hickey
git_last_commit: 20c2e27
git_last_commit_date: 2023-11-08 18:18:25 -0500
nebbiolo1Linux (Ubuntu 22.04.3 LTS) / x86_64  OK    OK    OK  UNNEEDED, same version is already published
palomino3Windows Server 2022 Datacenter / x64  OK    OK    OK    OK  UNNEEDED, same version is already published
Package 117/514HostnameOS / ArchINSTALLBUILDCHECKBUILD BIN
deltaCaptureC 1.17.0  (landing page)
Michael Shapiro
git_last_commit: 0b4e30f
git_last_commit_date: 2023-10-24 11:16:09 -0500
nebbiolo1Linux (Ubuntu 22.04.3 LTS) / x86_64  OK    OK    OK  UNNEEDED, same version is already published
palomino3Windows Server 2022 Datacenter / x64  OK    OK    OK    OK  UNNEEDED, same version is already published
Package 118/514HostnameOS / ArchINSTALLBUILDCHECKBUILD BIN
demuxSNP 1.1.2  (landing page)
Michael Lynch
git_last_commit: 55b99a0
git_last_commit_date: 2023-10-26 12:38:15 -0500
nebbiolo1Linux (Ubuntu 22.04.3 LTS) / x86_64  OK    OK    OK  UNNEEDED, same version is already published
palomino3Windows Server 2022 Datacenter / x64  OK    OK    OK    OK  UNNEEDED, same version is already published
Package 119/514HostnameOS / ArchINSTALLBUILDCHECKBUILD BIN
derfinder 1.37.0  (landing page)
Leonardo Collado-Torres
git_last_commit: 6bd1e04
git_last_commit_date: 2023-10-24 10:38:56 -0500
nebbiolo1Linux (Ubuntu 22.04.3 LTS) / x86_64  OK    OK    OK  UNNEEDED, same version is already published
palomino3Windows Server 2022 Datacenter / x64  OK    OK    OK    OK  UNNEEDED, same version is already published
Package 120/514HostnameOS / ArchINSTALLBUILDCHECKBUILD BIN
derfinderHelper 1.37.0  (landing page)
Leonardo Collado-Torres
git_last_commit: 9aeea21
git_last_commit_date: 2023-10-24 10:39:01 -0500
nebbiolo1Linux (Ubuntu 22.04.3 LTS) / x86_64  OK    OK    OK  UNNEEDED, same version is already published
palomino3Windows Server 2022 Datacenter / x64  OK    OK    OK    OK  UNNEEDED, same version is already published
Package 121/514HostnameOS / ArchINSTALLBUILDCHECKBUILD BIN
derfinderPlot 1.37.0  (landing page)
Leonardo Collado-Torres
git_last_commit: 65847f5
git_last_commit_date: 2023-10-24 10:38:59 -0500
nebbiolo1Linux (Ubuntu 22.04.3 LTS) / x86_64  OK    OK    OK  UNNEEDED, same version is already published
palomino3Windows Server 2022 Datacenter / x64  OK    OK    OK    OK  UNNEEDED, same version is already published
Package 122/514HostnameOS / ArchINSTALLBUILDCHECKBUILD BIN
DEScan2 1.23.0  (landing page)
Dario Righelli
git_last_commit: 02d5fcb
git_last_commit_date: 2023-10-24 11:03:24 -0500
nebbiolo1Linux (Ubuntu 22.04.3 LTS) / x86_64  OK    OK    WARNINGS  UNNEEDED, same version is already published
palomino3Windows Server 2022 Datacenter / x64  OK    OK    WARNINGS    OK  UNNEEDED, same version is already published
Package 123/514HostnameOS / ArchINSTALLBUILDCHECKBUILD BIN
DESeq2 1.43.2  (landing page)
Michael Love
git_last_commit: 0247fd7
git_last_commit_date: 2024-02-01 15:31:18 -0500
nebbiolo1Linux (Ubuntu 22.04.3 LTS) / x86_64  OK    OK    OK  UNNEEDED, same version is already published
palomino3Windows Server 2022 Datacenter / x64  OK    OK    OK    OK  UNNEEDED, same version is already published
Package 124/514HostnameOS / ArchINSTALLBUILDCHECKBUILD BIN
DEXSeq 1.49.0  (landing page)
Alejandro Reyes
git_last_commit: 4bf1187
git_last_commit_date: 2023-10-24 09:47:02 -0500
nebbiolo1Linux (Ubuntu 22.04.3 LTS) / x86_64  OK    OK    OK  UNNEEDED, same version is already published
palomino3Windows Server 2022 Datacenter / x64  OK    OK    OK    OK  UNNEEDED, same version is already published
Package 125/514HostnameOS / ArchINSTALLBUILDCHECKBUILD BIN
DiffBind 3.13.0  (landing page)
Rory Stark
git_last_commit: b8c5bbc
git_last_commit_date: 2023-10-24 09:48:02 -0500
nebbiolo1Linux (Ubuntu 22.04.3 LTS) / x86_64  OK    OK    ERROR  
palomino3Windows Server 2022 Datacenter / x64  OK    OK    ERROR    OK  
Package 126/514HostnameOS / ArchINSTALLBUILDCHECKBUILD BIN
diffHic 1.35.0  (landing page)
Aaron Lun
git_last_commit: 16c4aaf
git_last_commit_date: 2023-10-24 10:43:16 -0500
nebbiolo1Linux (Ubuntu 22.04.3 LTS) / x86_64  OK    OK    WARNINGS  UNNEEDED, same version is already published
palomino3Windows Server 2022 Datacenter / x64  OK    OK    WARNINGS    OK  UNNEEDED, same version is already published
Package 127/514HostnameOS / ArchINSTALLBUILDCHECKBUILD BIN
diffUTR 1.11.0  (landing page)
Pierre-Luc Germain
git_last_commit: 71ca7a2
git_last_commit_date: 2023-10-24 11:33:18 -0500
nebbiolo1Linux (Ubuntu 22.04.3 LTS) / x86_64  OK    OK    OK  UNNEEDED, same version is already published
palomino3Windows Server 2022 Datacenter / x64  OK    OK    OK    OK  UNNEEDED, same version is already published
Package 128/514HostnameOS / ArchINSTALLBUILDCHECKBUILD BIN
DirichletMultinomial 1.45.0  (landing page)
Martin Morgan
git_last_commit: db95280
git_last_commit_date: 2023-10-24 09:50:08 -0500
nebbiolo1Linux (Ubuntu 22.04.3 LTS) / x86_64  OK    OK    WARNINGS  UNNEEDED, same version is already published
palomino3Windows Server 2022 Datacenter / x64  OK    OK    WARNINGS    OK  UNNEEDED, same version is already published
Package 129/514HostnameOS / ArchINSTALLBUILDCHECKBUILD BIN
DMCFB 1.17.2  (landing page)
Farhad Shokoohi
git_last_commit: 4f8dbae
git_last_commit_date: 2024-01-31 21:36:57 -0500
nebbiolo1Linux (Ubuntu 22.04.3 LTS) / x86_64  OK    OK    OK  UNNEEDED, same version is already published
palomino3Windows Server 2022 Datacenter / x64  OK    OK    OK    OK  UNNEEDED, same version is already published
Package 130/514HostnameOS / ArchINSTALLBUILDCHECKBUILD BIN
DMCHMM 1.25.0  (landing page)
Farhad Shokoohi
git_last_commit: ea9be90
git_last_commit_date: 2023-10-24 10:59:14 -0500
nebbiolo1Linux (Ubuntu 22.04.3 LTS) / x86_64  OK    OK    OK  UNNEEDED, same version is already published
palomino3Windows Server 2022 Datacenter / x64  OK    OK    WARNINGS    OK  UNNEEDED, same version is already published
Package 131/514HostnameOS / ArchINSTALLBUILDCHECKBUILD BIN
DMRcaller 1.35.0  (landing page)
Nicolae Radu Zabet
git_last_commit: 2f057be
git_last_commit_date: 2023-10-24 10:42:43 -0500
nebbiolo1Linux (Ubuntu 22.04.3 LTS) / x86_64  OK    OK    OK  UNNEEDED, same version is already published
palomino3Windows Server 2022 Datacenter / x64  OK    OK    OK    OK  UNNEEDED, same version is already published
Package 132/514HostnameOS / ArchINSTALLBUILDCHECKBUILD BIN
DMRcate 2.17.1  (landing page)
Tim Peters
git_last_commit: 8bc91ce
git_last_commit_date: 2023-12-04 22:49:52 -0500
nebbiolo1Linux (Ubuntu 22.04.3 LTS) / x86_64  OK    OK    OK  UNNEEDED, same version is already published
palomino3Windows Server 2022 Datacenter / x64  OK    OK    TIMEOUT    OK  
Package 133/514HostnameOS / ArchINSTALLBUILDCHECKBUILD BIN
DMRScan 1.25.0  (landing page)
Christian M Page
git_last_commit: 749939f
git_last_commit_date: 2023-10-24 10:55:03 -0500
nebbiolo1Linux (Ubuntu 22.04.3 LTS) / x86_64  OK    OK    OK  UNNEEDED, same version is already published
palomino3Windows Server 2022 Datacenter / x64  OK    OK    OK    OK  UNNEEDED, same version is already published
Package 134/514HostnameOS / ArchINSTALLBUILDCHECKBUILD BIN
dmrseq 1.23.1  (landing page)
Keegan Korthauer
git_last_commit: 1b2b0e7
git_last_commit_date: 2024-02-16 17:13:13 -0500
nebbiolo1Linux (Ubuntu 22.04.3 LTS) / x86_64  OK    OK    OK  UNNEEDED, same version is already published
palomino3Windows Server 2022 Datacenter / x64  OK    OK    OK    OK  UNNEEDED, same version is already published
Package 135/514HostnameOS / ArchINSTALLBUILDCHECKBUILD BIN
DNAfusion 1.5.0  (landing page)
Christoffer Trier Maansson
git_last_commit: 633918e
git_last_commit_date: 2023-10-25 03:22:27 -0500
nebbiolo1Linux (Ubuntu 22.04.3 LTS) / x86_64  OK    OK    OK  UNNEEDED, same version is already published
palomino3Windows Server 2022 Datacenter / x64  OK    OK    OK    OK  UNNEEDED, same version is already published
Package 136/514HostnameOS / ArchINSTALLBUILDCHECKBUILD BIN
DominoEffect 1.23.2  (landing page)
Marija Buljan
git_last_commit: fcd7076
git_last_commit_date: 2023-11-08 15:49:39 -0500
nebbiolo1Linux (Ubuntu 22.04.3 LTS) / x86_64  OK    OK    OK  UNNEEDED, same version is already published
palomino3Windows Server 2022 Datacenter / x64  OK    OK    OK    OK  UNNEEDED, same version is already published
Package 137/514HostnameOS / ArchINSTALLBUILDCHECKBUILD BIN
dpeak 1.15.0  (landing page)
Dongjun Chung
git_last_commit: 377836f
git_last_commit_date: 2023-10-24 11:21:57 -0500
nebbiolo1Linux (Ubuntu 22.04.3 LTS) / x86_64  OK    OK    ERROR  
palomino3Windows Server 2022 Datacenter / x64  OK    OK    OK    OK  UNNEEDED, same version is already published
Package 138/514HostnameOS / ArchINSTALLBUILDCHECKBUILD BIN
dreamlet 1.1.18  (landing page)
Gabriel Hoffman
git_last_commit: 836366e
git_last_commit_date: 2024-02-14 12:30:42 -0500
nebbiolo1Linux (Ubuntu 22.04.3 LTS) / x86_64  OK    OK    OK  UNNEEDED, same version is already published
palomino3Windows Server 2022 Datacenter / x64  OK    OK    OK    OK  UNNEEDED, same version is already published
Package 139/514HostnameOS / ArchINSTALLBUILDCHECKBUILD BIN
DRIMSeq 1.31.0  (landing page)
Malgorzata Nowicka
git_last_commit: 9bb3e6a
git_last_commit_date: 2023-10-24 10:48:39 -0500
nebbiolo1Linux (Ubuntu 22.04.3 LTS) / x86_64  OK    OK    WARNINGS  UNNEEDED, same version is already published
palomino3Windows Server 2022 Datacenter / x64  OK    OK    WARNINGS    OK  UNNEEDED, same version is already published
Package 140/514HostnameOS / ArchINSTALLBUILDCHECKBUILD BIN
DropletUtils 1.23.0  (landing page)
Jonathan Griffiths
git_last_commit: 5c19167
git_last_commit_date: 2023-11-06 04:42:46 -0500
nebbiolo1Linux (Ubuntu 22.04.3 LTS) / x86_64  OK    OK    WARNINGS  UNNEEDED, same version is already published
palomino3Windows Server 2022 Datacenter / x64  OK    OK    OK    OK  UNNEEDED, same version is already published
Package 141/514HostnameOS / ArchINSTALLBUILDCHECKBUILD BIN
dStruct 1.9.0  (landing page)
Krishna Choudhary
git_last_commit: 9996b42
git_last_commit_date: 2023-10-24 11:34:31 -0500
nebbiolo1Linux (Ubuntu 22.04.3 LTS) / x86_64  OK    OK    OK  UNNEEDED, same version is already published
palomino3Windows Server 2022 Datacenter / x64  OK    OK    OK    OK  UNNEEDED, same version is already published
Package 142/514HostnameOS / ArchINSTALLBUILDCHECKBUILD BIN
easyRNASeq 2.39.0  (landing page)
Nicolas Delhomme
git_last_commit: 3c9525d
git_last_commit_date: 2023-10-24 09:49:08 -0500
nebbiolo1Linux (Ubuntu 22.04.3 LTS) / x86_64  OK    OK    OK  UNNEEDED, same version is already published
palomino3Windows Server 2022 Datacenter / x64  OK    OK    ERROR    OK  
Package 143/514HostnameOS / ArchINSTALLBUILDCHECKBUILD BIN
EDASeq 2.37.0  (landing page)
Davide Risso
git_last_commit: 3601963
git_last_commit_date: 2023-10-24 09:47:57 -0500
nebbiolo1Linux (Ubuntu 22.04.3 LTS) / x86_64  OK    OK    OK  UNNEEDED, same version is already published
palomino3Windows Server 2022 Datacenter / x64  OK    OK    OK    OK  UNNEEDED, same version is already published
Package 144/514HostnameOS / ArchINSTALLBUILDCHECKBUILD BIN
eisaR 1.15.1  (landing page)
Michael Stadler
git_last_commit: 3833c68
git_last_commit_date: 2024-01-08 05:35:00 -0500
nebbiolo1Linux (Ubuntu 22.04.3 LTS) / x86_64  OK    OK    OK  UNNEEDED, same version is already published
palomino3Windows Server 2022 Datacenter / x64  OK    OK    OK    OK  UNNEEDED, same version is already published
Package 145/514HostnameOS / ArchINSTALLBUILDCHECKBUILD BIN
ELMER 2.27.0  (landing page)
Tiago Chedraoui Silva
git_last_commit: de20e96
git_last_commit_date: 2023-10-24 10:43:48 -0500
nebbiolo1Linux (Ubuntu 22.04.3 LTS) / x86_64  OK    OK    OK  UNNEEDED, same version is already published
palomino3Windows Server 2022 Datacenter / x64  OK    OK    OK    OK  UNNEEDED, same version is already published
Package 146/514HostnameOS / ArchINSTALLBUILDCHECKBUILD BIN
enhancerHomologSearch 1.9.4  (landing page)
Jianhong Ou
git_last_commit: 7b090cb
git_last_commit_date: 2024-02-13 08:45:43 -0500
nebbiolo1Linux (Ubuntu 22.04.3 LTS) / x86_64  OK    OK    OK  UNNEEDED, same version is already published
palomino3Windows Server 2022 Datacenter / x64  OK    OK    OK    OK  UNNEEDED, same version is already published
Package 147/514HostnameOS / ArchINSTALLBUILDCHECKBUILD BIN
ENmix 1.39.2  (landing page)
Zongli Xu
git_last_commit: 96f773e
git_last_commit_date: 2023-11-14 10:17:15 -0500
nebbiolo1Linux (Ubuntu 22.04.3 LTS) / x86_64  OK    OK    OK  UNNEEDED, same version is already published
palomino3Windows Server 2022 Datacenter / x64  OK    OK    OK    OK  UNNEEDED, same version is already published
Package 148/514HostnameOS / ArchINSTALLBUILDCHECKBUILD BIN
EnrichedHeatmap 1.33.0  (landing page)
Zuguang Gu
git_last_commit: 7deb036
git_last_commit_date: 2023-10-24 10:45:26 -0500
nebbiolo1Linux (Ubuntu 22.04.3 LTS) / x86_64  OK    OK    OK  UNNEEDED, same version is already published
palomino3Windows Server 2022 Datacenter / x64  OK    OK    OK    OK  UNNEEDED, same version is already published
Package 149/514HostnameOS / ArchINSTALLBUILDCHECKBUILD BIN
enrichTF 1.19.0  (landing page)
Zheng Wei
git_last_commit: b365add
git_last_commit_date: 2023-10-24 11:13:36 -0500
nebbiolo1Linux (Ubuntu 22.04.3 LTS) / x86_64  OK    OK    ERROR  
palomino3Windows Server 2022 Datacenter / x64  OK    OK    OK    OK  UNNEEDED, same version is already published
Package 150/514HostnameOS / ArchINSTALLBUILDCHECKBUILD BIN
ensembldb 2.27.1  (landing page)
Johannes Rainer
git_last_commit: cd5b590
git_last_commit_date: 2023-11-20 04:49:44 -0500
nebbiolo1Linux (Ubuntu 22.04.3 LTS) / x86_64  OK    OK    OK  UNNEEDED, same version is already published
palomino3Windows Server 2022 Datacenter / x64  OK    OK    OK    OK  UNNEEDED, same version is already published
Package 151/514HostnameOS / ArchINSTALLBUILDCHECKBUILD BIN
EpiCompare 1.7.3  (landing page)
Thomas Roberts
git_last_commit: 650ac8d
git_last_commit_date: 2024-02-13 04:45:42 -0500
nebbiolo1Linux (Ubuntu 22.04.3 LTS) / x86_64  OK    OK    OK  UNNEEDED, same version is already published
palomino3Windows Server 2022 Datacenter / x64  OK    OK    OK    OK  UNNEEDED, same version is already published
Package 152/514HostnameOS / ArchINSTALLBUILDCHECKBUILD BIN
epidecodeR 1.11.0  (landing page)
Kandarp Joshi
git_last_commit: 9a00dad
git_last_commit_date: 2023-10-24 11:31:43 -0500
nebbiolo1Linux (Ubuntu 22.04.3 LTS) / x86_64  OK    OK    OK  UNNEEDED, same version is already published
palomino3Windows Server 2022 Datacenter / x64  OK    OK    OK    OK  UNNEEDED, same version is already published
Package 153/514HostnameOS / ArchINSTALLBUILDCHECKBUILD BIN
epigenomix 1.43.0  (landing page)
Hans-Ulrich Klein
git_last_commit: 6ba7351
git_last_commit_date: 2023-10-24 09:53:11 -0500
nebbiolo1Linux (Ubuntu 22.04.3 LTS) / x86_64  OK    OK    OK  UNNEEDED, same version is already published
palomino3Windows Server 2022 Datacenter / x64  OK    OK    OK    OK  UNNEEDED, same version is already published
Package 154/514HostnameOS / ArchINSTALLBUILDCHECKBUILD BIN
epigraHMM 1.11.0  (landing page)
Pedro Baldoni
git_last_commit: 2e759b7
git_last_commit_date: 2023-10-24 11:33:52 -0500
nebbiolo1Linux (Ubuntu 22.04.3 LTS) / x86_64  OK    OK    WARNINGS  UNNEEDED, same version is already published
palomino3Windows Server 2022 Datacenter / x64  OK    OK    OK    OK  UNNEEDED, same version is already published
Package 155/514HostnameOS / ArchINSTALLBUILDCHECKBUILD BIN
EpiMix 1.5.0  (landing page)
Yuanning Zheng
git_last_commit: 7a6efef
git_last_commit_date: 2023-10-24 11:43:01 -0500
nebbiolo1Linux (Ubuntu 22.04.3 LTS) / x86_64  OK    OK    ERROR  
palomino3Windows Server 2022 Datacenter / x64  OK    OK    OK    OK  UNNEEDED, same version is already published
Package 156/514HostnameOS / ArchINSTALLBUILDCHECKBUILD BIN
epimutacions 1.7.1  (landing page)
Dolors Pelegri-Siso
git_last_commit: deb5e62
git_last_commit_date: 2023-11-03 07:38:00 -0500
nebbiolo1Linux (Ubuntu 22.04.3 LTS) / x86_64  OK    OK    OK  UNNEEDED, same version is already published
palomino3Windows Server 2022 Datacenter / x64  OK    OK    OK    OK  UNNEEDED, same version is already published
Package 157/514HostnameOS / ArchINSTALLBUILDCHECKBUILD BIN
epistack 1.9.0  (landing page)
DEVAILLY Guillaume
git_last_commit: 43d7ba7
git_last_commit_date: 2023-10-24 11:37:24 -0500
nebbiolo1Linux (Ubuntu 22.04.3 LTS) / x86_64  OK    OK    OK  UNNEEDED, same version is already published
palomino3Windows Server 2022 Datacenter / x64  OK    OK    OK    OK  UNNEEDED, same version is already published
Package 158/514HostnameOS / ArchINSTALLBUILDCHECKBUILD BIN
EpiTxDb 1.15.1  (landing page)
Felix G.M. Ernst
git_last_commit: 55004e5
git_last_commit_date: 2024-01-13 10:07:37 -0500
nebbiolo1Linux (Ubuntu 22.04.3 LTS) / x86_64  OK    OK    OK  UNNEEDED, same version is already published
palomino3Windows Server 2022 Datacenter / x64  OK    OK    OK    OK  UNNEEDED, same version is already published
Package 159/514HostnameOS / ArchINSTALLBUILDCHECKBUILD BIN
epivizr 2.33.0  (landing page)
Hector Corrada Bravo
git_last_commit: e7f49f8
git_last_commit_date: 2023-10-24 09:56:13 -0500
nebbiolo1Linux (Ubuntu 22.04.3 LTS) / x86_64  OK    OK    OK  UNNEEDED, same version is already published
palomino3Windows Server 2022 Datacenter / x64  OK    OK    OK    OK  UNNEEDED, same version is already published
Package 160/514HostnameOS / ArchINSTALLBUILDCHECKBUILD BIN
epivizrData 1.31.0  (landing page)
Hector Corrada Bravo
git_last_commit: d7e37a3
git_last_commit_date: 2023-10-24 10:50:04 -0500
nebbiolo1Linux (Ubuntu 22.04.3 LTS) / x86_64  OK    OK    OK  UNNEEDED, same version is already published
palomino3Windows Server 2022 Datacenter / x64  OK    OK    OK    OK  UNNEEDED, same version is already published
Package 161/514HostnameOS / ArchINSTALLBUILDCHECKBUILD BIN
erma 1.19.0  (landing page)
VJ Carey
git_last_commit: 6755a45
git_last_commit_date: 2023-10-24 10:43:59 -0500
nebbiolo1Linux (Ubuntu 22.04.3 LTS) / x86_64  OK    OK    OK  UNNEEDED, same version is already published
palomino3Windows Server 2022 Datacenter / x64  OK    OK    OK    OK  UNNEEDED, same version is already published
Package 162/514HostnameOS / ArchINSTALLBUILDCHECKBUILD BIN
esATAC 1.25.0  (landing page)
Zheng Wei
git_last_commit: c979e6e
git_last_commit_date: 2023-10-24 11:01:27 -0500
nebbiolo1Linux (Ubuntu 22.04.3 LTS) / x86_64  OK    OK    OK  UNNEEDED, same version is already published
palomino3Windows Server 2022 Datacenter / x64  OK    OK    OK    OK  UNNEEDED, same version is already published
Package 163/514HostnameOS / ArchINSTALLBUILDCHECKBUILD BIN
EventPointer 3.11.0  (landing page)
Juan A. Ferrer-Bonsoms
git_last_commit: b2719c8
git_last_commit_date: 2023-10-24 10:55:44 -0500
nebbiolo1Linux (Ubuntu 22.04.3 LTS) / x86_64  OK    OK    OK  UNNEEDED, same version is already published
palomino3Windows Server 2022 Datacenter / x64  OK    OK    OK    OK  UNNEEDED, same version is already published
Package 164/514HostnameOS / ArchINSTALLBUILDCHECKBUILD BIN
ExCluster 1.21.0  (landing page)
R. Matthew Tanner
git_last_commit: 34eca14
git_last_commit_date: 2023-10-24 11:08:09 -0500
nebbiolo1Linux (Ubuntu 22.04.3 LTS) / x86_64  OK    OK    OK  UNNEEDED, same version is already published
palomino3Windows Server 2022 Datacenter / x64... NOT SUPPORTED ...
Package 165/514HostnameOS / ArchINSTALLBUILDCHECKBUILD BIN
exomePeak2 1.15.0  (landing page)
Zhen Wei
git_last_commit: 2a94dee
git_last_commit_date: 2023-10-24 11:19:49 -0500
nebbiolo1Linux (Ubuntu 22.04.3 LTS) / x86_64  OK    OK    ERROR  
palomino3Windows Server 2022 Datacenter / x64  OK    OK    OK    OK  UNNEEDED, same version is already published
Package 166/514HostnameOS / ArchINSTALLBUILDCHECKBUILD BIN
extraChIPs 1.7.2  (landing page)
Stephen Pederson
git_last_commit: fa233c1
git_last_commit_date: 2024-02-15 08:50:38 -0500
nebbiolo1Linux (Ubuntu 22.04.3 LTS) / x86_64  OK    OK    OK  UNNEEDED, same version is already published
palomino3Windows Server 2022 Datacenter / x64  OK    OK    OK    OK  UNNEEDED, same version is already published
Package 167/514HostnameOS / ArchINSTALLBUILDCHECKBUILD BIN
factR 1.5.0  (landing page)
Fursham Hamid
git_last_commit: d349fb4
git_last_commit_date: 2023-10-24 11:42:45 -0500
nebbiolo1Linux (Ubuntu 22.04.3 LTS) / x86_64  OK    OK    OK  UNNEEDED, same version is already published
palomino3Windows Server 2022 Datacenter / x64  OK    OK    OK    OK  UNNEEDED, same version is already published
Package 168/514HostnameOS / ArchINSTALLBUILDCHECKBUILD BIN
FastqCleaner 1.21.0  (landing page)
Leandro Roser
git_last_commit: 72337f1
git_last_commit_date: 2023-10-24 11:05:49 -0500
nebbiolo1Linux (Ubuntu 22.04.3 LTS) / x86_64  OK    OK    OK  UNNEEDED, same version is already published
palomino3Windows Server 2022 Datacenter / x64  OK    OK    OK    OK  UNNEEDED, same version is already published
Package 169/514HostnameOS / ArchINSTALLBUILDCHECKBUILD BIN
fastseg 1.49.0  (landing page)
Alexander Blume
git_last_commit: f7a95b7
git_last_commit_date: 2023-10-24 09:48:50 -0500
nebbiolo1Linux (Ubuntu 22.04.3 LTS) / x86_64  OK    OK    OK  UNNEEDED, same version is already published
palomino3Windows Server 2022 Datacenter / x64  OK    OK    OK    OK  UNNEEDED, same version is already published
Package 170/514HostnameOS / ArchINSTALLBUILDCHECKBUILD BIN
fCCAC 1.29.0  (landing page)
Pedro Madrigal
git_last_commit: e796789
git_last_commit_date: 2023-10-24 10:54:04 -0500
nebbiolo1Linux (Ubuntu 22.04.3 LTS) / x86_64  OK    OK    OK  UNNEEDED, same version is already published
palomino3Windows Server 2022 Datacenter / x64  OK    OK    OK    OK  UNNEEDED, same version is already published
Package 171/514HostnameOS / ArchINSTALLBUILDCHECKBUILD BIN
fcScan 1.17.0  (landing page)
Pierre Khoueiry Abdullah El-Kurdi
git_last_commit: 55c627e
git_last_commit_date: 2023-10-24 11:15:44 -0500
nebbiolo1Linux (Ubuntu 22.04.3 LTS) / x86_64  OK    OK    OK  UNNEEDED, same version is already published
palomino3Windows Server 2022 Datacenter / x64  OK    OK    OK    OK  UNNEEDED, same version is already published
Package 172/514HostnameOS / ArchINSTALLBUILDCHECKBUILD BIN
FilterFFPE 1.13.0  (landing page)
Lanying Wei
git_last_commit: 9d57d80
git_last_commit_date: 2023-10-24 11:25:33 -0500
nebbiolo1Linux (Ubuntu 22.04.3 LTS) / x86_64  OK    OK    OK  UNNEEDED, same version is already published
palomino3Windows Server 2022 Datacenter / x64  OK    OK    OK    OK  UNNEEDED, same version is already published
Package 173/514HostnameOS / ArchINSTALLBUILDCHECKBUILD BIN
FindIT2 1.9.0  (landing page)
Guandong Shang
git_last_commit: ca8588a
git_last_commit_date: 2023-10-24 11:34:37 -0500
nebbiolo1Linux (Ubuntu 22.04.3 LTS) / x86_64  OK    OK    ERROR  
palomino3Windows Server 2022 Datacenter / x64  OK    OK    ERROR    OK  
Package 174/514HostnameOS / ArchINSTALLBUILDCHECKBUILD BIN
fishpond 2.9.0  (landing page)
Michael Love
git_last_commit: f6dbc9b
git_last_commit_date: 2023-10-24 11:11:13 -0500
nebbiolo1Linux (Ubuntu 22.04.3 LTS) / x86_64  OK    OK    OK  UNNEEDED, same version is already published
palomino3Windows Server 2022 Datacenter / x64  OK    OK    OK    OK  UNNEEDED, same version is already published
Package 175/514HostnameOS / ArchINSTALLBUILDCHECKBUILD BIN
FRASER 1.15.1  (landing page)
Christian Mertes
git_last_commit: e68992a
git_last_commit_date: 2024-02-11 12:49:35 -0500
nebbiolo1Linux (Ubuntu 22.04.3 LTS) / x86_64  OK    OK    OK  UNNEEDED, same version is already published
palomino3Windows Server 2022 Datacenter / x64  OK    OK    OK    OK  UNNEEDED, same version is already published
Package 176/514HostnameOS / ArchINSTALLBUILDCHECKBUILD BIN
GA4GHclient 1.27.0  (landing page)
Welliton Souza
git_last_commit: df9b49f
git_last_commit_date: 2023-10-24 10:56:18 -0500
nebbiolo1Linux (Ubuntu 22.04.3 LTS) / x86_64  OK    OK    OK  UNNEEDED, same version is already published
palomino3Windows Server 2022 Datacenter / x64  OK    OK    OK    OK  UNNEEDED, same version is already published
Package 177/514HostnameOS / ArchINSTALLBUILDCHECKBUILD BIN
gcapc 1.27.0  (landing page)
Mingxiang Teng
git_last_commit: e5a48a6
git_last_commit_date: 2023-10-24 10:54:29 -0500
nebbiolo1Linux (Ubuntu 22.04.3 LTS) / x86_64  OK    OK    OK  UNNEEDED, same version is already published
palomino3Windows Server 2022 Datacenter / x64  OK    OK    OK    OK  UNNEEDED, same version is already published
Package 178/514HostnameOS / ArchINSTALLBUILDCHECKBUILD BIN
gDNAx 1.1.2  (landing page)
Beatriz Calvo-Serra
git_last_commit: 137bca9
git_last_commit_date: 2024-02-20 08:52:25 -0500
nebbiolo1Linux (Ubuntu 22.04.3 LTS) / x86_64  OK    OK    OK  UNNEEDED, same version is already published
palomino3Windows Server 2022 Datacenter / x64  OK    OK    OK    OK  UNNEEDED, same version is already published
Package 179/514HostnameOS / ArchINSTALLBUILDCHECKBUILD BIN
geneAttribution 1.29.0  (landing page)
Arthur Wuster
git_last_commit: e8c2f45
git_last_commit_date: 2023-10-24 10:52:24 -0500
nebbiolo1Linux (Ubuntu 22.04.3 LTS) / x86_64  OK    OK    OK  UNNEEDED, same version is already published
palomino3Windows Server 2022 Datacenter / x64  OK    OK    OK    OK  UNNEEDED, same version is already published
Package 180/514HostnameOS / ArchINSTALLBUILDCHECKBUILD BIN
GeneGeneInteR 1.29.0  (landing page)
Mathieu Emily
git_last_commit: 595ad4a
git_last_commit_date: 2023-10-24 10:51:41 -0500
nebbiolo1Linux (Ubuntu 22.04.3 LTS) / x86_64  OK    OK    OK  UNNEEDED, same version is already published
palomino3Windows Server 2022 Datacenter / x64  OK    OK    OK    OK  UNNEEDED, same version is already published
Package 181/514HostnameOS / ArchINSTALLBUILDCHECKBUILD BIN
geneRxCluster 1.39.0  (landing page)
Charles Berry
git_last_commit: 6f1b94e
git_last_commit_date: 2023-10-24 09:57:06 -0500
nebbiolo1Linux (Ubuntu 22.04.3 LTS) / x86_64  OK    OK    OK  UNNEEDED, same version is already published
palomino3Windows Server 2022 Datacenter / x64  OK    OK    OK    OK  UNNEEDED, same version is already published
Package 182/514HostnameOS / ArchINSTALLBUILDCHECKBUILD BIN
GENESIS 2.33.1  (landing page)
Stephanie M. Gogarten
git_last_commit: 25933a8
git_last_commit_date: 2023-11-08 01:17:26 -0500
nebbiolo1Linux (Ubuntu 22.04.3 LTS) / x86_64  OK    OK    OK  UNNEEDED, same version is already published
palomino3Windows Server 2022 Datacenter / x64  OK    OK    OK    OK  UNNEEDED, same version is already published
Package 183/514HostnameOS / ArchINSTALLBUILDCHECKBUILD BIN
GeneStructureTools 1.23.0  (landing page)
Beth Signal
git_last_commit: def278e
git_last_commit_date: 2023-10-24 11:03:19 -0500
nebbiolo1Linux (Ubuntu 22.04.3 LTS) / x86_64  OK    OK    OK  UNNEEDED, same version is already published
palomino3Windows Server 2022 Datacenter / x64  OK    OK    OK    OK  UNNEEDED, same version is already published
Package 184/514HostnameOS / ArchINSTALLBUILDCHECKBUILD BIN
genomation 1.35.0  (landing page)
Altuna Akalin , Vedran Franke
git_last_commit: 16baa99
git_last_commit_date: 2023-10-24 10:40:33 -0500
nebbiolo1Linux (Ubuntu 22.04.3 LTS) / x86_64  OK    OK    WARNINGS  UNNEEDED, same version is already published
palomino3Windows Server 2022 Datacenter / x64  OK    OK    WARNINGS    OK  UNNEEDED, same version is already published
Package 185/514HostnameOS / ArchINSTALLBUILDCHECKBUILD BIN
GenomAutomorphism 1.5.0  (landing page)
Robersy Sanchez
git_last_commit: cca057b
git_last_commit_date: 2023-10-24 11:43:17 -0500
nebbiolo1Linux (Ubuntu 22.04.3 LTS) / x86_64  OK    OK    OK  UNNEEDED, same version is already published
palomino3Windows Server 2022 Datacenter / x64  OK    OK    OK    OK  UNNEEDED, same version is already published
Package 186/514HostnameOS / ArchINSTALLBUILDCHECKBUILD BIN
GenomeInfoDb 1.39.6  (landing page)
Hervé Pagès
git_last_commit: 77f3c97
git_last_commit_date: 2024-02-07 20:52:55 -0500
nebbiolo1Linux (Ubuntu 22.04.3 LTS) / x86_64  OK    OK    OK  UNNEEDED, same version is already published
palomino3Windows Server 2022 Datacenter / x64  OK    OK    OK    OK  UNNEEDED, same version is already published
Package 187/514HostnameOS / ArchINSTALLBUILDCHECKBUILD BIN
genomeIntervals 1.59.0  (landing page)
Julien Gagneur
git_last_commit: ef8ca71
git_last_commit_date: 2023-10-24 09:41:34 -0500
nebbiolo1Linux (Ubuntu 22.04.3 LTS) / x86_64  OK    OK    WARNINGS  UNNEEDED, same version is already published
palomino3Windows Server 2022 Datacenter / x64  OK    OK    WARNINGS    OK  UNNEEDED, same version is already published
Package 188/514HostnameOS / ArchINSTALLBUILDCHECKBUILD BIN
GenomicAlignments 1.39.4  (landing page)
Hervé Pagès
git_last_commit: 498179a
git_last_commit_date: 2024-02-13 14:55:48 -0500
nebbiolo1Linux (Ubuntu 22.04.3 LTS) / x86_64  OK    OK    OK  UNNEEDED, same version is already published
palomino3Windows Server 2022 Datacenter / x64  OK    OK    OK    OK  UNNEEDED, same version is already published
Package 189/514HostnameOS / ArchINSTALLBUILDCHECKBUILD BIN
GenomicDataCommons 1.27.1  (landing page)
Sean Davis
git_last_commit: 98830d1
git_last_commit_date: 2024-01-11 13:21:25 -0500
nebbiolo1Linux (Ubuntu 22.04.3 LTS) / x86_64  OK    OK    OK  UNNEEDED, same version is already published
palomino3Windows Server 2022 Datacenter / x64  OK    OK    OK    OK  UNNEEDED, same version is already published
Package 190/514HostnameOS / ArchINSTALLBUILDCHECKBUILD BIN
GenomicDistributions 1.11.0  (landing page)
Kristyna Kupkova
git_last_commit: 5738e18
git_last_commit_date: 2023-10-24 11:28:54 -0500
nebbiolo1Linux (Ubuntu 22.04.3 LTS) / x86_64  OK    OK    OK  UNNEEDED, same version is already published
palomino3Windows Server 2022 Datacenter / x64  OK    OK    OK    OK  UNNEEDED, same version is already published
Package 191/514HostnameOS / ArchINSTALLBUILDCHECKBUILD BIN
GenomicFeatures 1.55.3  (landing page)
H. Pagès
git_last_commit: 8de3d35
git_last_commit_date: 2024-01-28 00:38:41 -0500
nebbiolo1Linux (Ubuntu 22.04.3 LTS) / x86_64  OK    OK    ERROR  
palomino3Windows Server 2022 Datacenter / x64  OK    OK    OK    OK  UNNEEDED, same version is already published
Package 192/514HostnameOS / ArchINSTALLBUILDCHECKBUILD BIN
GenomicFiles 1.39.0  (landing page)
Bioconductor Package Maintainer
git_last_commit: 291e847
git_last_commit_date: 2023-10-24 09:58:47 -0500
nebbiolo1Linux (Ubuntu 22.04.3 LTS) / x86_64  OK    OK    WARNINGS  UNNEEDED, same version is already published
palomino3Windows Server 2022 Datacenter / x64  OK    OK    WARNINGS    OK  UNNEEDED, same version is already published
Package 193/514HostnameOS / ArchINSTALLBUILDCHECKBUILD BIN
GenomicInteractionNodes 1.7.0  (landing page)
Jianhong Ou
git_last_commit: 8a1c80b
git_last_commit_date: 2023-10-24 11:41:24 -0500
nebbiolo1Linux (Ubuntu 22.04.3 LTS) / x86_64  OK    OK    OK  UNNEEDED, same version is already published
palomino3Windows Server 2022 Datacenter / x64  OK    OK    OK    OK  UNNEEDED, same version is already published
Package 194/514HostnameOS / ArchINSTALLBUILDCHECKBUILD BIN
GenomicInteractions 1.37.0  (landing page)
Liz Ing-Simmons
git_last_commit: 0a634e0
git_last_commit_date: 2023-10-24 10:38:45 -0500
nebbiolo1Linux (Ubuntu 22.04.3 LTS) / x86_64  OK    OK    OK  UNNEEDED, same version is already published
palomino3Windows Server 2022 Datacenter / x64  OK    OK    OK    OK  UNNEEDED, same version is already published
Package 195/514HostnameOS / ArchINSTALLBUILDCHECKBUILD BIN
GenomicOZone 1.17.0  (landing page)
Hua Zhong, Mingzhou Song
git_last_commit: 5b452ac
git_last_commit_date: 2023-10-24 11:15:46 -0500
nebbiolo1Linux (Ubuntu 22.04.3 LTS) / x86_64  OK    OK    OK  UNNEEDED, same version is already published
palomino3Windows Server 2022 Datacenter / x64  OK    OK    OK    OK  UNNEEDED, same version is already published
Package 196/514HostnameOS / ArchINSTALLBUILDCHECKBUILD BIN
GenomicPlot 1.1.5  (landing page)
Shuye Pu
git_last_commit: 03356a8
git_last_commit_date: 2024-02-20 21:23:55 -0500
nebbiolo1Linux (Ubuntu 22.04.3 LTS) / x86_64  OK    OK    OK  YES
palomino3Windows Server 2022 Datacenter / x64  OK    OK    OK    OK  YES
Package 197/514HostnameOS / ArchINSTALLBUILDCHECKBUILD BIN
GenomicRanges 1.55.3  (landing page)
Hervé Pagès
git_last_commit: 6a5717e
git_last_commit_date: 2024-02-13 01:45:26 -0500
nebbiolo1Linux (Ubuntu 22.04.3 LTS) / x86_64  OK    OK    OK  UNNEEDED, same version is already published
palomino3Windows Server 2022 Datacenter / x64  OK    ERROR  skippedskipped
Package 198/514HostnameOS / ArchINSTALLBUILDCHECKBUILD BIN
GenomicScores 2.15.3  (landing page)
Robert Castelo
git_last_commit: 33bccf6
git_last_commit_date: 2023-12-21 10:37:11 -0500
nebbiolo1Linux (Ubuntu 22.04.3 LTS) / x86_64  OK    OK    OK  UNNEEDED, same version is already published
palomino3Windows Server 2022 Datacenter / x64  OK    OK    OK    OK  UNNEEDED, same version is already published
Package 199/514HostnameOS / ArchINSTALLBUILDCHECKBUILD BIN
GenomicTuples 1.37.1  (landing page)
Peter Hickey
git_last_commit: 23ee6db
git_last_commit_date: 2023-11-08 17:09:58 -0500
nebbiolo1Linux (Ubuntu 22.04.3 LTS) / x86_64  OK    OK    OK  UNNEEDED, same version is already published
palomino3Windows Server 2022 Datacenter / x64  OK    OK    OK    OK  UNNEEDED, same version is already published
Package 200/514HostnameOS / ArchINSTALLBUILDCHECKBUILD BIN
GenVisR 1.35.0  (landing page)
Zachary Skidmore
git_last_commit: fb3c43e
git_last_commit_date: 2023-10-24 10:47:14 -0500
nebbiolo1Linux (Ubuntu 22.04.3 LTS) / x86_64  OK    OK    OK  UNNEEDED, same version is already published
palomino3Windows Server 2022 Datacenter / x64  OK    OK    OK    OK  UNNEEDED, same version is already published
Package 201/514HostnameOS / ArchINSTALLBUILDCHECKBUILD BIN
ggbio 1.51.0  (landing page)
Michael Lawrence
git_last_commit: 7782892
git_last_commit_date: 2023-10-25 17:31:50 -0500
nebbiolo1Linux (Ubuntu 22.04.3 LTS) / x86_64  OK    OK    WARNINGS  UNNEEDED, same version is already published
palomino3Windows Server 2022 Datacenter / x64  OK    ERROR  skippedskipped
Package 202/514HostnameOS / ArchINSTALLBUILDCHECKBUILD BIN
girafe 1.55.0  (landing page)
J. Toedling
git_last_commit: 2ca417d
git_last_commit_date: 2023-10-24 09:43:38 -0500
nebbiolo1Linux (Ubuntu 22.04.3 LTS) / x86_64  OK    OK    OK  UNNEEDED, same version is already published
palomino3Windows Server 2022 Datacenter / x64  OK    ERROR  skippedskipped
Package 203/514HostnameOS / ArchINSTALLBUILDCHECKBUILD BIN
gmapR 1.45.0  (landing page)
Michael Lawrence
git_last_commit: acb82a0
git_last_commit_date: 2024-01-18 16:28:42 -0500
nebbiolo1Linux (Ubuntu 22.04.3 LTS) / x86_64  OK    OK    WARNINGS  UNNEEDED, same version is already published
palomino3Windows Server 2022 Datacenter / x64... NOT SUPPORTED ...
Package 204/514HostnameOS / ArchINSTALLBUILDCHECKBUILD BIN
gmoviz 1.15.0  (landing page)
Kathleen Zeglinski
git_last_commit: ad2df19
git_last_commit_date: 2023-10-24 11:20:31 -0500
nebbiolo1Linux (Ubuntu 22.04.3 LTS) / x86_64  OK    OK    OK  UNNEEDED, same version is already published
palomino3Windows Server 2022 Datacenter / x64  OK    OK    OK    OK  UNNEEDED, same version is already published
Package 205/514HostnameOS / ArchINSTALLBUILDCHECKBUILD BIN
GOfuncR 1.23.2  (landing page)
Steffi Grote
git_last_commit: fe22b6c
git_last_commit_date: 2024-02-03 06:52:40 -0500
nebbiolo1Linux (Ubuntu 22.04.3 LTS) / x86_64  OK    OK    OK  UNNEEDED, same version is already published
palomino3Windows Server 2022 Datacenter / x64  OK    OK    OK    OK  UNNEEDED, same version is already published
Package 206/514HostnameOS / ArchINSTALLBUILDCHECKBUILD BIN
GOpro 1.29.0  (landing page)
Lidia Chrabaszcz
git_last_commit: 4ed014f
git_last_commit_date: 2023-10-24 10:53:02 -0500
nebbiolo1Linux (Ubuntu 22.04.3 LTS) / x86_64  OK    OK    OK  UNNEEDED, same version is already published
palomino3Windows Server 2022 Datacenter / x64  OK    OK    OK    OK  UNNEEDED, same version is already published
Package 207/514HostnameOS / ArchINSTALLBUILDCHECKBUILD BIN
GOTHiC 1.39.0  (landing page)
Borbala Mifsud
git_last_commit: f393257
git_last_commit_date: 2023-10-24 11:15:00 -0500
nebbiolo1Linux (Ubuntu 22.04.3 LTS) / x86_64  OK    OK    OK  UNNEEDED, same version is already published
palomino3Windows Server 2022 Datacenter / x64  OK    ERROR  skippedskipped
Package 208/514HostnameOS / ArchINSTALLBUILDCHECKBUILD BIN
groHMM 1.37.0  (landing page)
Tulip Nandu , W. Lee Kraus
git_last_commit: 114289a
git_last_commit_date: 2023-10-24 10:39:48 -0500
nebbiolo1Linux (Ubuntu 22.04.3 LTS) / x86_64  OK    OK    WARNINGS  UNNEEDED, same version is already published
palomino3Windows Server 2022 Datacenter / x64  OK    ERROR  skippedskipped
Package 209/514HostnameOS / ArchINSTALLBUILDCHECKBUILD BIN
GSVA 1.51.6  (landing page)
Robert Castelo
git_last_commit: 896a63e
git_last_commit_date: 2024-02-15 08:54:39 -0500
nebbiolo1Linux (Ubuntu 22.04.3 LTS) / x86_64  OK    OK    OK  UNNEEDED, same version is already published
palomino3Windows Server 2022 Datacenter / x64  OK    OK    OK    OK  UNNEEDED, same version is already published
Package 210/514HostnameOS / ArchINSTALLBUILDCHECKBUILD BIN
gtrellis 1.35.0  (landing page)
Zuguang Gu
git_last_commit: 750b23a
git_last_commit_date: 2023-10-24 10:42:23 -0500
nebbiolo1Linux (Ubuntu 22.04.3 LTS) / x86_64  OK    OK    OK  UNNEEDED, same version is already published
palomino3Windows Server 2022 Datacenter / x64  OK    OK    OK    OK  UNNEEDED, same version is already published
Package 211/514HostnameOS / ArchINSTALLBUILDCHECKBUILD BIN
GUIDEseq 1.33.0  (landing page)
Lihua Julie Zhu
git_last_commit: 61565c4
git_last_commit_date: 2023-10-24 10:45:51 -0500
nebbiolo1Linux (Ubuntu 22.04.3 LTS) / x86_64  OK    OK    OK  UNNEEDED, same version is already published
palomino3Windows Server 2022 Datacenter / x64  OK    ERROR  skippedskipped
Package 212/514HostnameOS / ArchINSTALLBUILDCHECKBUILD BIN
Gviz 1.47.1  (landing page)
Robert Ivanek
git_last_commit: d1385ee
git_last_commit_date: 2023-11-16 09:37:00 -0500
nebbiolo1Linux (Ubuntu 22.04.3 LTS) / x86_64  OK    OK    OK  UNNEEDED, same version is already published
palomino3Windows Server 2022 Datacenter / x64  OK    OK    OK    OK  UNNEEDED, same version is already published
Package 213/514HostnameOS / ArchINSTALLBUILDCHECKBUILD BIN
gwascat 2.35.0  (landing page)
VJ Carey
git_last_commit: 50623d9
git_last_commit_date: 2023-10-24 09:49:29 -0500
nebbiolo1Linux (Ubuntu 22.04.3 LTS) / x86_64  OK    OK    OK  UNNEEDED, same version is already published
palomino3Windows Server 2022 Datacenter / x64  OK    OK    OK    OK  UNNEEDED, same version is already published
Package 214/514HostnameOS / ArchINSTALLBUILDCHECKBUILD BIN
h5vc 2.37.0  (landing page)
Paul Theodor Pyl
git_last_commit: 7d31d62
git_last_commit_date: 2023-10-24 09:56:42 -0500
nebbiolo1Linux (Ubuntu 22.04.3 LTS) / x86_64  OK    OK    WARNINGS  UNNEEDED, same version is already published
palomino3Windows Server 2022 Datacenter / x64  OK    OK    WARNINGS    OK  UNNEEDED, same version is already published
Package 215/514HostnameOS / ArchINSTALLBUILDCHECKBUILD BIN
HDF5Array 1.31.5  (landing page)
Hervé Pagès
git_last_commit: 886403e
git_last_commit_date: 2024-02-02 13:46:23 -0500
nebbiolo1Linux (Ubuntu 22.04.3 LTS) / x86_64  OK    OK    WARNINGS  UNNEEDED, same version is already published
palomino3Windows Server 2022 Datacenter / x64  OK    OK    ERROR    OK  
Package 216/514HostnameOS / ArchINSTALLBUILDCHECKBUILD BIN
heatmaps 1.27.0  (landing page)
Malcolm Perry
git_last_commit: 488e34a
git_last_commit_date: 2023-10-24 10:57:13 -0500
nebbiolo1Linux (Ubuntu 22.04.3 LTS) / x86_64  OK    OK    OK  UNNEEDED, same version is already published
palomino3Windows Server 2022 Datacenter / x64  OK    OK    OK    OK  UNNEEDED, same version is already published
Package 217/514HostnameOS / ArchINSTALLBUILDCHECKBUILD BIN
HelloRanges 1.29.0  (landing page)
Michael Lawrence
git_last_commit: d185387
git_last_commit_date: 2023-10-24 10:53:38 -0500
nebbiolo1Linux (Ubuntu 22.04.3 LTS) / x86_64  OK    OK    OK  UNNEEDED, same version is already published
palomino3Windows Server 2022 Datacenter / x64  OK    ERROR  skippedskipped
Package 218/514HostnameOS / ArchINSTALLBUILDCHECKBUILD BIN
hermes 1.7.1  (landing page)
Daniel Sabanés Bové
git_last_commit: abcda9e
git_last_commit_date: 2024-01-18 12:56:37 -0500
nebbiolo1Linux (Ubuntu 22.04.3 LTS) / x86_64  OK    OK    OK  UNNEEDED, same version is already published
palomino3Windows Server 2022 Datacenter / x64  OK    OK    OK    OK  UNNEEDED, same version is already published
Package 219/514HostnameOS / ArchINSTALLBUILDCHECKBUILD BIN
HERON 1.1.1  (landing page)
Sean McIlwain
git_last_commit: 7cef1f2
git_last_commit_date: 2023-10-31 13:38:40 -0500
nebbiolo1Linux (Ubuntu 22.04.3 LTS) / x86_64  OK    OK    OK  UNNEEDED, same version is already published
palomino3Windows Server 2022 Datacenter / x64  OK    OK    OK    OK  UNNEEDED, same version is already published
Package 220/514HostnameOS / ArchINSTALLBUILDCHECKBUILD BIN
HiCBricks 1.21.0  (landing page)
Koustav Pal
git_last_commit: a838c25
git_last_commit_date: 2023-10-24 11:08:46 -0500
nebbiolo1Linux (Ubuntu 22.04.3 LTS) / x86_64  OK    OK    OK  UNNEEDED, same version is already published
palomino3Windows Server 2022 Datacenter / x64  OK    OK    OK    OK  UNNEEDED, same version is already published
Package 221/514HostnameOS / ArchINSTALLBUILDCHECKBUILD BIN
HiCcompare 1.25.0  (landing page)
Mikhail Dozmorov
git_last_commit: c7e8c86
git_last_commit_date: 2023-10-24 10:58:31 -0500
nebbiolo1Linux (Ubuntu 22.04.3 LTS) / x86_64  OK    OK    OK  UNNEEDED, same version is already published
palomino3Windows Server 2022 Datacenter / x64  OK    OK    OK    OK  UNNEEDED, same version is already published
Package 222/514HostnameOS / ArchINSTALLBUILDCHECKBUILD BIN
HiCDCPlus 1.11.0  (landing page)
Merve Sahin
git_last_commit: 7752e7a
git_last_commit_date: 2023-10-24 11:29:59 -0500
nebbiolo1Linux (Ubuntu 22.04.3 LTS) / x86_64  OK    OK    OK  UNNEEDED, same version is already published
palomino3Windows Server 2022 Datacenter / x64  OK    OK    OK    OK  UNNEEDED, same version is already published
Package 223/514HostnameOS / ArchINSTALLBUILDCHECKBUILD BIN
HiCExperiment 1.3.0  (landing page)
Jacques Serizay
git_last_commit: a57da20
git_last_commit_date: 2024-01-10 08:47:50 -0500
nebbiolo1Linux (Ubuntu 22.04.3 LTS) / x86_64  OK    OK    OK  UNNEEDED, same version is already published
palomino3Windows Server 2022 Datacenter / x64  OK    OK    OK    OK  UNNEEDED, same version is already published
Package 224/514HostnameOS / ArchINSTALLBUILDCHECKBUILD BIN
HiContacts 1.5.0  (landing page)
Jacques Serizay
git_last_commit: 19222bb
git_last_commit_date: 2024-01-10 09:01:45 -0500
nebbiolo1Linux (Ubuntu 22.04.3 LTS) / x86_64  OK    OK    OK  UNNEEDED, same version is already published
palomino3Windows Server 2022 Datacenter / x64  OK    OK    OK    OK  UNNEEDED, same version is already published
Package 225/514HostnameOS / ArchINSTALLBUILDCHECKBUILD BIN
HiCool 1.3.0  (landing page)
Jacques Serizay
git_last_commit: 28c1b02
git_last_commit_date: 2023-10-24 11:47:24 -0500
nebbiolo1Linux (Ubuntu 22.04.3 LTS) / x86_64  OK    OK    OK  UNNEEDED, same version is already published
palomino3Windows Server 2022 Datacenter / x64... NOT SUPPORTED ...
Package 226/514HostnameOS / ArchINSTALLBUILDCHECKBUILD BIN
HilbertCurve 1.33.0  (landing page)
Zuguang Gu
git_last_commit: 059aca3
git_last_commit_date: 2023-10-24 10:44:31 -0500
nebbiolo1Linux (Ubuntu 22.04.3 LTS) / x86_64  OK    OK    OK  UNNEEDED, same version is already published
palomino3Windows Server 2022 Datacenter / x64  OK    OK    OK    OK  UNNEEDED, same version is already published
Package 227/514HostnameOS / ArchINSTALLBUILDCHECKBUILD BIN
HiTC 1.47.0  (landing page)
Nicolas Servant
git_last_commit: 8dd06cc
git_last_commit_date: 2024-02-15 11:23:49 -0500
nebbiolo1Linux (Ubuntu 22.04.3 LTS) / x86_64  OK    OK    WARNINGS  UNNEEDED, same version is already published
palomino3Windows Server 2022 Datacenter / x64  OK    OK    WARNINGS    OK  UNNEEDED, same version is already published
Package 228/514HostnameOS / ArchINSTALLBUILDCHECKBUILD BIN
HTSeqGenie 4.33.0  (landing page)
Jens Reeder
git_last_commit: a6e457f
git_last_commit_date: 2023-10-24 09:51:39 -0500
nebbiolo1Linux (Ubuntu 22.04.3 LTS) / x86_64  OK    OK    OK  UNNEEDED, same version is already published
palomino3Windows Server 2022 Datacenter / x64... NOT SUPPORTED ...
Package 229/514HostnameOS / ArchINSTALLBUILDCHECKBUILD BIN
hummingbird 1.13.0  (landing page)
Eleni Adam
git_last_commit: 3273bed
git_last_commit_date: 2023-10-24 11:24:28 -0500
nebbiolo1Linux (Ubuntu 22.04.3 LTS) / x86_64  OK    OK    OK  UNNEEDED, same version is already published
palomino3Windows Server 2022 Datacenter / x64  OK    OK    OK    OK  UNNEEDED, same version is already published
Package 230/514HostnameOS / ArchINSTALLBUILDCHECKBUILD BIN
icetea 1.21.0  (landing page)
Vivek Bhardwaj
git_last_commit: 4539135
git_last_commit_date: 2023-10-24 11:06:09 -0500
nebbiolo1Linux (Ubuntu 22.04.3 LTS) / x86_64  OK    OK    WARNINGS  UNNEEDED, same version is already published
palomino3Windows Server 2022 Datacenter / x64  OK    OK    WARNINGS    OK  UNNEEDED, same version is already published
Package 231/514HostnameOS / ArchINSTALLBUILDCHECKBUILD BIN
ideal 1.27.0  (landing page)
Federico Marini
git_last_commit: e91e570
git_last_commit_date: 2023-10-27 04:29:36 -0500
nebbiolo1Linux (Ubuntu 22.04.3 LTS) / x86_64  OK    OK    OK  UNNEEDED, same version is already published
palomino3Windows Server 2022 Datacenter / x64  OK    OK    OK    OK  UNNEEDED, same version is already published
Package 232/514HostnameOS / ArchINSTALLBUILDCHECKBUILD BIN
IdeoViz 1.39.1  (landing page)
Shraddha Pai
git_last_commit: d1c253d
git_last_commit_date: 2024-02-15 21:55:09 -0500
nebbiolo1Linux (Ubuntu 22.04.3 LTS) / x86_64  OK    OK    WARNINGS  UNNEEDED, same version is already published
palomino3Windows Server 2022 Datacenter / x64  OK    OK    WARNINGS    OK  UNNEEDED, same version is already published
Package 233/514HostnameOS / ArchINSTALLBUILDCHECKBUILD BIN
idr2d 1.17.0  (landing page)
Konstantin Krismer
git_last_commit: dc64cbd
git_last_commit_date: 2023-10-24 11:16:17 -0500
nebbiolo1Linux (Ubuntu 22.04.3 LTS) / x86_64  OK    OK    OK  UNNEEDED, same version is already published
palomino3Windows Server 2022 Datacenter / x64  OK    OK    OK    OK  UNNEEDED, same version is already published
Package 234/514HostnameOS / ArchINSTALLBUILDCHECKBUILD BIN
IMAS 1.27.0  (landing page)
Seonggyun Han
git_last_commit: 6bdc0e3
git_last_commit_date: 2023-10-24 10:56:52 -0500
nebbiolo1Linux (Ubuntu 22.04.3 LTS) / x86_64  OK    OK    OK  UNNEEDED, same version is already published
palomino3Windows Server 2022 Datacenter / x64  OK    OK    OK    OK  UNNEEDED, same version is already published
Package 235/514HostnameOS / ArchINSTALLBUILDCHECKBUILD BIN
InPAS 2.11.0  (landing page)
Jianhong Ou
git_last_commit: 1c9a765
git_last_commit_date: 2023-10-24 10:42:15 -0500
nebbiolo1Linux (Ubuntu 22.04.3 LTS) / x86_64  OK    OK    OK  UNNEEDED, same version is already published
palomino3Windows Server 2022 Datacenter / x64  OK    OK    OK    OK  UNNEEDED, same version is already published
Package 236/514HostnameOS / ArchINSTALLBUILDCHECKBUILD BIN
INSPEcT 1.33.1  (landing page)
Stefano de Pretis
git_last_commit: 818e03b
git_last_commit_date: 2024-01-02 11:46:50 -0500
nebbiolo1Linux (Ubuntu 22.04.3 LTS) / x86_64  OK    OK    OK  UNNEEDED, same version is already published
palomino3Windows Server 2022 Datacenter / x64  OK    OK    OK    OK  UNNEEDED, same version is already published
Package 237/514HostnameOS / ArchINSTALLBUILDCHECKBUILD BIN
InTAD 1.23.0  (landing page)
Konstantin Okonechnikov
git_last_commit: 01222b8
git_last_commit_date: 2023-10-24 11:04:33 -0500
nebbiolo1Linux (Ubuntu 22.04.3 LTS) / x86_64  OK    OK    OK  UNNEEDED, same version is already published
palomino3Windows Server 2022 Datacenter / x64  OK    OK    OK    OK  UNNEEDED, same version is already published
Package 238/514HostnameOS / ArchINSTALLBUILDCHECKBUILD BIN
intansv 1.43.0  (landing page)
Wen Yao
git_last_commit: 89d406b
git_last_commit_date: 2023-10-24 09:55:04 -0500
nebbiolo1Linux (Ubuntu 22.04.3 LTS) / x86_64  OK    OK    OK  UNNEEDED, same version is already published
palomino3Windows Server 2022 Datacenter / x64  OK    OK    OK    OK  UNNEEDED, same version is already published
Package 239/514HostnameOS / ArchINSTALLBUILDCHECKBUILD BIN
InteractionSet 1.31.0  (landing page)
Aaron Lun
git_last_commit: 2aef5d1
git_last_commit_date: 2023-10-24 10:49:47 -0500
nebbiolo1Linux (Ubuntu 22.04.3 LTS) / x86_64  OK    OK    OK  UNNEEDED, same version is already published
palomino3Windows Server 2022 Datacenter / x64  OK    OK    OK    OK  UNNEEDED, same version is already published
Package 240/514HostnameOS / ArchINSTALLBUILDCHECKBUILD BIN
InteractiveComplexHeatmap 1.11.0  (landing page)
Zuguang Gu
git_last_commit: 804209f
git_last_commit_date: 2023-10-24 11:29:13 -0500
nebbiolo1Linux (Ubuntu 22.04.3 LTS) / x86_64  OK    OK    OK  UNNEEDED, same version is already published
palomino3Windows Server 2022 Datacenter / x64  OK    OK    OK    OK  UNNEEDED, same version is already published
Package 241/514HostnameOS / ArchINSTALLBUILDCHECKBUILD BIN
IntEREst 1.27.0  (landing page)
Ali Oghabian , Mikko Frilander
git_last_commit: a73ec97
git_last_commit_date: 2023-10-24 10:55:57 -0500
nebbiolo1Linux (Ubuntu 22.04.3 LTS) / x86_64  OK    OK    OK  UNNEEDED, same version is already published
palomino3Windows Server 2022 Datacenter / x64  OK    OK    OK    OK  UNNEEDED, same version is already published
Package 242/514HostnameOS / ArchINSTALLBUILDCHECKBUILD BIN
InterMineR 1.25.1  (landing page)
InterMine Team
git_last_commit: 9ec7c85
git_last_commit_date: 2024-02-02 09:49:25 -0500
nebbiolo1Linux (Ubuntu 22.04.3 LTS) / x86_64  OK    OK    WARNINGS  UNNEEDED, same version is already published
palomino3Windows Server 2022 Datacenter / x64  OK    OK    WARNINGS    OK  UNNEEDED, same version is already published
Package 243/514HostnameOS / ArchINSTALLBUILDCHECKBUILD BIN
ipdDb 1.21.0  (landing page)
Steffen Klasberg
git_last_commit: d54124d
git_last_commit_date: 2023-10-24 11:06:26 -0500
nebbiolo1Linux (Ubuntu 22.04.3 LTS) / x86_64  OK    OK    OK  UNNEEDED, same version is already published
palomino3Windows Server 2022 Datacenter / x64  OK    OK    OK    OK  UNNEEDED, same version is already published
Package 244/514HostnameOS / ArchINSTALLBUILDCHECKBUILD BIN
iSEEu 1.15.0  (landing page)
Kevin Rue-Albrecht
git_last_commit: 15fb28f
git_last_commit_date: 2023-10-24 11:21:17 -0500
nebbiolo1Linux (Ubuntu 22.04.3 LTS) / x86_64  OK    OK    WARNINGS  UNNEEDED, same version is already published
palomino3Windows Server 2022 Datacenter / x64  OK    OK    WARNINGS    OK  UNNEEDED, same version is already published
Package 245/514HostnameOS / ArchINSTALLBUILDCHECKBUILD BIN
IsoformSwitchAnalyzeR 2.3.0  (landing page)
Kristoffer Vitting-Seerup
git_last_commit: 55e5728
git_last_commit_date: 2023-10-24 10:57:42 -0500
nebbiolo1Linux (Ubuntu 22.04.3 LTS) / x86_64  OK    OK    OK  UNNEEDED, same version is already published
palomino3Windows Server 2022 Datacenter / x64  OK    OK    OK    OK  UNNEEDED, same version is already published
Package 246/514HostnameOS / ArchINSTALLBUILDCHECKBUILD BIN
isomiRs 1.31.0  (landing page)
Lorena Pantano
git_last_commit: c8d83b2
git_last_commit_date: 2023-10-24 10:49:03 -0500
nebbiolo1Linux (Ubuntu 22.04.3 LTS) / x86_64  OK    OK    OK  UNNEEDED, same version is already published
palomino3Windows Server 2022 Datacenter / x64  OK    OK    OK    OK  UNNEEDED, same version is already published
Package 247/514HostnameOS / ArchINSTALLBUILDCHECKBUILD BIN
IVAS 2.23.0  (landing page)
Seonggyun Han
git_last_commit: 5e0a3d3
git_last_commit_date: 2023-10-24 10:41:17 -0500
nebbiolo1Linux (Ubuntu 22.04.3 LTS) / x86_64  OK    OK    WARNINGS  UNNEEDED, same version is already published
palomino3Windows Server 2022 Datacenter / x64  OK    OK    WARNINGS    OK  UNNEEDED, same version is already published
Package 248/514HostnameOS / ArchINSTALLBUILDCHECKBUILD BIN
IWTomics 1.27.0  (landing page)
Marzia A Cremona
git_last_commit: d7e2f6a
git_last_commit_date: 2023-10-24 10:54:21 -0500
nebbiolo1Linux (Ubuntu 22.04.3 LTS) / x86_64  OK    OK    WARNINGS  UNNEEDED, same version is already published
palomino3Windows Server 2022 Datacenter / x64  OK    OK    WARNINGS    OK  UNNEEDED, same version is already published
Package 249/514HostnameOS / ArchINSTALLBUILDCHECKBUILD BIN
karyoploteR 1.29.1  (landing page)
Bernat Gel
git_last_commit: 2a860f3
git_last_commit_date: 2024-01-11 06:04:35 -0500
nebbiolo1Linux (Ubuntu 22.04.3 LTS) / x86_64  OK    OK    OK  UNNEEDED, same version is already published
palomino3Windows Server 2022 Datacenter / x64  OK    OK    OK    OK  UNNEEDED, same version is already published
Package 250/514HostnameOS / ArchINSTALLBUILDCHECKBUILD BIN
katdetectr 1.5.2  (landing page)
Daan Hazelaar
git_last_commit: 932f329
git_last_commit_date: 2024-02-14 05:37:17 -0500
nebbiolo1Linux (Ubuntu 22.04.3 LTS) / x86_64  OK    ERROR  skipped
palomino3Windows Server 2022 Datacenter / x64  OK    ERROR  skippedskipped
Package 251/514HostnameOS / ArchINSTALLBUILDCHECKBUILD BIN
kebabs 1.37.1  (landing page)
Ulrich Bodenhofer
git_last_commit: 4d20ee5
git_last_commit_date: 2024-02-15 09:41:16 -0500
nebbiolo1Linux (Ubuntu 22.04.3 LTS) / x86_64  OK    OK    OK  UNNEEDED, same version is already published
palomino3Windows Server 2022 Datacenter / x64  OK    OK    OK    OK  UNNEEDED, same version is already published
Package 252/514HostnameOS / ArchINSTALLBUILDCHECKBUILD BIN
LinTInd 1.7.0  (landing page)
Luyue Wang
git_last_commit: ed41ddf
git_last_commit_date: 2023-10-24 11:39:27 -0500
nebbiolo1Linux (Ubuntu 22.04.3 LTS) / x86_64  OK    OK    OK  UNNEEDED, same version is already published
palomino3Windows Server 2022 Datacenter / x64  OK    OK    OK    OK  UNNEEDED, same version is already published
Package 253/514HostnameOS / ArchINSTALLBUILDCHECKBUILD BIN
LOLA 1.33.0  (landing page)
Nathan Sheffield
git_last_commit: d1a8aee
git_last_commit_date: 2023-10-24 10:45:10 -0500
nebbiolo1Linux (Ubuntu 22.04.3 LTS) / x86_64  OK    OK    OK  UNNEEDED, same version is already published
palomino3Windows Server 2022 Datacenter / x64  OK    OK    OK    OK  UNNEEDED, same version is already published
Package 254/514HostnameOS / ArchINSTALLBUILDCHECKBUILD BIN
m6Aboost 1.9.0  (landing page)
You Zhou
git_last_commit: edfcadf
git_last_commit_date: 2023-10-24 11:34:23 -0500
nebbiolo1Linux (Ubuntu 22.04.3 LTS) / x86_64  OK    OK    OK  UNNEEDED, same version is already published
palomino3Windows Server 2022 Datacenter / x64  OK    OK    OK    OK  UNNEEDED, same version is already published
Package 255/514HostnameOS / ArchINSTALLBUILDCHECKBUILD BIN
MADSEQ 1.29.0  (landing page)
Yu Kong
git_last_commit: 964b2a9
git_last_commit_date: 2023-10-24 10:50:43 -0500
nebbiolo1Linux (Ubuntu 22.04.3 LTS) / x86_64  OK    OK    OK  UNNEEDED, same version is already published
palomino3Windows Server 2022 Datacenter / x64  OK    OK    OK    OK  UNNEEDED, same version is already published
Package 256/514HostnameOS / ArchINSTALLBUILDCHECKBUILD BIN
magpie 1.3.1  (landing page)
Daoyu Duan
git_last_commit: 7b3602e
git_last_commit_date: 2023-12-15 13:03:45 -0500
nebbiolo1Linux (Ubuntu 22.04.3 LTS) / x86_64  OK    OK    WARNINGS  UNNEEDED, same version is already published
palomino3Windows Server 2022 Datacenter / x64  OK    OK    WARNINGS    OK  UNNEEDED, same version is already published
Package 257/514HostnameOS / ArchINSTALLBUILDCHECKBUILD BIN
mariner 1.3.0  (landing page)
Eric Davis
git_last_commit: f8a3645
git_last_commit_date: 2023-10-24 11:48:59 -0500
nebbiolo1Linux (Ubuntu 22.04.3 LTS) / x86_64  OK    OK    OK  UNNEEDED, same version is already published
palomino3Windows Server 2022 Datacenter / x64  OK    OK    OK    OK  UNNEEDED, same version is already published
Package 258/514HostnameOS / ArchINSTALLBUILDCHECKBUILD BIN
maser 1.21.0  (landing page)
Diogo F.T. Veiga
git_last_commit: 981a97f
git_last_commit_date: 2023-10-24 11:05:44 -0500
nebbiolo1Linux (Ubuntu 22.04.3 LTS) / x86_64  OK    OK    OK  UNNEEDED, same version is already published
palomino3Windows Server 2022 Datacenter / x64  OK    OK    OK    OK  UNNEEDED, same version is already published
Package 259/514HostnameOS / ArchINSTALLBUILDCHECKBUILD BIN
MatrixRider 1.35.0  (landing page)
Elena Grassi
git_last_commit: a10e8a6
git_last_commit_date: 2023-10-24 10:42:04 -0500
nebbiolo1Linux (Ubuntu 22.04.3 LTS) / x86_64  OK    OK    WARNINGS  UNNEEDED, same version is already published
palomino3Windows Server 2022 Datacenter / x64  OK    OK    OK    OK  UNNEEDED, same version is already published
Package 260/514HostnameOS / ArchINSTALLBUILDCHECKBUILD BIN
mCSEA 1.23.0  (landing page)
Jordi Martorell-Marugán
git_last_commit: c2a5efa
git_last_commit_date: 2023-10-24 11:02:15 -0500
nebbiolo1Linux (Ubuntu 22.04.3 LTS) / x86_64  OK    OK    OK  UNNEEDED, same version is already published
palomino3Windows Server 2022 Datacenter / x64  OK    OK    OK    OK  UNNEEDED, same version is already published
Package 261/514HostnameOS / ArchINSTALLBUILDCHECKBUILD BIN
MDTS 1.23.0  (landing page)
Jack M.. Fu
git_last_commit: f8145f7
git_last_commit_date: 2023-10-24 11:03:21 -0500
nebbiolo1Linux (Ubuntu 22.04.3 LTS) / x86_64  OK    OK    OK  UNNEEDED, same version is already published
palomino3Windows Server 2022 Datacenter / x64  OK    OK    OK    OK  UNNEEDED, same version is already published
Package 262/514HostnameOS / ArchINSTALLBUILDCHECKBUILD BIN
MEAL 1.33.0  (landing page)
Xavier Escribà Montagut
git_last_commit: 15f018c
git_last_commit_date: 2023-10-24 10:45:36 -0500
nebbiolo1Linux (Ubuntu 22.04.3 LTS) / x86_64  OK    OK    WARNINGS  UNNEEDED, same version is already published
palomino3Windows Server 2022 Datacenter / x64  OK    OK    WARNINGS    OK  UNNEEDED, same version is already published
Package 263/514HostnameOS / ArchINSTALLBUILDCHECKBUILD BIN
MEDIPS 1.55.0  (landing page)
Lukas Chavez
git_last_commit: eef7376
git_last_commit_date: 2023-10-24 09:45:13 -0500
nebbiolo1Linux (Ubuntu 22.04.3 LTS) / x86_64  OK    OK    OK  UNNEEDED, same version is already published
palomino3Windows Server 2022 Datacenter / x64  OK    OK    OK    OK  UNNEEDED, same version is already published
Package 264/514HostnameOS / ArchINSTALLBUILDCHECKBUILD BIN
MesKit 1.13.0  (landing page)
Mengni Liu
git_last_commit: 47ac2be
git_last_commit_date: 2023-10-24 11:24:07 -0500
nebbiolo1Linux (Ubuntu 22.04.3 LTS) / x86_64  OK    OK    WARNINGS  UNNEEDED, same version is already published
palomino3Windows Server 2022 Datacenter / x64  OK    OK    WARNINGS    OK  UNNEEDED, same version is already published
Package 265/514HostnameOS / ArchINSTALLBUILDCHECKBUILD BIN
metagene 2.35.0  (landing page)
Charles Joly Beauparlant
git_last_commit: 588cf5a
git_last_commit_date: 2023-10-24 10:00:24 -0500
nebbiolo1Linux (Ubuntu 22.04.3 LTS) / x86_64  OK    OK    ERROR  
palomino3Windows Server 2022 Datacenter / x64  OK    OK    WARNINGS    OK  UNNEEDED, same version is already published
Package 266/514HostnameOS / ArchINSTALLBUILDCHECKBUILD BIN
metagene2 1.19.0  (landing page)
Eric Fournier
git_last_commit: 7dd1bd1
git_last_commit_date: 2023-10-24 11:13:42 -0500
nebbiolo1Linux (Ubuntu 22.04.3 LTS) / x86_64  OK    OK    WARNINGS  UNNEEDED, same version is already published
palomino3Windows Server 2022 Datacenter / x64  OK    OK    WARNINGS    OK  UNNEEDED, same version is already published
Package 267/514HostnameOS / ArchINSTALLBUILDCHECKBUILD BIN
metaseqR2 1.15.0  (landing page)
Panagiotis Moulos
git_last_commit: eebcb8e
git_last_commit_date: 2023-10-24 11:22:10 -0500
nebbiolo1Linux (Ubuntu 22.04.3 LTS) / x86_64  OK    OK    OK  UNNEEDED, same version is already published
palomino3Windows Server 2022 Datacenter / x64  OK    OK    OK    OK  UNNEEDED, same version is already published
Package 268/514HostnameOS / ArchINSTALLBUILDCHECKBUILD BIN
methimpute 1.25.0  (landing page)
Aaron Taudt
git_last_commit: 76fb513
git_last_commit_date: 2023-10-24 11:00:17 -0500
nebbiolo1Linux (Ubuntu 22.04.3 LTS) / x86_64  OK    OK    WARNINGS  UNNEEDED, same version is already published
palomino3Windows Server 2022 Datacenter / x64  OK    OK    WARNINGS    OK  UNNEEDED, same version is already published
Package 269/514HostnameOS / ArchINSTALLBUILDCHECKBUILD BIN
methInheritSim 1.25.0  (landing page)
Pascal Belleau
git_last_commit: 7f9f10b
git_last_commit_date: 2023-10-24 10:57:34 -0500
nebbiolo1Linux (Ubuntu 22.04.3 LTS) / x86_64  OK    OK    OK  UNNEEDED, same version is already published
palomino3Windows Server 2022 Datacenter / x64  OK    OK    OK    OK  UNNEEDED, same version is already published
Package 270/514HostnameOS / ArchINSTALLBUILDCHECKBUILD BIN
methodical 0.99.21  (landing page)
Richard Heery
git_last_commit: 9cc9fff
git_last_commit_date: 2024-01-12 14:44:06 -0500
nebbiolo1Linux (Ubuntu 22.04.3 LTS) / x86_64  OK    OK    OK  UNNEEDED, same version is already published
palomino3Windows Server 2022 Datacenter / x64  OK    ERROR  skippedskipped
Package 271/514HostnameOS / ArchINSTALLBUILDCHECKBUILD BIN
MethReg 1.13.5  (landing page)
Tiago Silva
git_last_commit: 5e79625
git_last_commit_date: 2024-01-25 10:57:38 -0500
nebbiolo1Linux (Ubuntu 22.04.3 LTS) / x86_64  OK    OK    OK  UNNEEDED, same version is already published
palomino3Windows Server 2022 Datacenter / x64  OK    OK    OK    OK  UNNEEDED, same version is already published
Package 272/514HostnameOS / ArchINSTALLBUILDCHECKBUILD BIN
methrix 1.17.0  (landing page)
Anand Mayakonda
git_last_commit: 8a77091
git_last_commit_date: 2023-10-24 11:17:51 -0500
nebbiolo1Linux (Ubuntu 22.04.3 LTS) / x86_64  OK    OK    OK  UNNEEDED, same version is already published
palomino3Windows Server 2022 Datacenter / x64  OK    OK    OK    OK  UNNEEDED, same version is already published
Package 273/514HostnameOS / ArchINSTALLBUILDCHECKBUILD BIN
methylCC 1.17.0  (landing page)
Stephanie C. Hicks
git_last_commit: a810ab3
git_last_commit_date: 2023-10-24 11:16:54 -0500
nebbiolo1Linux (Ubuntu 22.04.3 LTS) / x86_64  OK    OK    OK  UNNEEDED, same version is already published
palomino3Windows Server 2022 Datacenter / x64  OK    OK    OK    OK  UNNEEDED, same version is already published
Package 274/514HostnameOS / ArchINSTALLBUILDCHECKBUILD BIN
methylInheritance 1.27.0  (landing page)
Astrid Deschênes
git_last_commit: 352fa30
git_last_commit_date: 2023-10-24 10:56:57 -0500
nebbiolo1Linux (Ubuntu 22.04.3 LTS) / x86_64  OK    OK    OK  UNNEEDED, same version is already published
palomino3Windows Server 2022 Datacenter / x64  OK    OK    OK    OK  UNNEEDED, same version is already published
Package 275/514HostnameOS / ArchINSTALLBUILDCHECKBUILD BIN
methylKit 1.29.1  (landing page)
Altuna Akalin , Alexander Blume
git_last_commit: 9061a7c
git_last_commit_date: 2024-01-17 11:02:15 -0500
nebbiolo1Linux (Ubuntu 22.04.3 LTS) / x86_64  OK    OK    OK  UNNEEDED, same version is already published
palomino3Windows Server 2022 Datacenter / x64  OK    OK    OK    OK  UNNEEDED, same version is already published
Package 276/514HostnameOS / ArchINSTALLBUILDCHECKBUILD BIN
methylPipe 1.37.0  (landing page)
Mattia Furlan
git_last_commit: 9fa1f0e
git_last_commit_date: 2023-10-24 10:00:55 -0500
nebbiolo1Linux (Ubuntu 22.04.3 LTS) / x86_64  OK    OK    WARNINGS  UNNEEDED, same version is already published
palomino3Windows Server 2022 Datacenter / x64  OK    OK    WARNINGS    OK  UNNEEDED, same version is already published
Package 277/514HostnameOS / ArchINSTALLBUILDCHECKBUILD BIN
MethylSeekR 1.43.0  (landing page)
Lukas Burger
git_last_commit: 1f68e4a
git_last_commit_date: 2023-10-24 09:52:39 -0500
nebbiolo1Linux (Ubuntu 22.04.3 LTS) / x86_64  OK    OK    OK  UNNEEDED, same version is already published
palomino3Windows Server 2022 Datacenter / x64  OK    OK    OK    OK  UNNEEDED, same version is already published
Package 278/514HostnameOS / ArchINSTALLBUILDCHECKBUILD BIN
methylSig 1.15.0  (landing page)
Raymond G. Cavalcante
git_last_commit: 6d7efe4
git_last_commit_date: 2023-10-24 11:21:42 -0500
nebbiolo1Linux (Ubuntu 22.04.3 LTS) / x86_64  OK    OK    OK  UNNEEDED, same version is already published
palomino3Windows Server 2022 Datacenter / x64  OK    OK    OK    OK  UNNEEDED, same version is already published
Package 279/514HostnameOS / ArchINSTALLBUILDCHECKBUILD BIN
methylumi 2.49.0  (landing page)
Sean Davis
git_last_commit: 7e782d3
git_last_commit_date: 2023-10-24 09:41:58 -0500
nebbiolo1Linux (Ubuntu 22.04.3 LTS) / x86_64  OK    OK    OK  UNNEEDED, same version is already published
palomino3Windows Server 2022 Datacenter / x64  OK    OK    OK    OK  UNNEEDED, same version is already published
Package 280/514HostnameOS / ArchINSTALLBUILDCHECKBUILD BIN
mia 1.11.1  (landing page)
Tuomas Borman
git_last_commit: dc1e5aa
git_last_commit_date: 2023-11-28 08:04:47 -0500
nebbiolo1Linux (Ubuntu 22.04.3 LTS) / x86_64  OK    OK    OK  UNNEEDED, same version is already published
palomino3Windows Server 2022 Datacenter / x64  OK    OK    OK    OK  UNNEEDED, same version is already published
Package 281/514HostnameOS / ArchINSTALLBUILDCHECKBUILD BIN
microbiomeMarker 1.9.0  (landing page)
Yang Cao
git_last_commit: afe4745
git_last_commit_date: 2023-11-04 12:01:59 -0500
nebbiolo1Linux (Ubuntu 22.04.3 LTS) / x86_64  OK    OK    OK  UNNEEDED, same version is already published
palomino3Windows Server 2022 Datacenter / x64  OK    OK    OK    OK  UNNEEDED, same version is already published
Package 282/514HostnameOS / ArchINSTALLBUILDCHECKBUILD BIN
minfi 1.49.1  (landing page)
Kasper Daniel Hansen
git_last_commit: 582b092
git_last_commit_date: 2024-01-10 16:16:10 -0500
nebbiolo1Linux (Ubuntu 22.04.3 LTS) / x86_64  OK