Back to Multiple platform build/check report for BioC 3.17
ABCDEF[G]HIJKLMNOPQRSTUVWXYZ

This page was generated on 2022-11-30 11:04:32 -0500 (Wed, 30 Nov 2022).

HostnameOSArch (*)R versionInstalled pkgs
nebbiolo1Linux (Ubuntu 22.04.1 LTS)x86_64R Under development (unstable) (2022-10-25 r83175) -- "Unsuffered Consequences" 4462
palomino3Windows Server 2022 Datacenterx64R Under development (unstable) (2022-10-11 r83083 ucrt) -- "Unsuffered Consequences" 4201
merida1macOS 10.14.6 Mojavex86_64R Under development (unstable) (2022-11-13 r83342) -- "Unsuffered Consequences" 4231
Click on any hostname to see more info about the system (e.g. compilers)      (*) as reported by 'uname -p', except on Windows and Mac OS X

All results for package GeneOverlap


To the developers/maintainers of the GeneOverlap package:
- Please allow up to 24 hours (and sometimes 48 hours) for your latest push to git@git.bioconductor.org:packages/GeneOverlap.git to
reflect on this report. See How and When does the builder pull? When will my changes propagate? for more information.
- Make sure to use the following settings in order to reproduce any error or warning you see on this page.

raw results

Package 749/2154HostnameOS / ArchINSTALLBUILDCHECKBUILD BIN
GeneOverlap 1.35.0  (landing page)
António Miguel de Jesus Domingues, Max-Planck Institute for Cell Biology and Genetics
Snapshot Date: 2022-11-29 14:00:14 -0500 (Tue, 29 Nov 2022)
git_url: https://git.bioconductor.org/packages/GeneOverlap
git_branch: master
git_last_commit: e60e0c6
git_last_commit_date: 2022-11-01 11:09:06 -0500 (Tue, 01 Nov 2022)
nebbiolo1Linux (Ubuntu 22.04.1 LTS) / x86_64  OK    OK    OK  UNNEEDED, same version is already published
palomino3Windows Server 2022 Datacenter / x64  OK    OK    OK    OK  UNNEEDED, same version is already published
merida1macOS 10.14.6 Mojave / x86_64  OK    OK    OK    OK  UNNEEDED, same version is already published

Results for Bioconductor software packages that depend directly on package GeneOverlap

QUICK STATSOS / ArchINSTALLBUILDCHECKBUILD BIN
nebbiolo1Linux (Ubuntu 22.04.1 LTS) / x86_64
001
001
0001
palomino3Windows Server 2022 Datacenter / x64
001
001
0001
001
merida1macOS 10.14.6 Mojave / x86_64
001
001
0001
001
Package 1/1HostnameOS / ArchINSTALLBUILDCHECKBUILD BIN
ATACCoGAPS 1.1.0  (landing page)
Rossin Erbe
git_last_commit: 234877c
git_last_commit_date: 2022-11-01 11:27:16 -0500
nebbiolo1Linux (Ubuntu 22.04.1 LTS) / x86_64  OK    OK    OK  NO, package depends on 'projectR' which is not available
palomino3Windows Server 2022 Datacenter / x64  OK    OK    OK    OK  NO, package depends on 'CoGAPS' which is not available
merida1macOS 10.14.6 Mojave / x86_64  OK    OK    OK    OK  NO, package depends on 'CoGAPS' which is not available