Back to Multiple platform build/check report for BioC 3.18:   simplified   long
ABCD[E]FGHIJKLMNOPQRSTUVWXYZ

This page was generated on 2023-06-08 12:51:43 -0400 (Thu, 08 Jun 2023).

HostnameOSArch (*)R versionInstalled pkgs
nebbiolo2Linux (Ubuntu 22.04.2 LTS)x86_644.3.0 RC (2023-04-18 r84287) -- "Already Tomorrow" 4598
palomino4Windows Server 2022 Datacenterx644.3.0 RC (2023-04-18 r84287 ucrt) -- "Already Tomorrow" 4347
lconwaymacOS 12.6.5 Montereyx86_644.3.0 RC (2023-04-13 r84266) -- "Already Tomorrow" 4354
kunpeng2Linux (openEuler 22.03 LTS-SP1)aarch644.3.0 (2023-04-21) -- "Already Tomorrow" 4379
Click on any hostname to see more info about the system (e.g. compilers)      (*) as reported by 'uname -p', except on Windows and Mac OS X

All results for package ExperimentHub


The builds on kunpeng2 (Linux ARM64) are experimental!
To the developers/maintainers of the ExperimentHub package:
- Allow up to 24 hours (and sometimes 48 hours) for your latest push to git@git.bioconductor.org:packages/ExperimentHub.git to reflect on this report. See Troubleshooting Build Report for more information.
- Use the following Renviron settings to reproduce errors and warnings.
- If 'R CMD check' started to fail recently on the Linux builder(s) over a missing dependency, add the missing dependency to 'Suggests:' in your DESCRIPTION file. See Renviron.bioc for more information.

raw results

Package 660/2199HostnameOS / ArchINSTALLBUILDCHECKBUILD BIN
ExperimentHub 2.9.0  (landing page)
Bioconductor Package Maintainer
Snapshot Date: 2023-06-07 14:00:08 -0400 (Wed, 07 Jun 2023)
git_url: https://git.bioconductor.org/packages/ExperimentHub
git_branch: devel
git_last_commit: 8ed91c7
git_last_commit_date: 2023-04-25 10:44:39 -0400 (Tue, 25 Apr 2023)
nebbiolo2Linux (Ubuntu 22.04.2 LTS) / x86_64  OK    OK    ERROR  
palomino4Windows Server 2022 Datacenter / x64  OK    OK    WARNINGS    OK  UNNEEDED, same version is already published
lconwaymacOS 12.6.5 Monterey / x86_64  OK    OK    WARNINGS    OK  UNNEEDED, same version is already published
kunpeng2Linux (openEuler 22.03 LTS-SP1) / aarch64  OK    OK    WARNINGS  

Results for Bioconductor software packages that depend directly on package ExperimentHub

QUICK STATSOS / ArchINSTALLBUILDCHECKBUILD BIN
nebbiolo2Linux (Ubuntu 22.04.2 LTS) / x86_64
0028
0127
03420
palomino4Windows Server 2022 Datacenter / x64
0027
0324
02418
0024
lconwaymacOS 12.6.5 Monterey / x86_64
0028
0127
02421
0027
kunpeng2Linux (openEuler 22.03 LTS-SP1) / aarch64
0028
1324
07314
Package 1/28HostnameOS / ArchINSTALLBUILDCHECKBUILD BIN
adductomicsR 1.17.0  (landing page)
Josie Hayes
git_last_commit: f79d961
git_last_commit_date: 2023-04-25 11:07:24 -0400
nebbiolo2Linux (Ubuntu 22.04.2 LTS) / x86_64  OK    OK    WARNINGS  UNNEEDED, same version is already published
palomino4Windows Server 2022 Datacenter / x64  OK    OK    WARNINGS    OK  UNNEEDED, same version is already published
lconwaymacOS 12.6.5 Monterey / x86_64  OK    OK    WARNINGS    OK  UNNEEDED, same version is already published
kunpeng2Linux (openEuler 22.03 LTS-SP1) / aarch64  OK    TIMEOUT  skipped
Package 2/28HostnameOS / ArchINSTALLBUILDCHECKBUILD BIN
BiocHubsShiny 1.1.0  (landing page)
Marcel Ramos
git_last_commit: c3c3717
git_last_commit_date: 2023-04-25 11:42:30 -0400
nebbiolo2Linux (Ubuntu 22.04.2 LTS) / x86_64  OK    OK    OK  UNNEEDED, same version is already published
palomino4Windows Server 2022 Datacenter / x64  OK    OK    OK    OK  UNNEEDED, same version is already published
lconwaymacOS 12.6.5 Monterey / x86_64  OK    OK    OK    OK  UNNEEDED, same version is already published
kunpeng2Linux (openEuler 22.03 LTS-SP1) / aarch64  OK    OK    OK  
Package 3/28HostnameOS / ArchINSTALLBUILDCHECKBUILD BIN
BloodGen3Module 1.9.0  (landing page)
Darawan Rinchai
git_last_commit: 7d7a408
git_last_commit_date: 2023-04-25 11:29:58 -0400
nebbiolo2Linux (Ubuntu 22.04.2 LTS) / x86_64  OK    OK    WARNINGS  UNNEEDED, same version is already published
palomino4Windows Server 2022 Datacenter / x64  OK    OK    WARNINGS    OK  UNNEEDED, same version is already published
lconwaymacOS 12.6.5 Monterey / x86_64  OK    OK    WARNINGS    OK  UNNEEDED, same version is already published
kunpeng2Linux (openEuler 22.03 LTS-SP1) / aarch64  OK    OK    WARNINGS  
Package 4/28HostnameOS / ArchINSTALLBUILDCHECKBUILD BIN
CBNplot 1.1.0  (landing page)
Noriaki Sato
git_last_commit: ab23529
git_last_commit_date: 2023-04-25 11:44:18 -0400
nebbiolo2Linux (Ubuntu 22.04.2 LTS) / x86_64  OK    OK    OK  UNNEEDED, same version is already published
palomino4Windows Server 2022 Datacenter / x64  OK    OK    OK    OK  UNNEEDED, same version is already published
lconwaymacOS 12.6.5 Monterey / x86_64  OK    OK    OK    OK  UNNEEDED, same version is already published
kunpeng2Linux (openEuler 22.03 LTS-SP1) / aarch64  OK    OK    OK  
Package 5/28HostnameOS / ArchINSTALLBUILDCHECKBUILD BIN
coMethDMR 1.5.0  (landing page)
Fernanda Veitzman
git_last_commit: 322cc9e
git_last_commit_date: 2023-04-25 11:35:11 -0400
nebbiolo2Linux (Ubuntu 22.04.2 LTS) / x86_64  OK    OK    OK  UNNEEDED, same version is already published
palomino4Windows Server 2022 Datacenter / x64  OK    OK    OK    OK  UNNEEDED, same version is already published
lconwaymacOS 12.6.5 Monterey / x86_64  OK    OK    OK    OK  UNNEEDED, same version is already published
kunpeng2Linux (openEuler 22.03 LTS-SP1) / aarch64  OK    OK    OK  
Package 6/28HostnameOS / ArchINSTALLBUILDCHECKBUILD BIN
CoSIA 1.1.0  (landing page)
Amanda D. Clark
git_last_commit: d413cd8
git_last_commit_date: 2023-04-25 11:44:57 -0400
nebbiolo2Linux (Ubuntu 22.04.2 LTS) / x86_64  OK    OK    OK  UNNEEDED, same version is already published
palomino4Windows Server 2022 Datacenter / x64  OK    OK    OK    OK  UNNEEDED, same version is already published
lconwaymacOS 12.6.5 Monterey / x86_64  OK    OK    OK    OK  UNNEEDED, same version is already published
kunpeng2Linux (openEuler 22.03 LTS-SP1) / aarch64  OK    OK    ERROR  
Package 7/28HostnameOS / ArchINSTALLBUILDCHECKBUILD BIN
CTdata 1.1.1  (landing page)
Laurent Gatto
git_last_commit: 11a5af5
git_last_commit_date: 2023-04-27 09:29:45 -0400
nebbiolo2Linux (Ubuntu 22.04.2 LTS) / x86_64  OK    OK    ERROR  
palomino4Windows Server 2022 Datacenter / x64  OK    OK    OK    OK  UNNEEDED, same version is already published
lconwaymacOS 12.6.5 Monterey / x86_64  OK    OK    OK    OK  UNNEEDED, same version is already published
kunpeng2Linux (openEuler 22.03 LTS-SP1) / aarch64  OK    OK    OK  
Package 8/28HostnameOS / ArchINSTALLBUILDCHECKBUILD BIN
DMRcate 2.15.0  (landing page)
Tim Peters
git_last_commit: 1b3de72
git_last_commit_date: 2023-04-25 10:30:37 -0400
nebbiolo2Linux (Ubuntu 22.04.2 LTS) / x86_64  OK    OK    OK  NO, package depends on 'DSS' which is not available
palomino4Windows Server 2022 Datacenter / x64  OK    OK    OK    OK  UNNEEDED, same version is already published
lconwaymacOS 12.6.5 Monterey / x86_64  OK    OK    OK    OK  UNNEEDED, same version is already published
kunpeng2Linux (openEuler 22.03 LTS-SP1) / aarch64  OK    ERROR  skipped
Package 9/28HostnameOS / ArchINSTALLBUILDCHECKBUILD BIN
ENmix 1.37.01  (landing page)
Zongli Xu
git_last_commit: b70c975
git_last_commit_date: 2023-05-15 14:30:02 -0400
nebbiolo2Linux (Ubuntu 22.04.2 LTS) / x86_64  OK    OK    OK  UNNEEDED, same version is already published
palomino4Windows Server 2022 Datacenter / x64  OK    OK    OK    OK  UNNEEDED, same version is already published
lconwaymacOS 12.6.5 Monterey / x86_64  OK    OK    OK    OK  UNNEEDED, same version is already published
kunpeng2Linux (openEuler 22.03 LTS-SP1) / aarch64  OK    OK    OK  
Package 10/28HostnameOS / ArchINSTALLBUILDCHECKBUILD BIN
EpiMix 1.3.0  (landing page)
Yuanning Zheng
git_last_commit: 8a49eb8
git_last_commit_date: 2023-04-25 11:39:07 -0400
nebbiolo2Linux (Ubuntu 22.04.2 LTS) / x86_64  OK    ERROR  skipped
palomino4Windows Server 2022 Datacenter / x64  OK    ERROR  skippedskipped
lconwaymacOS 12.6.5 Monterey / x86_64  OK    ERROR  skippedskipped
kunpeng2Linux (openEuler 22.03 LTS-SP1) / aarch64  OK    OK    ERROR  
Package 11/28HostnameOS / ArchINSTALLBUILDCHECKBUILD BIN
epimutacions 1.5.3  (landing page)
Dolors Pelegri-Siso
git_last_commit: 7ac9459
git_last_commit_date: 2023-05-30 04:05:27 -0400
nebbiolo2Linux (Ubuntu 22.04.2 LTS) / x86_64  OK    OK    OK  UNNEEDED, same version is already published
palomino4Windows Server 2022 Datacenter / x64  OK    ERROR  skippedskipped
lconwaymacOS 12.6.5 Monterey / x86_64  OK    OK    OK    OK  UNNEEDED, same version is already published
kunpeng2Linux (openEuler 22.03 LTS-SP1) / aarch64  OK    OK    OK  
Package 12/28HostnameOS / ArchINSTALLBUILDCHECKBUILD BIN
ExperimentHubData 1.27.0  (landing page)
Bioconductor Package Maintainer
git_last_commit: 78cf5cf
git_last_commit_date: 2023-04-25 10:44:41 -0400
nebbiolo2Linux (Ubuntu 22.04.2 LTS) / x86_64  OK    OK    WARNINGS  UNNEEDED, same version is already published
palomino4Windows Server 2022 Datacenter / x64  OK    OK    WARNINGS    OK  UNNEEDED, same version is already published
lconwaymacOS 12.6.5 Monterey / x86_64  OK    OK    WARNINGS    OK  UNNEEDED, same version is already published
kunpeng2Linux (openEuler 22.03 LTS-SP1) / aarch64  OK    OK    WARNINGS  
Package 13/28HostnameOS / ArchINSTALLBUILDCHECKBUILD BIN
GSEABenchmarkeR 1.21.0  (landing page)
Ludwig Geistlinger
git_last_commit: 3a6b677
git_last_commit_date: 2023-04-25 11:00:18 -0400
nebbiolo2Linux (Ubuntu 22.04.2 LTS) / x86_64  OK    OK    OK  UNNEEDED, same version is already published
palomino4Windows Server 2022 Datacenter / x64  OK    OK    OK    OK  UNNEEDED, same version is already published
lconwaymacOS 12.6.5 Monterey / x86_64  OK    OK    OK    OK  UNNEEDED, same version is already published
kunpeng2Linux (openEuler 22.03 LTS-SP1) / aarch64  OK    OK    ERROR  
Package 14/28HostnameOS / ArchINSTALLBUILDCHECKBUILD BIN
hpar 1.43.0  (landing page)
Laurent Gatto
git_last_commit: 9643c67
git_last_commit_date: 2023-04-25 10:24:04 -0400
nebbiolo2Linux (Ubuntu 22.04.2 LTS) / x86_64  OK    OK    OK  UNNEEDED, same version is already published
palomino4Windows Server 2022 Datacenter / x64  OK    OK    OK    OK  UNNEEDED, same version is already published
lconwaymacOS 12.6.5 Monterey / x86_64  OK    OK    OK    OK  UNNEEDED, same version is already published
kunpeng2Linux (openEuler 22.03 LTS-SP1) / aarch64  OK    OK    OK  
Package 15/28HostnameOS / ArchINSTALLBUILDCHECKBUILD BIN
iSEEhub 1.3.0  (landing page)
Kevin Rue-Albrecht
git_last_commit: 52f63f7
git_last_commit_date: 2023-04-25 11:40:08 -0400
nebbiolo2Linux (Ubuntu 22.04.2 LTS) / x86_64  OK    OK    ERROR  
palomino4Windows Server 2022 Datacenter / x64  OK    OK    ERROR    OK  
lconwaymacOS 12.6.5 Monterey / x86_64  OK    OK    ERROR    OK  
kunpeng2Linux (openEuler 22.03 LTS-SP1) / aarch64  OK    OK    ERROR  
Package 16/28HostnameOS / ArchINSTALLBUILDCHECKBUILD BIN
LRcell 1.9.0  (landing page)
Wenjing Ma
git_last_commit: 53e5aab
git_last_commit_date: 2023-04-25 11:28:14 -0400
nebbiolo2Linux (Ubuntu 22.04.2 LTS) / x86_64  OK    OK    OK  UNNEEDED, same version is already published
palomino4Windows Server 2022 Datacenter / x64  OK    OK    OK    OK  UNNEEDED, same version is already published
lconwaymacOS 12.6.5 Monterey / x86_64  OK    OK    OK    OK  UNNEEDED, same version is already published
kunpeng2Linux (openEuler 22.03 LTS-SP1) / aarch64  OK    OK    OK  
Package 17/28HostnameOS / ArchINSTALLBUILDCHECKBUILD BIN
m6Aboost 1.7.0  (landing page)
You Zhou
git_last_commit: 199c8e9
git_last_commit_date: 2023-04-25 11:30:47 -0400
nebbiolo2Linux (Ubuntu 22.04.2 LTS) / x86_64  OK    OK    OK  UNNEEDED, same version is already published
palomino4Windows Server 2022 Datacenter / x64  OK    OK    OK    OK  UNNEEDED, same version is already published
lconwaymacOS 12.6.5 Monterey / x86_64  OK    OK    OK    OK  UNNEEDED, same version is already published
kunpeng2Linux (openEuler 22.03 LTS-SP1) / aarch64  OK    OK    OK  
Package 18/28HostnameOS / ArchINSTALLBUILDCHECKBUILD BIN
MACSr 1.9.0  (landing page)
Qiang Hu
git_last_commit: 46d92f3
git_last_commit_date: 2023-04-25 11:26:37 -0400
nebbiolo2Linux (Ubuntu 22.04.2 LTS) / x86_64  OK    OK    OK  UNNEEDED, same version is already published
palomino4Windows Server 2022 Datacenter / x64... NOT SUPPORTED ...
lconwaymacOS 12.6.5 Monterey / x86_64  OK    OK    OK    OK  UNNEEDED, same version is already published
kunpeng2Linux (openEuler 22.03 LTS-SP1) / aarch64  OK    OK    OK  
Package 19/28HostnameOS / ArchINSTALLBUILDCHECKBUILD BIN
MatrixQCvis 1.9.0  (landing page)
Thomas Naake
git_last_commit: 41b9dc8
git_last_commit_date: 2023-04-25 11:29:50 -0400
nebbiolo2Linux (Ubuntu 22.04.2 LTS) / x86_64  OK    OK    OK  NO, package depends on 'vsn' which is not available
palomino4Windows Server 2022 Datacenter / x64  OK    OK    OK    OK  UNNEEDED, same version is already published
lconwaymacOS 12.6.5 Monterey / x86_64  OK    OK    OK    OK  UNNEEDED, same version is already published
kunpeng2Linux (openEuler 22.03 LTS-SP1) / aarch64  OK    OK    OK  
Package 20/28HostnameOS / ArchINSTALLBUILDCHECKBUILD BIN
MethReg 1.11.0  (landing page)
Tiago Silva
git_last_commit: 224092f
git_last_commit_date: 2023-04-25 11:22:54 -0400
nebbiolo2Linux (Ubuntu 22.04.2 LTS) / x86_64  OK    OK    WARNINGS  UNNEEDED, same version is already published
palomino4Windows Server 2022 Datacenter / x64  OK    OK    WARNINGS    OK  UNNEEDED, same version is already published
lconwaymacOS 12.6.5 Monterey / x86_64  OK    OK    WARNINGS    OK  UNNEEDED, same version is already published
kunpeng2Linux (openEuler 22.03 LTS-SP1) / aarch64  OK    OK    WARNINGS  
Package 21/28HostnameOS / ArchINSTALLBUILDCHECKBUILD BIN
methylclock 1.7.0  (landing page)
Dolors Pelegri-Siso
git_last_commit: f96f93b
git_last_commit_date: 2023-04-25 11:31:03 -0400
nebbiolo2Linux (Ubuntu 22.04.2 LTS) / x86_64  OK    OK    OK  NO, package depends on 'methylclockData' which is not available
palomino4Windows Server 2022 Datacenter / x64  OK    OK    OK    OK  NO, package depends on 'methylclockData' which is not available
lconwaymacOS 12.6.5 Monterey / x86_64  OK    OK    OK    OK  NO, package depends on 'methylclockData' which is not available
kunpeng2Linux (openEuler 22.03 LTS-SP1) / aarch64  OK    OK    OK  
Package 22/28HostnameOS / ArchINSTALLBUILDCHECKBUILD BIN
MsDataHub 1.1.0  (landing page)
Laurent Gatto
git_last_commit: c5c90e4
git_last_commit_date: 2023-04-25 11:43:27 -0400
nebbiolo2Linux (Ubuntu 22.04.2 LTS) / x86_64  OK    OK    OK  UNNEEDED, same version is already published
palomino4Windows Server 2022 Datacenter / x64  OK    OK    OK    OK  UNNEEDED, same version is already published
lconwaymacOS 12.6.5 Monterey / x86_64  OK    OK    OK    OK  UNNEEDED, same version is already published
kunpeng2Linux (openEuler 22.03 LTS-SP1) / aarch64  OK    OK    OK  
Package 23/28HostnameOS / ArchINSTALLBUILDCHECKBUILD BIN
octad 1.3.0  (landing page)
E. Chekalin
git_last_commit: fe2cbc2
git_last_commit_date: 2023-04-25 11:41:23 -0400
nebbiolo2Linux (Ubuntu 22.04.2 LTS) / x86_64  OK    OK    OK  UNNEEDED, same version is already published
palomino4Windows Server 2022 Datacenter / x64  OK    OK    OK    OK  UNNEEDED, same version is already published
lconwaymacOS 12.6.5 Monterey / x86_64  OK    OK    OK    OK  UNNEEDED, same version is already published
kunpeng2Linux (openEuler 22.03 LTS-SP1) / aarch64  OK    ERROR  skipped
Package 24/28HostnameOS / ArchINSTALLBUILDCHECKBUILD BIN
PhyloProfile 1.15.3  (landing page)
Vinh Tran
git_last_commit: 6da9915
git_last_commit_date: 2023-06-05 05:58:05 -0400
nebbiolo2Linux (Ubuntu 22.04.2 LTS) / x86_64  OK    OK    OK  UNNEEDED, same version is already published
palomino4Windows Server 2022 Datacenter / x64  OK    OK    OK    OK  NO, package depends on 'BiocStyle' which is not available
lconwaymacOS 12.6.5 Monterey / x86_64  OK    OK    OK    OK  UNNEEDED, same version is already published
kunpeng2Linux (openEuler 22.03 LTS-SP1) / aarch64  OK    OK    OK  
Package 25/28HostnameOS / ArchINSTALLBUILDCHECKBUILD BIN
restfulSE 1.23.0  (landing page)
Shweta Gopaulakrishnan
git_last_commit: ad6fe65
git_last_commit_date: 2023-04-25 10:56:49 -0400
nebbiolo2Linux (Ubuntu 22.04.2 LTS) / x86_64  OK    OK    OK  UNNEEDED, same version is already published
palomino4Windows Server 2022 Datacenter / x64  OK    ERROR  skippedskipped
lconwaymacOS 12.6.5 Monterey / x86_64  OK    OK    OK    OK  UNNEEDED, same version is already published
kunpeng2Linux (openEuler 22.03 LTS-SP1) / aarch64  OK    OK    ERROR  
Package 26/28HostnameOS / ArchINSTALLBUILDCHECKBUILD BIN
SeqSQC 1.23.0  (landing page)
Qian Liu
git_last_commit: 0d9660a
git_last_commit_date: 2023-04-25 10:57:44 -0400
nebbiolo2Linux (Ubuntu 22.04.2 LTS) / x86_64  OK    OK    OK  UNNEEDED, same version is already published
palomino4Windows Server 2022 Datacenter / x64  OK    OK    OK    OK  UNNEEDED, same version is already published
lconwaymacOS 12.6.5 Monterey / x86_64  OK    OK    OK    OK  UNNEEDED, same version is already published
kunpeng2Linux (openEuler 22.03 LTS-SP1) / aarch64  OK    ERROR  skipped
Package 27/28HostnameOS / ArchINSTALLBUILDCHECKBUILD BIN
signatureSearch 1.15.0  (landing page)
Brendan Gongol
git_last_commit: 9adea8b
git_last_commit_date: 2023-04-25 11:14:11 -0400
nebbiolo2Linux (Ubuntu 22.04.2 LTS) / x86_64  OK    OK    OK  UNNEEDED, same version is already published
palomino4Windows Server 2022 Datacenter / x64  OK    OK    OK    OK  UNNEEDED, same version is already published
lconwaymacOS 12.6.5 Monterey / x86_64  OK    OK    OK    OK  UNNEEDED, same version is already published
kunpeng2Linux (openEuler 22.03 LTS-SP1) / aarch64  OK    OK    ERROR  
Package 28/28HostnameOS / ArchINSTALLBUILDCHECKBUILD BIN
singleCellTK 2.11.0  (landing page)
Yichen Wang
git_last_commit: bce567d2
git_last_commit_date: 2023-04-25 11:01:21 -0400
nebbiolo2Linux (Ubuntu 22.04.2 LTS) / x86_64  OK    OK    ERROR  
palomino4Windows Server 2022 Datacenter / x64  OK    OK    ERROR    OK  
lconwaymacOS 12.6.5 Monterey / x86_64  OK    OK    ERROR    OK  
kunpeng2Linux (openEuler 22.03 LTS-SP1) / aarch64  OK    OK    ERROR