Back to Multiple platform build/check report for BioC 3.16
ABCDEFGHIJKLMNOPQ[R]STUVWXYZ

This page was generated on 2022-06-24 11:08:27 -0400 (Fri, 24 Jun 2022).

HostnameOSArch (*)R versionInstalled pkgs
nebbiolo2Linux (Ubuntu 20.04.4 LTS)x86_644.2.0 Patched (2022-06-02 r82447) -- "Vigorous Calisthenics" 4331
palomino4Windows Server 2022 Datacenterx644.2.0 Patched (2022-06-02 r82447 ucrt) -- "Vigorous Calisthenics" 4136
lconwaymacOS 12.2.1 Montereyx86_644.2.0 Patched (2022-05-29 r82424) -- "Vigorous Calisthenics" 4147
Click on any hostname to see more info about the system (e.g. compilers)      (*) as reported by 'uname -p', except on Windows and Mac OS X

BUILD BIN results for RCyjs on lconway


To the developers/maintainers of the RCyjs package:
- Please allow up to 24 hours (and sometimes 48 hours) for your latest push to git@git.bioconductor.org:packages/RCyjs.git to
reflect on this report. See How and When does the builder pull? When will my changes propagate? for more information.
- Make sure to use the following settings in order to reproduce any error or warning you see on this page.

raw results

Package 1577/2118HostnameOS / ArchINSTALLBUILDCHECKBUILD BIN
RCyjs 2.19.0  (landing page)
Paul Shannon
Snapshot Date: 2022-06-23 14:00:04 -0400 (Thu, 23 Jun 2022)
git_url: https://git.bioconductor.org/packages/RCyjs
git_branch: master
git_last_commit: 64ee431
git_last_commit_date: 2022-04-26 11:25:00 -0400 (Tue, 26 Apr 2022)
nebbiolo2Linux (Ubuntu 20.04.4 LTS) / x86_64  OK    OK    WARNINGS  UNNEEDED, same version is already published
palomino4Windows Server 2022 Datacenter / x64  OK    OK    WARNINGS    OK  UNNEEDED, same version is already published
lconwaymacOS 12.2.1 Monterey / x86_64  OK    OK    WARNINGS    OK  UNNEEDED, same version is already published

Summary

Package: RCyjs
Version: 2.19.0
Command: rm -rf RCyjs.buildbin-libdir && mkdir RCyjs.buildbin-libdir && /Users/biocbuild/BBS/utils/build-universal.sh RCyjs_2.19.0.tar.gz /Library/Frameworks/R.framework/Resources/bin/R RCyjs.buildbin-libdir
StartedAt: 2022-06-23 23:52:26 -0400 (Thu, 23 Jun 2022)
EndedAt: 2022-06-23 23:52:37 -0400 (Thu, 23 Jun 2022)
EllapsedTime: 11.0 seconds
RetCode: 0
Status:   OK  
PackageFile: RCyjs_2.19.0.tgz
PackageFileSize: 1.002 MiB

Command output

##############################################################################
##############################################################################
###
### Running command:
###
###   rm -rf RCyjs.buildbin-libdir && mkdir RCyjs.buildbin-libdir && /Users/biocbuild/BBS/utils/build-universal.sh RCyjs_2.19.0.tar.gz /Library/Frameworks/R.framework/Resources/bin/R RCyjs.buildbin-libdir
###
##############################################################################
##############################################################################


>>>>>>> 
>>>>>>> INSTALLATION WITH 'R CMD INSTALL --preclean --no-multiarch --library=RCyjs.buildbin-libdir RCyjs_2.19.0.tar.gz'
>>>>>>> 

* installing *source* package ‘RCyjs’ ...
** using staged installation
** R
** inst
** byte-compile and prepare package for lazy loading
Creating a new generic function for ‘layout’ in package ‘RCyjs’
** help
*** installing help indices
** building package indices
** installing vignettes
** testing if installed package can be loaded from temporary location
** testing if installed package can be loaded from final location
** testing if installed package keeps a record of temporary installation path
* DONE (RCyjs)