Back to Multiple platform build/check report for BioC 3.17
A[B]CDEFGHIJKLMNOPQRSTUVWXYZ

This page was generated on 2022-12-01 11:04:37 -0500 (Thu, 01 Dec 2022).

HostnameOSArch (*)R versionInstalled pkgs
nebbiolo1Linux (Ubuntu 22.04.1 LTS)x86_64R Under development (unstable) (2022-10-25 r83175) -- "Unsuffered Consequences" 4462
palomino3Windows Server 2022 Datacenterx64R Under development (unstable) (2022-10-11 r83083 ucrt) -- "Unsuffered Consequences" 4203
merida1macOS 10.14.6 Mojavex86_64R Under development (unstable) (2022-11-13 r83342) -- "Unsuffered Consequences" 4231
Click on any hostname to see more info about the system (e.g. compilers)      (*) as reported by 'uname -p', except on Windows and Mac OS X

All results for package BiocGenerics


To the developers/maintainers of the BiocGenerics package:
- Please allow up to 24 hours (and sometimes 48 hours) for your latest push to git@git.bioconductor.org:packages/BiocGenerics.git to
reflect on this report. See How and When does the builder pull? When will my changes propagate? for more information.
- Make sure to use the following settings in order to reproduce any error or warning you see on this page.

raw results

Package 161/2154HostnameOS / ArchINSTALLBUILDCHECKBUILD BIN
BiocGenerics 0.45.0  (landing page)
Hervé Pagès
Snapshot Date: 2022-11-30 14:00:15 -0500 (Wed, 30 Nov 2022)
git_url: https://git.bioconductor.org/packages/BiocGenerics
git_branch: master
git_last_commit: 4805e5b
git_last_commit_date: 2022-11-01 11:06:33 -0500 (Tue, 01 Nov 2022)
nebbiolo1Linux (Ubuntu 22.04.1 LTS) / x86_64  OK    OK    WARNINGS  UNNEEDED, same version is already published
palomino3Windows Server 2022 Datacenter / x64  OK    OK    WARNINGS    OK  UNNEEDED, same version is already published
merida1macOS 10.14.6 Mojave / x86_64  OK    OK    WARNINGS    OK  UNNEEDED, same version is already published

Results for Bioconductor software packages that depend directly on package BiocGenerics

QUICK STATSOS / ArchINSTALLBUILDCHECKBUILD BIN
nebbiolo1Linux (Ubuntu 22.04.1 LTS) / x86_64
03467
016454
016149289
palomino3Windows Server 2022 Datacenter / x64
02458
015445
018141286
00445
merida1macOS 10.14.6 Mojave / x86_64
04463
144422
612124280
00422
Package 1/470HostnameOS / ArchINSTALLBUILDCHECKBUILD BIN
a4Preproc 1.47.0  (landing page)
Laure Cougnaud
git_last_commit: 7820196
git_last_commit_date: 2022-11-01 11:05:49 -0500
nebbiolo1Linux (Ubuntu 22.04.1 LTS) / x86_64  OK    OK    OK  UNNEEDED, same version is already published
palomino3Windows Server 2022 Datacenter / x64  OK    OK    OK    OK  UNNEEDED, same version is already published
merida1macOS 10.14.6 Mojave / x86_64  OK    OK    OK    OK  UNNEEDED, same version is already published
Package 2/470HostnameOS / ArchINSTALLBUILDCHECKBUILD BIN
ACME 2.55.0  (landing page)
Sean Davis
git_last_commit: ad84f63
git_last_commit_date: 2022-11-01 11:03:24 -0500
nebbiolo1Linux (Ubuntu 22.04.1 LTS) / x86_64  OK    OK    WARNINGS  UNNEEDED, same version is already published
palomino3Windows Server 2022 Datacenter / x64  OK    OK    WARNINGS    OK  UNNEEDED, same version is already published
merida1macOS 10.14.6 Mojave / x86_64  OK    OK    OK    OK  UNNEEDED, same version is already published
Package 3/470HostnameOS / ArchINSTALLBUILDCHECKBUILD BIN
affy 1.77.0  (landing page)
Rafael A. Irizarry
git_last_commit: b3ddc54
git_last_commit_date: 2022-11-01 10:35:21 -0500
nebbiolo1Linux (Ubuntu 22.04.1 LTS) / x86_64  OK    OK    WARNINGS  UNNEEDED, same version is already published
palomino3Windows Server 2022 Datacenter / x64  OK    OK    WARNINGS    OK  UNNEEDED, same version is already published
merida1macOS 10.14.6 Mojave / x86_64  OK    OK    WARNINGS    OK  UNNEEDED, same version is already published
Package 4/470HostnameOS / ArchINSTALLBUILDCHECKBUILD BIN
affycoretools 1.71.0  (landing page)
James W. MacDonald
git_last_commit: 37ca131
git_last_commit_date: 2022-11-01 10:40:10 -0500
nebbiolo1Linux (Ubuntu 22.04.1 LTS) / x86_64  OK    OK    WARNINGS  UNNEEDED, same version is already published
palomino3Windows Server 2022 Datacenter / x64  OK    OK    WARNINGS    OK  NO, package depends on 'oligoClasses' which is not available
merida1macOS 10.14.6 Mojave / x86_64  OK    OK    WARNINGS    OK  NO, package depends on 'ReportingTools' which is not available
Package 5/470HostnameOS / ArchINSTALLBUILDCHECKBUILD BIN
affylmGUI 1.73.0  (landing page)
Gordon Smyth
git_last_commit: 5fbfea1
git_last_commit_date: 2022-11-01 10:37:05 -0500
nebbiolo1Linux (Ubuntu 22.04.1 LTS) / x86_64  OK    OK    OK  UNNEEDED, same version is already published
palomino3Windows Server 2022 Datacenter / x64  OK    OK    OK    OK  NO, package depends on 'affyPLM' which is not available
merida1macOS 10.14.6 Mojave / x86_64  OK    OK    OK    OK  UNNEEDED, same version is already published
Package 6/470HostnameOS / ArchINSTALLBUILDCHECKBUILD BIN
affyPLM 1.75.0  (landing page)
Ben Bolstad
git_last_commit: 2069214
git_last_commit_date: 2022-11-01 10:36:08 -0500
nebbiolo1Linux (Ubuntu 22.04.1 LTS) / x86_64  OK    OK    WARNINGS  UNNEEDED, same version is already published
palomino3Windows Server 2022 Datacenter / x64  OK    OK    ERROR    OK  
merida1macOS 10.14.6 Mojave / x86_64  OK    OK    OK    OK  UNNEEDED, same version is already published
Package 7/470HostnameOS / ArchINSTALLBUILDCHECKBUILD BIN
AllelicImbalance 1.37.0  (landing page)
Jesper R Gadin
git_last_commit: 330d8ed
git_last_commit_date: 2022-11-01 11:08:46 -0500
nebbiolo1Linux (Ubuntu 22.04.1 LTS) / x86_64  OK    OK    OK  UNNEEDED, same version is already published
palomino3Windows Server 2022 Datacenter / x64  OK    OK    OK    OK  NO, package depends on 'GenomicRanges' which is not available
merida1macOS 10.14.6 Mojave / x86_64  OK    OK    OK    OK  NO, package depends on 'GenomicAlignments' which is not available
Package 8/470HostnameOS / ArchINSTALLBUILDCHECKBUILD BIN
altcdfenvs 2.61.0  (landing page)
Laurent Gautier
git_last_commit: 657dd6a
git_last_commit_date: 2022-11-01 10:36:55 -0500
nebbiolo1Linux (Ubuntu 22.04.1 LTS) / x86_64  OK    OK    OK  UNNEEDED, same version is already published
palomino3Windows Server 2022 Datacenter / x64  OK    OK    OK    OK  UNNEEDED, same version is already published
merida1macOS 10.14.6 Mojave / x86_64  OK    OK    OK    OK  UNNEEDED, same version is already published
Package 9/470HostnameOS / ArchINSTALLBUILDCHECKBUILD BIN
amplican 1.21.0  (landing page)
Eivind Valen
git_last_commit: 5b04ab5
git_last_commit_date: 2022-11-01 11:16:19 -0500
nebbiolo1Linux (Ubuntu 22.04.1 LTS) / x86_64  OK    OK    OK  UNNEEDED, same version is already published
palomino3Windows Server 2022 Datacenter / x64  OK    OK    OK    OK  NO, package depends on 'ShortRead' which is not available
merida1macOS 10.14.6 Mojave / x86_64  OK    OK    OK    OK  NO, package depends on 'ShortRead' which is not available
Package 10/470HostnameOS / ArchINSTALLBUILDCHECKBUILD BIN
AneuFinder 1.27.0  (landing page)
Aaron Taudt
git_last_commit: 340387c
git_last_commit_date: 2022-11-01 11:13:19 -0500
nebbiolo1Linux (Ubuntu 22.04.1 LTS) / x86_64  OK    OK    WARNINGS  UNNEEDED, same version is already published
palomino3Windows Server 2022 Datacenter / x64  OK    OK    WARNINGS    OK  NO, package depends on 'GenomicRanges' which is not available
merida1macOS 10.14.6 Mojave / x86_64  OK    ERROR  skippedskipped
Package 11/470HostnameOS / ArchINSTALLBUILDCHECKBUILD BIN
annmap 1.41.0  (landing page)
Chris Wirth
git_last_commit: 5d59609
git_last_commit_date: 2022-11-01 11:07:03 -0500
nebbiolo1Linux (Ubuntu 22.04.1 LTS) / x86_64  OK    OK    WARNINGS  UNNEEDED, same version is already published
palomino3Windows Server 2022 Datacenter / x64... NOT SUPPORTED ...
merida1macOS 10.14.6 Mojave / x86_64  OK    OK    WARNINGS    OK  NO, package depends on 'Rsamtools' which is not available
Package 12/470HostnameOS / ArchINSTALLBUILDCHECKBUILD BIN
annotate 1.77.0  (landing page)
Bioconductor Package Maintainer
git_last_commit: 84b32d4
git_last_commit_date: 2022-11-01 10:34:51 -0500
nebbiolo1Linux (Ubuntu 22.04.1 LTS) / x86_64  OK    OK    OK  UNNEEDED, same version is already published
palomino3Windows Server 2022 Datacenter / x64  OK    OK    ERROR    OK  
merida1macOS 10.14.6 Mojave / x86_64  OK    OK    OK    OK  UNNEEDED, same version is already published
Package 13/470HostnameOS / ArchINSTALLBUILDCHECKBUILD BIN
AnnotationDbi 1.61.0  (landing page)
Bioconductor Package Maintainer
git_last_commit: 50cba36
git_last_commit_date: 2022-11-01 10:42:30 -0500
nebbiolo1Linux (Ubuntu 22.04.1 LTS) / x86_64  OK    OK    WARNINGS  UNNEEDED, same version is already published
palomino3Windows Server 2022 Datacenter / x64  OK    OK    WARNINGS    OK  UNNEEDED, same version is already published
merida1macOS 10.14.6 Mojave / x86_64  OK    OK    WARNINGS    OK  UNNEEDED, same version is already published
Package 14/470HostnameOS / ArchINSTALLBUILDCHECKBUILD BIN
AnnotationForge 1.41.0  (landing page)
Bioconductor Package Maintainer
git_last_commit: e247a06
git_last_commit_date: 2022-11-01 11:07:07 -0500
nebbiolo1Linux (Ubuntu 22.04.1 LTS) / x86_64  OK    OK    OK  UNNEEDED, same version is already published
palomino3Windows Server 2022 Datacenter / x64  OK    ERROR  skippedskipped
merida1macOS 10.14.6 Mojave / x86_64  OK    OK    OK    OK  UNNEEDED, same version is already published
Package 15/470HostnameOS / ArchINSTALLBUILDCHECKBUILD BIN
AnnotationHub 3.7.0  (landing page)
Bioconductor Package Maintainer
git_last_commit: 7fa9930
git_last_commit_date: 2022-11-01 11:08:05 -0500
nebbiolo1Linux (Ubuntu 22.04.1 LTS) / x86_64  OK    OK    WARNINGS  UNNEEDED, same version is already published
palomino3Windows Server 2022 Datacenter / x64  OK    OK    WARNINGS    OK  UNNEEDED, same version is already published
merida1macOS 10.14.6 Mojave / x86_64  OK    OK    WARNINGS    OK  UNNEEDED, same version is already published
Package 16/470HostnameOS / ArchINSTALLBUILDCHECKBUILD BIN
AnnotationHubData 1.29.0  (landing page)
Bioconductor Package Maintainer
git_last_commit: 3187433
git_last_commit_date: 2022-11-01 11:12:08 -0500
nebbiolo1Linux (Ubuntu 22.04.1 LTS) / x86_64  OK    OK    WARNINGS  UNNEEDED, same version is already published
palomino3Windows Server 2022 Datacenter / x64  OK    OK    WARNINGS    OK  NO, package depends on 'GenomicRanges' which is not available
merida1macOS 10.14.6 Mojave / x86_64  OK    OK    WARNINGS    OK  NO, package depends on 'GenomicFeatures' which is not available
Package 17/470HostnameOS / ArchINSTALLBUILDCHECKBUILD BIN
ArrayExpressHTS 1.49.0  (landing page)
Angela Goncalves , Andrew Tikhonov
git_last_commit: d22bf0a
git_last_commit_date: 2022-11-01 11:05:54 -0500
nebbiolo1Linux (Ubuntu 22.04.1 LTS) / x86_64  ERROR    ERROR  skipped
palomino3Windows Server 2022 Datacenter / x64... NOT SUPPORTED ...
merida1macOS 10.14.6 Mojave / x86_64  ERROR    ERROR  skippedskipped
Package 18/470HostnameOS / ArchINSTALLBUILDCHECKBUILD BIN
ASpli 2.9.0  (landing page)
Estefania Mancini
git_last_commit: 22dbaf4
git_last_commit_date: 2022-11-01 11:14:10 -0500
nebbiolo1Linux (Ubuntu 22.04.1 LTS) / x86_64  OK    OK    WARNINGS  UNNEEDED, same version is already published
palomino3Windows Server 2022 Datacenter / x64  OK    OK    WARNINGS    OK  NO, package depends on 'GenomicRanges' which is not available
merida1macOS 10.14.6 Mojave / x86_64  OK    OK    WARNINGS    OK  NO, package depends on 'edgeR' which is not available
Package 19/470HostnameOS / ArchINSTALLBUILDCHECKBUILD BIN
ATACseqQC 1.23.0  (landing page)
Jianhong Ou
git_last_commit: 3aa5bd7
git_last_commit_date: 2022-11-01 11:15:41 -0500
nebbiolo1Linux (Ubuntu 22.04.1 LTS) / x86_64  OK    OK    WARNINGS  UNNEEDED, same version is already published
palomino3Windows Server 2022 Datacenter / x64  OK    OK    WARNINGS    OK  NO, package depends on 'BSgenome' which is not available
merida1macOS 10.14.6 Mojave / x86_64  OK    OK    WARNINGS    OK  NO, package depends on 'BSgenome' which is not available
Package 20/470HostnameOS / ArchINSTALLBUILDCHECKBUILD BIN
ATACseqTFEA 1.1.1  (landing page)
Jianhong Ou
git_last_commit: 203524e
git_last_commit_date: 2022-11-04 14:13:13 -0500
nebbiolo1Linux (Ubuntu 22.04.1 LTS) / x86_64  OK    OK    OK  UNNEEDED, same version is already published
palomino3Windows Server 2022 Datacenter / x64  OK    OK    OK    OK  NO, package depends on 'GenomicRanges' which is not available
merida1macOS 10.14.6 Mojave / x86_64  OK    OK    OK    OK  NO, package depends on 'GenomicAlignments' which is not available
Package 21/470HostnameOS / ArchINSTALLBUILDCHECKBUILD BIN
atena 1.5.1  (landing page)
Beatriz Calvo-Serra
git_last_commit: 5700031
git_last_commit_date: 2022-11-30 11:13:59 -0500
nebbiolo1Linux (Ubuntu 22.04.1 LTS) / x86_64  OK    OK    OK  YES
palomino3Windows Server 2022 Datacenter / x64  OK    OK    OK    OK  NO, package depends on 'SummarizedExperiment' which is not available
merida1macOS 10.14.6 Mojave / x86_64  OK    OK    OK    OK  NO, package depends on 'BiocParallel' which is not available
Package 22/470HostnameOS / ArchINSTALLBUILDCHECKBUILD BIN
AUCell 1.21.1  (landing page)
Sara Aibar
git_last_commit: e9fbc7c
git_last_commit_date: 2022-11-03 09:08:33 -0500
nebbiolo1Linux (Ubuntu 22.04.1 LTS) / x86_64  OK    OK    WARNINGS  UNNEEDED, same version is already published
palomino3Windows Server 2022 Datacenter / x64  OK    OK    WARNINGS    OK  NO, package depends on 'SummarizedExperiment' which is not available
merida1macOS 10.14.6 Mojave / x86_64  OK    OK    WARNINGS    OK  UNNEEDED, same version is already published
Package 23/470HostnameOS / ArchINSTALLBUILDCHECKBUILD BIN
autonomics 1.7.0  (landing page)
Aditya Bhagwat
git_last_commit: 648ec51
git_last_commit_date: 2022-11-01 11:24:11 -0500
nebbiolo1Linux (Ubuntu 22.04.1 LTS) / x86_64  OK    OK    WARNINGS  UNNEEDED, same version is already published
palomino3Windows Server 2022 Datacenter / x64  OK    OK    WARNINGS    OK  NO, package depends on 'MultiAssayExperiment' which is not available
merida1macOS 10.14.6 Mojave / x86_64  OK    OK    WARNINGS    OK  NO, package depends on 'edgeR' which is not available
Package 24/470HostnameOS / ArchINSTALLBUILDCHECKBUILD BIN
bambu 3.1.2  (landing page)
Ying Chen
git_last_commit: a8de27f
git_last_commit_date: 2022-11-16 22:55:24 -0500
nebbiolo1Linux (Ubuntu 22.04.1 LTS) / x86_64  OK    OK    OK  UNNEEDED, same version is already published
palomino3Windows Server 2022 Datacenter / x64  OK    OK    ERROR    OK  
merida1macOS 10.14.6 Mojave / x86_64  OK    OK    OK    OK  NO, package depends on 'BSgenome' which is not available
Package 25/470HostnameOS / ArchINSTALLBUILDCHECKBUILD BIN
bamsignals 1.31.0  (landing page)
Johannes Helmuth
git_last_commit: 8f750f0
git_last_commit_date: 2022-11-01 11:11:17 -0500
nebbiolo1Linux (Ubuntu 22.04.1 LTS) / x86_64  OK    OK    OK  UNNEEDED, same version is already published
palomino3Windows Server 2022 Datacenter / x64  OK    OK    OK    OK  NO, package depends on 'GenomicRanges' which is not available
merida1macOS 10.14.6 Mojave / x86_64  OK    OK    OK    OK  UNNEEDED, same version is already published
Package 26/470HostnameOS / ArchINSTALLBUILDCHECKBUILD BIN
BASiCS 2.11.1  (landing page)
Alan O'Callaghan
git_last_commit: 63725c6
git_last_commit_date: 2022-11-14 05:33:38 -0500
nebbiolo1Linux (Ubuntu 22.04.1 LTS) / x86_64  OK    OK    WARNINGS  UNNEEDED, same version is already published
palomino3Windows Server 2022 Datacenter / x64  OK    OK    WARNINGS    OK  NO, package depends on 'SingleCellExperiment' which is not available
merida1macOS 10.14.6 Mojave / x86_64  OK    OK    WARNINGS    OK  NO, package depends on 'scran' which is not available
Package 27/470HostnameOS / ArchINSTALLBUILDCHECKBUILD BIN
batchelor 1.15.0  (landing page)
Aaron Lun
git_last_commit: 99400d0
git_last_commit_date: 2022-11-01 11:19:32 -0500
nebbiolo1Linux (Ubuntu 22.04.1 LTS) / x86_64  OK    OK    OK  UNNEEDED, same version is already published
palomino3Windows Server 2022 Datacenter / x64  OK    OK    OK    OK  NO, package depends on 'SingleCellExperiment' which is not available
merida1macOS 10.14.6 Mojave / x86_64  OK    OK    OK    OK  NO, package depends on 'BiocNeighbors' which is not available
Package 28/470HostnameOS / ArchINSTALLBUILDCHECKBUILD BIN
beachmat 2.15.0  (landing page)
Aaron Lun
git_last_commit: 030d39d
git_last_commit_date: 2022-11-01 11:15:58 -0500
nebbiolo1Linux (Ubuntu 22.04.1 LTS) / x86_64  OK    OK    OK  UNNEEDED, same version is already published
palomino3Windows Server 2022 Datacenter / x64  OK    OK    OK    OK  UNNEEDED, same version is already published
merida1macOS 10.14.6 Mojave / x86_64  OK    OK    OK    OK  UNNEEDED, same version is already published
Package 29/470HostnameOS / ArchINSTALLBUILDCHECKBUILD BIN
beadarray 2.49.0  (landing page)
Mark Dunning
git_last_commit: bdc74cc
git_last_commit_date: 2022-11-01 10:40:39 -0500
nebbiolo1Linux (Ubuntu 22.04.1 LTS) / x86_64  OK    OK    OK  UNNEEDED, same version is already published
palomino3Windows Server 2022 Datacenter / x64  OK    OK    OK    OK  NO, package depends on 'GenomicRanges' which is not available
merida1macOS 10.14.6 Mojave / x86_64  OK    OK    OK    OK  UNNEEDED, same version is already published
Package 30/470HostnameOS / ArchINSTALLBUILDCHECKBUILD BIN
bigmelon 1.25.0  (landing page)
Tyler J. Gorrie-Stone
git_last_commit: a22b69b
git_last_commit_date: 2022-11-01 11:14:27 -0500
nebbiolo1Linux (Ubuntu 22.04.1 LTS) / x86_64  OK    OK    WARNINGS  UNNEEDED, same version is already published
palomino3Windows Server 2022 Datacenter / x64  OK    OK    WARNINGS    OK  NO, package depends on 'wateRmelon' which is not available
merida1macOS 10.14.6 Mojave / x86_64  OK    OK    WARNINGS    OK  NO, package depends on 'wateRmelon' which is not available
Package 31/470HostnameOS / ArchINSTALLBUILDCHECKBUILD BIN
bioassayR 1.37.0  (landing page)
Daniela Cassol
git_last_commit: a332137
git_last_commit_date: 2022-11-01 11:08:47 -0500
nebbiolo1Linux (Ubuntu 22.04.1 LTS) / x86_64  OK    OK    OK  UNNEEDED, same version is already published
palomino3Windows Server 2022 Datacenter / x64  OK    OK    OK    OK  UNNEEDED, same version is already published
merida1macOS 10.14.6 Mojave / x86_64  OK    OK    OK    OK  UNNEEDED, same version is already published
Package 32/470HostnameOS / ArchINSTALLBUILDCHECKBUILD BIN
Biobase 2.59.0  (landing page)
Bioconductor Package Maintainer
git_last_commit: 8c1bcf1
git_last_commit_date: 2022-11-01 10:34:43 -0500
nebbiolo1Linux (Ubuntu 22.04.1 LTS) / x86_64  OK    OK    OK  UNNEEDED, same version is already published
palomino3Windows Server 2022 Datacenter / x64  OK    OK    OK    OK  UNNEEDED, same version is already published
merida1macOS 10.14.6 Mojave / x86_64  OK    ERROR  skippedskipped
Package 33/470HostnameOS / ArchINSTALLBUILDCHECKBUILD BIN
biocGraph 1.61.0  (landing page)
Florian Hahne
git_last_commit: eed50d0
git_last_commit_date: 2022-11-01 11:03:31 -0500
nebbiolo1Linux (Ubuntu 22.04.1 LTS) / x86_64  OK    OK    OK  UNNEEDED, same version is already published
palomino3Windows Server 2022 Datacenter / x64  OK    OK    OK    OK  UNNEEDED, same version is already published
merida1macOS 10.14.6 Mojave / x86_64  OK    OK    OK    OK  UNNEEDED, same version is already published
Package 34/470HostnameOS / ArchINSTALLBUILDCHECKBUILD BIN
BiocIO 1.9.1  (landing page)
Marcel Ramos
git_last_commit: aeeb10e
git_last_commit_date: 2022-11-23 14:43:00 -0500
nebbiolo1Linux (Ubuntu 22.04.1 LTS) / x86_64  OK    OK    OK  UNNEEDED, same version is already published
palomino3Windows Server 2022 Datacenter / x64  OK    OK    OK    OK  UNNEEDED, same version is already published
merida1macOS 10.14.6 Mojave / x86_64  OK    OK    OK    OK  UNNEEDED, same version is already published
Package 35/470HostnameOS / ArchINSTALLBUILDCHECKBUILD BIN
BiocSingular 1.15.0  (landing page)
Aaron Lun
git_last_commit: 02c5f1f
git_last_commit_date: 2022-11-01 11:19:16 -0500
nebbiolo1Linux (Ubuntu 22.04.1 LTS) / x86_64  OK    OK    WARNINGS  UNNEEDED, same version is already published
palomino3Windows Server 2022 Datacenter / x64  OK    OK    WARNINGS    OK  UNNEEDED, same version is already published
merida1macOS 10.14.6 Mojave / x86_64  OK    OK    WARNINGS    OK  NO, package depends on 'BiocParallel' which is not available
Package 36/470HostnameOS / ArchINSTALLBUILDCHECKBUILD BIN
Biostrings 2.67.0  (landing page)
H. Pagès
git_last_commit: c94e8fb
git_last_commit_date: 2022-11-01 10:36:29 -0500
nebbiolo1Linux (Ubuntu 22.04.1 LTS) / x86_64  OK    OK    WARNINGS  UNNEEDED, same version is already published
palomino3Windows Server 2022 Datacenter / x64  OK    OK    WARNINGS    OK  UNNEEDED, same version is already published
merida1macOS 10.14.6 Mojave / x86_64  OK    OK    WARNINGS    OK  UNNEEDED, same version is already published
Package 37/470HostnameOS / ArchINSTALLBUILDCHECKBUILD BIN
biotmle 1.23.0  (landing page)
Nima Hejazi
git_last_commit: 802ca2b
git_last_commit_date: 2022-11-01 11:15:35 -0500
nebbiolo1Linux (Ubuntu 22.04.1 LTS) / x86_64  OK    OK    OK  UNNEEDED, same version is already published
palomino3Windows Server 2022 Datacenter / x64  OK    OK    OK    OK  NO, package depends on 'SummarizedExperiment' which is not available
merida1macOS 10.14.6 Mojave / x86_64  OK    OK    OK    OK  NO, package depends on 'BiocParallel' which is not available
Package 38/470HostnameOS / ArchINSTALLBUILDCHECKBUILD BIN
biovizBase 1.47.0  (landing page)
Michael Lawrence
git_last_commit: 73f68c1
git_last_commit_date: 2022-11-01 11:06:19 -0500
nebbiolo1Linux (Ubuntu 22.04.1 LTS) / x86_64  OK    OK    WARNINGS  UNNEEDED, same version is already published
palomino3Windows Server 2022 Datacenter / x64  OK    OK    WARNINGS    OK  NO, package depends on 'GenomicRanges' which is not available
merida1macOS 10.14.6 Mojave / x86_64  OK    OK    WARNINGS    OK  NO, package depends on 'Rsamtools' which is not available
Package 39/470HostnameOS / ArchINSTALLBUILDCHECKBUILD BIN
biscuiteer 1.13.0  (landing page)
Jacob Morrison
git_last_commit: 6cc534c
git_last_commit_date: 2022-11-01 11:20:50 -0500
nebbiolo1Linux (Ubuntu 22.04.1 LTS) / x86_64  OK    OK    WARNINGS  UNNEEDED, same version is already published
palomino3Windows Server 2022 Datacenter / x64  OK    OK    WARNINGS    OK  NO, package depends on 'bsseq' which is not available
merida1macOS 10.14.6 Mojave / x86_64  OK    OK    WARNINGS    OK  NO, package depends on 'bsseq' which is not available
Package 40/470HostnameOS / ArchINSTALLBUILDCHECKBUILD BIN
BiSeq 1.39.0  (landing page)
Katja Hebestreit
git_last_commit: a5c3cc0
git_last_commit_date: 2022-11-01 11:08:12 -0500
nebbiolo1Linux (Ubuntu 22.04.1 LTS) / x86_64  OK    ERROR  skipped
palomino3Windows Server 2022 Datacenter / x64  OK    ERROR  skippedskipped
merida1macOS 10.14.6 Mojave / x86_64  OK    ERROR  skippedskipped
Package 41/470HostnameOS / ArchINSTALLBUILDCHECKBUILD BIN
blima 1.33.0  (landing page)
Vojtěch Kulvait
git_last_commit: 886d829
git_last_commit_date: 2022-11-01 11:09:43 -0500
nebbiolo1Linux (Ubuntu 22.04.1 LTS) / x86_64  OK    OK    WARNINGS  UNNEEDED, same version is already published
palomino3Windows Server 2022 Datacenter / x64  OK    OK    WARNINGS    OK  NO, package depends on 'beadarray' which is not available
merida1macOS 10.14.6 Mojave / x86_64  OK    OK    WARNINGS    OK  UNNEEDED, same version is already published
Package 42/470HostnameOS / ArchINSTALLBUILDCHECKBUILD BIN
bnbc 1.21.0  (landing page)
Kipper Fletez-Brant
git_last_commit: 6fcaac4
git_last_commit_date: 2022-11-01 11:16:33 -0500
nebbiolo1Linux (Ubuntu 22.04.1 LTS) / x86_64  OK    OK    WARNINGS  UNNEEDED, same version is already published
palomino3Windows Server 2022 Datacenter / x64  OK    OK    WARNINGS    OK  NO, package depends on 'SummarizedExperiment' which is not available
merida1macOS 10.14.6 Mojave / x86_64  OK    OK    WARNINGS    OK  NO, package depends on 'sva' which is not available
Package 43/470HostnameOS / ArchINSTALLBUILDCHECKBUILD BIN
breakpointR 1.17.0  (landing page)
David Porubsky
git_last_commit: 7e2ce62
git_last_commit_date: 2022-11-01 11:18:28 -0500
nebbiolo1Linux (Ubuntu 22.04.1 LTS) / x86_64  OK    OK    OK  UNNEEDED, same version is already published
palomino3Windows Server 2022 Datacenter / x64  OK    OK    OK    OK  NO, package depends on 'GenomicRanges' which is not available
merida1macOS 10.14.6 Mojave / x86_64  OK    ERROR  skippedskipped
Package 44/470HostnameOS / ArchINSTALLBUILDCHECKBUILD BIN
BrowserViz 2.21.0  (landing page)
Paul Shannon
git_last_commit: 7a61b6a
git_last_commit_date: 2022-11-01 11:11:12 -0500
nebbiolo1Linux (Ubuntu 22.04.1 LTS) / x86_64  OK    OK    OK  UNNEEDED, same version is already published
palomino3Windows Server 2022 Datacenter / x64  OK    OK    OK    OK  UNNEEDED, same version is already published
merida1macOS 10.14.6 Mojave / x86_64  OK    OK    OK    OK  UNNEEDED, same version is already published
Package 45/470HostnameOS / ArchINSTALLBUILDCHECKBUILD BIN
BSgenome 1.67.1  (landing page)
Hervé Pagès
git_last_commit: e997a8a
git_last_commit_date: 2022-11-03 05:14:53 -0500
nebbiolo1Linux (Ubuntu 22.04.1 LTS) / x86_64  OK    OK    WARNINGS  UNNEEDED, same version is already published
palomino3Windows Server 2022 Datacenter / x64  OK    OK    WARNINGS    OK  NO, package depends on 'GenomicRanges' which is not available
merida1macOS 10.14.6 Mojave / x86_64  OK    OK    WARNINGS    OK  NO, package depends on 'rtracklayer' which is not available
Package 46/470HostnameOS / ArchINSTALLBUILDCHECKBUILD BIN
bsseq 1.35.0  (landing page)
Kasper Daniel Hansen
git_last_commit: ed8b19c
git_last_commit_date: 2022-11-01 11:07:09 -0500
nebbiolo1Linux (Ubuntu 22.04.1 LTS) / x86_64  OK    OK    ERROR  
palomino3Windows Server 2022 Datacenter / x64  OK    OK    ERROR    OK  
merida1macOS 10.14.6 Mojave / x86_64  OK    OK    ERROR    OK  
Package 47/470HostnameOS / ArchINSTALLBUILDCHECKBUILD BIN
BubbleTree 2.29.0  (landing page)
Todd Creasy , Wei Zhu
git_last_commit: 20d9d74
git_last_commit_date: 2022-11-01 11:11:07 -0500
nebbiolo1Linux (Ubuntu 22.04.1 LTS) / x86_64  OK    OK    OK  UNNEEDED, same version is already published
palomino3Windows Server 2022 Datacenter / x64  OK    OK    OK    OK  NO, package depends on 'GenomicRanges' which is not available
merida1macOS 10.14.6 Mojave / x86_64  OK    OK    OK    OK  NO, package depends on 'biovizBase' which is not available
Package 48/470HostnameOS / ArchINSTALLBUILDCHECKBUILD BIN
bumphunter 1.41.0  (landing page)
Tamilselvi Guharaj
git_last_commit: aabc3c8
git_last_commit_date: 2022-11-01 11:07:40 -0500
nebbiolo1Linux (Ubuntu 22.04.1 LTS) / x86_64  OK    OK    OK  UNNEEDED, same version is already published
palomino3Windows Server 2022 Datacenter / x64  OK    OK    OK    OK  NO, package depends on 'GenomicRanges' which is not available
merida1macOS 10.14.6 Mojave / x86_64  OK    ERROR  skippedskipped
Package 49/470HostnameOS / ArchINSTALLBUILDCHECKBUILD BIN
BUSpaRse 1.13.0  (landing page)
Lambda Moses
git_last_commit: 60755e4
git_last_commit_date: 2022-11-01 11:20:24 -0500
nebbiolo1Linux (Ubuntu 22.04.1 LTS) / x86_64  OK    OK    OK  UNNEEDED, same version is already published
palomino3Windows Server 2022 Datacenter / x64  OK    OK    OK    OK  NO, package depends on 'AnnotationFilter' which is not available
merida1macOS 10.14.6 Mojave / x86_64  OK    OK    OK    OK  NO, package depends on 'BSgenome' which is not available
Package 50/470HostnameOS / ArchINSTALLBUILDCHECKBUILD BIN
CAGEfightR 1.19.0  (landing page)
Malte Thodberg
git_last_commit: 8b947db
git_last_commit_date: 2022-11-01 11:17:49 -0500
nebbiolo1Linux (Ubuntu 22.04.1 LTS) / x86_64  OK    OK    OK  UNNEEDED, same version is already published
palomino3Windows Server 2022 Datacenter / x64  OK    OK    OK    OK  NO, package depends on 'GenomicRanges' which is not available
merida1macOS 10.14.6 Mojave / x86_64  OK    OK    OK    OK  NO, package depends on 'rtracklayer' which is not available
Package 51/470HostnameOS / ArchINSTALLBUILDCHECKBUILD BIN
CAGEr 2.5.0  (landing page)
Charles Plessy
git_last_commit: 3cc0923
git_last_commit_date: 2022-11-01 11:07:54 -0500
nebbiolo1Linux (Ubuntu 22.04.1 LTS) / x86_64  OK    OK    OK  UNNEEDED, same version is already published
palomino3Windows Server 2022 Datacenter / x64  OK    OK    OK    OK  NO, package depends on 'MultiAssayExperiment' which is not available
merida1macOS 10.14.6 Mojave / x86_64  OK    OK    OK    OK  NO, package depends on 'BiocParallel' which is not available
Package 52/470HostnameOS / ArchINSTALLBUILDCHECKBUILD BIN
Cardinal 3.1.0  (landing page)
Kylie A. Bemis
git_last_commit: 6a786e0
git_last_commit_date: 2022-11-14 15:04:46 -0500
nebbiolo1Linux (Ubuntu 22.04.1 LTS) / x86_64  OK    OK    OK  UNNEEDED, same version is already published
palomino3Windows Server 2022 Datacenter / x64  OK    OK    OK    OK  UNNEEDED, same version is already published
merida1macOS 10.14.6 Mojave / x86_64  OK    OK    OK    OK  NO, package depends on 'BiocParallel' which is not available
Package 53/470HostnameOS / ArchINSTALLBUILDCHECKBUILD BIN
casper 2.33.0  (landing page)
David Rossell
git_last_commit: 6cde1fc
git_last_commit_date: 2022-11-01 11:07:47 -0500
nebbiolo1Linux (Ubuntu 22.04.1 LTS) / x86_64  OK    OK    OK  UNNEEDED, same version is already published
palomino3Windows Server 2022 Datacenter / x64  OK    OK    WARNINGS    OK  NO, package depends on 'GenomicRanges' which is not available
merida1macOS 10.14.6 Mojave / x86_64  OK    OK    WARNINGS    OK  NO, package depends on 'GenomicFeatures' which is not available
Package 54/470HostnameOS / ArchINSTALLBUILDCHECKBUILD BIN
Category 2.65.0  (landing page)
Bioconductor Package Maintainer
git_last_commit: 6ef74a5
git_last_commit_date: 2022-11-01 10:39:25 -0500
nebbiolo1Linux (Ubuntu 22.04.1 LTS) / x86_64  OK    OK    OK  UNNEEDED, same version is already published
palomino3Windows Server 2022 Datacenter / x64  OK    OK    OK    OK  UNNEEDED, same version is already published
merida1macOS 10.14.6 Mojave / x86_64  OK    OK    OK    OK  UNNEEDED, same version is already published
Package 55/470HostnameOS / ArchINSTALLBUILDCHECKBUILD BIN
categoryCompare 1.43.0  (landing page)
Robert M. Flight
git_last_commit: d82fecd
git_last_commit_date: 2022-11-01 11:06:57 -0500
nebbiolo1Linux (Ubuntu 22.04.1 LTS) / x86_64  OK    OK    OK  UNNEEDED, same version is already published
palomino3Windows Server 2022 Datacenter / x64  OK    OK    OK    OK  UNNEEDED, same version is already published
merida1macOS 10.14.6 Mojave / x86_64  OK    OK    OK    OK  UNNEEDED, same version is already published
Package 56/470HostnameOS / ArchINSTALLBUILDCHECKBUILD BIN
celaref 1.17.0  (landing page)
Sarah Williams
git_last_commit: c651e53
git_last_commit_date: 2022-11-01 11:18:14 -0500
nebbiolo1Linux (Ubuntu 22.04.1 LTS) / x86_64  OK    OK    OK  UNNEEDED, same version is already published
palomino3Windows Server 2022 Datacenter / x64  OK    OK    OK    OK  NO, package depends on 'SummarizedExperiment' which is not available
merida1macOS 10.14.6 Mojave / x86_64  OK    OK    OK    OK  YES
Package 57/470HostnameOS / ArchINSTALLBUILDCHECKBUILD BIN
CellaRepertorium 1.9.0  (landing page)
Andrew McDavid
git_last_commit: de926ef
git_last_commit_date: 2022-11-01 11:23:20 -0500
nebbiolo1Linux (Ubuntu 22.04.1 LTS) / x86_64  OK    OK    OK  UNNEEDED, same version is already published
palomino3Windows Server 2022 Datacenter / x64  OK    OK    OK    OK  UNNEEDED, same version is already published
merida1macOS 10.14.6 Mojave / x86_64  OK    OK    OK    OK  UNNEEDED, same version is already published
Package 58/470HostnameOS / ArchINSTALLBUILDCHECKBUILD BIN
CellBench 1.15.0  (landing page)
Shian Su
git_last_commit: 9248522
git_last_commit_date: 2022-11-01 11:19:21 -0500
nebbiolo1Linux (Ubuntu 22.04.1 LTS) / x86_64  OK    OK    OK  UNNEEDED, same version is already published
palomino3Windows Server 2022 Datacenter / x64  OK    OK    OK    OK  NO, package depends on 'SingleCellExperiment' which is not available
merida1macOS 10.14.6 Mojave / x86_64  OK    OK    OK    OK  NO, package depends on 'BiocParallel' which is not available
Package 59/470HostnameOS / ArchINSTALLBUILDCHECKBUILD BIN
cellHTS2 2.63.0  (landing page)
Joseph Barry
git_last_commit: 7c21828
git_last_commit_date: 2022-11-01 11:03:30 -0500
nebbiolo1Linux (Ubuntu 22.04.1 LTS) / x86_64  OK    OK    OK  UNNEEDED, same version is already published
palomino3Windows Server 2022 Datacenter / x64  OK    OK    OK    OK  UNNEEDED, same version is already published
merida1macOS 10.14.6 Mojave / x86_64  OK    ERROR  skippedskipped
Package 60/470HostnameOS / ArchINSTALLBUILDCHECKBUILD BIN
CellMixS 1.15.0  (landing page)
Almut Lütge
git_last_commit: 4105c44
git_last_commit_date: 2022-11-01 11:19:35 -0500
nebbiolo1Linux (Ubuntu 22.04.1 LTS) / x86_64  OK    OK    OK  UNNEEDED, same version is already published
palomino3Windows Server 2022 Datacenter / x64  OK    OK    OK    OK  NO, package depends on 'scater' which is not available
merida1macOS 10.14.6 Mojave / x86_64  OK    OK    OK    OK  NO, package depends on 'BiocNeighbors' which is not available
Package 61/470HostnameOS / ArchINSTALLBUILDCHECKBUILD BIN
CellTrails 1.17.0  (landing page)
Daniel Ellwanger
git_last_commit: 819fcd5
git_last_commit_date: 2022-11-01 11:18:02 -0500
nebbiolo1Linux (Ubuntu 22.04.1 LTS) / x86_64  OK    OK    OK  UNNEEDED, same version is already published
palomino3Windows Server 2022 Datacenter / x64  OK    OK    OK    OK  NO, package depends on 'SingleCellExperiment' which is not available
merida1macOS 10.14.6 Mojave / x86_64  OK    OK    OK    OK  UNNEEDED, same version is already published
Package 62/470HostnameOS / ArchINSTALLBUILDCHECKBUILD BIN
cfDNAPro 1.5.4  (landing page)
Haichao Wang
git_last_commit: 4a10030
git_last_commit_date: 2022-11-21 12:30:02 -0500
nebbiolo1Linux (Ubuntu 22.04.1 LTS) / x86_64  OK    OK    OK  UNNEEDED, same version is already published
palomino3Windows Server 2022 Datacenter / x64  OK    OK    OK    OK  NO, package depends on 'GenomicAlignments' which is not available
merida1macOS 10.14.6 Mojave / x86_64  OK    OK    OK    OK  NO, package depends on 'GenomicAlignments' which is not available
Package 63/470HostnameOS / ArchINSTALLBUILDCHECKBUILD BIN
cghMCR 1.57.0  (landing page)
J. Zhang
git_last_commit: 93045db
git_last_commit_date: 2022-11-01 10:41:13 -0500
nebbiolo1Linux (Ubuntu 22.04.1 LTS) / x86_64  OK    OK    WARNINGS  UNNEEDED, same version is already published
palomino3Windows Server 2022 Datacenter / x64  OK    OK    WARNINGS    OK  UNNEEDED, same version is already published
merida1macOS 10.14.6 Mojave / x86_64  OK    OK    WARNINGS    OK  UNNEEDED, same version is already published
Package 64/470HostnameOS / ArchINSTALLBUILDCHECKBUILD BIN
ChemmineOB 1.37.0  (landing page)
Thomas Girke
git_last_commit: db24c1f
git_last_commit_date: 2022-11-01 11:08:37 -0500
nebbiolo1Linux (Ubuntu 22.04.1 LTS) / x86_64  OK    OK    WARNINGS  UNNEEDED, same version is already published
palomino3Windows Server 2022 Datacenter / x64  OK    OK    WARNINGS    OK  UNNEEDED, same version is already published
merida1macOS 10.14.6 Mojave / x86_64  OK    OK    WARNINGS    OK  UNNEEDED, same version is already published
Package 65/470HostnameOS / ArchINSTALLBUILDCHECKBUILD BIN
ChemmineR 3.51.0  (landing page)
Thomas Girke
git_last_commit: 1a080c6
git_last_commit_date: 2022-11-01 11:04:08 -0500
nebbiolo1Linux (Ubuntu 22.04.1 LTS) / x86_64  OK    OK    WARNINGS  UNNEEDED, same version is already published
palomino3Windows Server 2022 Datacenter / x64  OK    OK    WARNINGS    OK  UNNEEDED, same version is already published
merida1macOS 10.14.6 Mojave / x86_64  OK    OK    WARNINGS    OK  UNNEEDED, same version is already published
Package 66/470HostnameOS / ArchINSTALLBUILDCHECKBUILD BIN
ChIC 1.19.0  (landing page)
Carmen Maria Livi
git_last_commit: 6da555b
git_last_commit_date: 2022-11-01 11:17:36 -0500
nebbiolo1Linux (Ubuntu 22.04.1 LTS) / x86_64  OK    OK    OK  UNNEEDED, same version is already published
palomino3Windows Server 2022 Datacenter / x64... NOT SUPPORTED ...
merida1macOS 10.14.6 Mojave / x86_64  OK    OK    OK    OK  NO, package depends on 'spp' which is not available
Package 67/470HostnameOS / ArchINSTALLBUILDCHECKBUILD BIN
ChIPComp 1.29.0  (landing page)
Li Chen
git_last_commit: d65bdfa
git_last_commit_date: 2022-11-01 11:12:04 -0500
nebbiolo1Linux (Ubuntu 22.04.1 LTS) / x86_64  OK    OK    OK  UNNEEDED, same version is already published
palomino3Windows Server 2022 Datacenter / x64  OK    OK    OK    OK  NO, package depends on 'GenomicRanges' which is not available
merida1macOS 10.14.6 Mojave / x86_64  OK    ERROR  skippedskipped
Package 68/470HostnameOS / ArchINSTALLBUILDCHECKBUILD BIN
chipenrich 2.23.0  (landing page)
Raymond G. Cavalcante
git_last_commit: 51c681f
git_last_commit_date: 2022-11-01 11:08:40 -0500
nebbiolo1Linux (Ubuntu 22.04.1 LTS) / x86_64  OK    OK    OK  UNNEEDED, same version is already published
palomino3Windows Server 2022 Datacenter / x64  OK    OK    OK    OK  NO, package depends on 'GenomicRanges' which is not available
merida1macOS 10.14.6 Mojave / x86_64  OK    OK    OK    OK  NO, package depends on 'rtracklayer' which is not available
Package 69/470HostnameOS / ArchINSTALLBUILDCHECKBUILD BIN
ChIPpeakAnno 3.33.1  (landing page)
Jianhong Ou
git_last_commit: 2c08eb8
git_last_commit_date: 2022-11-12 17:40:09 -0500
nebbiolo1Linux (Ubuntu 22.04.1 LTS) / x86_64  OK    OK    OK  UNNEEDED, same version is already published
palomino3Windows Server 2022 Datacenter / x64  OK    OK    OK    OK  NO, package depends on 'GenomicRanges' which is not available
merida1macOS 10.14.6 Mojave / x86_64  OK    OK    OK    OK  NO, package depends on 'ensembldb' which is not available
Package 70/470HostnameOS / ArchINSTALLBUILDCHECKBUILD BIN
ChIPQC 1.35.0  (landing page)
Tom Carroll , Rory Stark
git_last_commit: d7f5692
git_last_commit_date: 2022-11-01 11:09:28 -0500
nebbiolo1Linux (Ubuntu 22.04.1 LTS) / x86_64  OK    OK    WARNINGS  UNNEEDED, same version is already published
palomino3Windows Server 2022 Datacenter / x64  OK    OK    WARNINGS    OK  NO, package depends on 'DiffBind' which is not available
merida1macOS 10.14.6 Mojave / x86_64  OK    ERROR  skippedskipped
Package 71/470HostnameOS / ArchINSTALLBUILDCHECKBUILD BIN
ChIPseeker 1.35.0  (landing page)
Guangchuang Yu
git_last_commit: d4ebccf
git_last_commit_date: 2022-11-01 11:09:40 -0500
nebbiolo1Linux (Ubuntu 22.04.1 LTS) / x86_64  OK    OK    OK  UNNEEDED, same version is already published
palomino3Windows Server 2022 Datacenter / x64  OK    OK    OK    OK  NO, package depends on 'GenomicRanges' which is not available
merida1macOS 10.14.6 Mojave / x86_64  OK    OK    TIMEOUT    OK  
Package 72/470HostnameOS / ArchINSTALLBUILDCHECKBUILD BIN
chipseq 1.49.0  (landing page)
Bioconductor Package Maintainer
git_last_commit: 5a0e94e
git_last_commit_date: 2022-11-01 11:04:29 -0500
nebbiolo1Linux (Ubuntu 22.04.1 LTS) / x86_64  OK    OK    WARNINGS  UNNEEDED, same version is already published
palomino3Windows Server 2022 Datacenter / x64  OK    OK    WARNINGS    OK  NO, package depends on 'GenomicRanges' which is not available
merida1macOS 10.14.6 Mojave / x86_64  OK    OK    WARNINGS    OK  NO, package depends on 'ShortRead' which is not available
Package 73/470HostnameOS / ArchINSTALLBUILDCHECKBUILD BIN
ChIPseqR 1.53.0  (landing page)
Peter Humburg
git_last_commit: be127a7
git_last_commit_date: 2022-11-01 11:04:43 -0500
nebbiolo1Linux (Ubuntu 22.04.1 LTS) / x86_64  OK    OK    OK  UNNEEDED, same version is already published
palomino3Windows Server 2022 Datacenter / x64  OK    OK    OK    OK  NO, package depends on 'GenomicRanges' which is not available
merida1macOS 10.14.6 Mojave / x86_64  OK    OK    OK    OK  NO, package depends on 'ShortRead' which is not available
Package 74/470HostnameOS / ArchINSTALLBUILDCHECKBUILD BIN
ChromHeatMap 1.53.0  (landing page)
Tim F. Rayner
git_last_commit: 5ae921b
git_last_commit_date: 2022-11-01 11:04:42 -0500
nebbiolo1Linux (Ubuntu 22.04.1 LTS) / x86_64  OK    OK    OK  UNNEEDED, same version is already published
palomino3Windows Server 2022 Datacenter / x64  OK    OK    OK    OK  NO, package depends on 'rtracklayer' which is not available
merida1macOS 10.14.6 Mojave / x86_64  OK    OK    OK    OK  NO, package depends on 'rtracklayer' which is not available
Package 75/470HostnameOS / ArchINSTALLBUILDCHECKBUILD BIN
chromstaR 1.25.0  (landing page)
Aaron Taudt
git_last_commit: 18c031d
git_last_commit_date: 2022-11-01 11:13:56 -0500
nebbiolo1Linux (Ubuntu 22.04.1 LTS) / x86_64  OK    ERROR  skipped
palomino3Windows Server 2022 Datacenter / x64  OK    OK    OK    OK  NO, package depends on 'GenomicRanges' which is not available
merida1macOS 10.14.6 Mojave / x86_64  OK    ERROR  skippedskipped
Package 76/470HostnameOS / ArchINSTALLBUILDCHECKBUILD BIN
chromVAR 1.21.0  (landing page)
Alicia Schep
git_last_commit: 9ef81dc
git_last_commit_date: 2022-11-01 11:16:29 -0500
nebbiolo1Linux (Ubuntu 22.04.1 LTS) / x86_64  OK    OK    OK  UNNEEDED, same version is already published
palomino3Windows Server 2022 Datacenter / x64  OK    OK    OK    OK  NO, package depends on 'GenomicRanges' which is not available
merida1macOS 10.14.6 Mojave / x86_64  OK    OK    OK    OK  NO, package depends on 'BiocParallel' which is not available
Package 77/470HostnameOS / ArchINSTALLBUILDCHECKBUILD BIN
cicero 1.17.0  (landing page)
Hannah Pliner
git_last_commit: 43938c5
git_last_commit_date: 2022-11-01 11:18:33 -0500
nebbiolo1Linux (Ubuntu 22.04.1 LTS) / x86_64  OK    ERROR  skipped
palomino3Windows Server 2022 Datacenter / x64  OK    ERROR  skippedskipped
merida1macOS 10.14.6 Mojave / x86_64  OK    ERROR  skippedskipped
Package 78/470HostnameOS / ArchINSTALLBUILDCHECKBUILD BIN
CircSeqAlignTk 1.1.0  (landing page)
Jianqiang Sun
git_last_commit: 4fad321
git_last_commit_date: 2022-11-01 11:27:37 -0500
nebbiolo1Linux (Ubuntu 22.04.1 LTS) / x86_64  OK    OK    OK  UNNEEDED, same version is already published
palomino3Windows Server 2022 Datacenter / x64  OK    OK    ERROR    OK  
merida1macOS 10.14.6 Mojave / x86_64  OK    OK    OK    OK  NO, package depends on 'ShortRead' which is not available
Package 79/470HostnameOS / ArchINSTALLBUILDCHECKBUILD BIN
clusterExperiment 2.19.0  (landing page)
Elizabeth Purdom
git_last_commit: e706875
git_last_commit_date: 2022-11-01 11:14:01 -0500
nebbiolo1Linux (Ubuntu 22.04.1 LTS) / x86_64  OK    OK    WARNINGS  UNNEEDED, same version is already published
palomino3Windows Server 2022 Datacenter / x64  OK    OK    WARNINGS    OK  NO, package depends on 'SingleCellExperiment' which is not available
merida1macOS 10.14.6 Mojave / x86_64  OK    OK    TIMEOUT    OK  
Package 80/470HostnameOS / ArchINSTALLBUILDCHECKBUILD BIN
clusterSeq 1.23.0  (landing page)
Thomas J. Hardcastle
git_last_commit: 1e553cc
git_last_commit_date: 2022-11-01 11:14:58 -0500
nebbiolo1Linux (Ubuntu 22.04.1 LTS) / x86_64  OK    OK    WARNINGS  NO, package depends on 'baySeq' which is not available
palomino3Windows Server 2022 Datacenter / x64  OK    OK    WARNINGS    OK  NO, package depends on 'baySeq' which is not available
merida1macOS 10.14.6 Mojave / x86_64  OK    OK    WARNINGS    OK  NO, package depends on 'BiocParallel' which is not available
Package 81/470HostnameOS / ArchINSTALLBUILDCHECKBUILD BIN
cn.mops 1.45.0  (landing page)
Gundula Povysil
git_last_commit: 0617906
git_last_commit_date: 2022-11-01 11:06:31 -0500
nebbiolo1Linux (Ubuntu 22.04.1 LTS) / x86_64  OK    OK    OK  UNNEEDED, same version is already published
palomino3Windows Server 2022 Datacenter / x64  OK    OK    OK    OK  NO, package depends on 'GenomicRanges' which is not available
merida1macOS 10.14.6 Mojave / x86_64  OK    OK    OK    OK  NO, package depends on 'Rsamtools' which is not available
Package 82/470HostnameOS / ArchINSTALLBUILDCHECKBUILD BIN
CNEr 1.35.0  (landing page)
Ge Tan
git_last_commit: 7f627d6
git_last_commit_date: 2022-11-01 11:09:13 -0500
nebbiolo1Linux (Ubuntu 22.04.1 LTS) / x86_64  OK    OK    WARNINGS  UNNEEDED, same version is already published
palomino3Windows Server 2022 Datacenter / x64  OK    OK    WARNINGS    OK  NO, package depends on 'GenomicRanges' which is not available
merida1macOS 10.14.6 Mojave / x86_64  OK    OK    WARNINGS    OK  NO, package depends on 'rtracklayer' which is not available
Package 83/470HostnameOS / ArchINSTALLBUILDCHECKBUILD BIN
CNVPanelizer 1.31.0  (landing page)
Thomas Wolf
git_last_commit: 8ebbaac
git_last_commit_date: 2022-11-01 11:11:51 -0500
nebbiolo1Linux (Ubuntu 22.04.1 LTS) / x86_64  OK    OK    OK  UNNEEDED, same version is already published
palomino3Windows Server 2022 Datacenter / x64  OK    OK    OK    OK  NO, package depends on 'GenomicRanges' which is not available
merida1macOS 10.14.6 Mojave / x86_64  OK    OK    OK    OK  NO, package depends on 'Rsamtools' which is not available
Package 84/470HostnameOS / ArchINSTALLBUILDCHECKBUILD BIN
CNVRanger 1.15.0  (landing page)
Ludwig Geistlinger
git_last_commit: 79c68ed
git_last_commit_date: 2022-11-01 11:19:14 -0500
nebbiolo1Linux (Ubuntu 22.04.1 LTS) / x86_64  OK    OK    OK  UNNEEDED, same version is already published
palomino3Windows Server 2022 Datacenter / x64  OK    OK    OK    OK  NO, package depends on 'GenomicRanges' which is not available
merida1macOS 10.14.6 Mojave / x86_64  OK    OK    OK    OK  NO, package depends on 'BiocParallel' which is not available
Package 85/470HostnameOS / ArchINSTALLBUILDCHECKBUILD BIN
COCOA 2.13.0  (landing page)
John Lawson
git_last_commit: 4d95582
git_last_commit_date: 2022-11-01 11:18:44 -0500
nebbiolo1Linux (Ubuntu 22.04.1 LTS) / x86_64  OK    OK    OK  UNNEEDED, same version is already published
palomino3Windows Server 2022 Datacenter / x64  OK    OK    OK    OK  NO, package depends on 'GenomicRanges' which is not available
merida1macOS 10.14.6 Mojave / x86_64  OK    OK    OK    OK  NO, package depends on 'MIRA' which is not available
Package 86/470HostnameOS / ArchINSTALLBUILDCHECKBUILD BIN
codelink 1.67.0  (landing page)
Diego Diez
git_last_commit: 9631167
git_last_commit_date: 2022-11-01 10:40:29 -0500
nebbiolo1Linux (Ubuntu 22.04.1 LTS) / x86_64  OK    OK    OK  UNNEEDED, same version is already published
palomino3Windows Server 2022 Datacenter / x64  OK    OK    OK    OK  UNNEEDED, same version is already published
merida1macOS 10.14.6 Mojave / x86_64  OK    OK    OK    OK  UNNEEDED, same version is already published
Package 87/470HostnameOS / ArchINSTALLBUILDCHECKBUILD BIN
cola 2.5.0  (landing page)
Zuguang Gu
git_last_commit: b86ea89
git_last_commit_date: 2022-11-01 11:19:07 -0500
nebbiolo1Linux (Ubuntu 22.04.1 LTS) / x86_64  OK    OK    OK  UNNEEDED, same version is already published
palomino3Windows Server 2022 Datacenter / x64  OK    OK    OK    OK  UNNEEDED, same version is already published
merida1macOS 10.14.6 Mojave / x86_64  OK    OK    OK    OK  UNNEEDED, same version is already published
Package 88/470HostnameOS / ArchINSTALLBUILDCHECKBUILD BIN
compEpiTools 1.33.0  (landing page)
Kamal Kishore
git_last_commit: 5de0197
git_last_commit_date: 2022-11-01 11:10:09 -0500
nebbiolo1Linux (Ubuntu 22.04.1 LTS) / x86_64  OK    OK    WARNINGS  UNNEEDED, same version is already published
palomino3Windows Server 2022 Datacenter / x64  OK    OK    WARNINGS    OK  NO, package depends on 'GenomicRanges' which is not available
merida1macOS 10.14.6 Mojave / x86_64  OK    OK    WARNINGS    OK  NO, package depends on 'Rsamtools' which is not available
Package 89/470HostnameOS / ArchINSTALLBUILDCHECKBUILD BIN
CompoundDb 1.3.1  (landing page)
Johannes Rainer
git_last_commit: 268b890
git_last_commit_date: 2022-11-23 10:09:22 -0500
nebbiolo1Linux (Ubuntu 22.04.1 LTS) / x86_64  OK    OK    OK  UNNEEDED, same version is already published
palomino3Windows Server 2022 Datacenter / x64  OK    OK    OK    OK  NO, package depends on 'AnnotationFilter' which is not available
merida1macOS 10.14.6 Mojave / x86_64  OK    OK    OK    OK  NO, package depends on 'Spectra' which is not available
Package 90/470HostnameOS / ArchINSTALLBUILDCHECKBUILD BIN
consensusDE 1.17.0  (landing page)
Ashley J. Waardenberg
git_last_commit: 9aa0244
git_last_commit_date: 2022-11-01 11:18:46 -0500
nebbiolo1Linux (Ubuntu 22.04.1 LTS) / x86_64  OK    OK    WARNINGS  UNNEEDED, same version is already published
palomino3Windows Server 2022 Datacenter / x64  OK    OK    WARNINGS    OK  NO, package depends on 'DESeq2' which is not available
merida1macOS 10.14.6 Mojave / x86_64  OK    OK    WARNINGS    OK  NO, package depends on 'BiocParallel' which is not available
Package 91/470HostnameOS / ArchINSTALLBUILDCHECKBUILD BIN
consensusSeekeR 1.27.0  (landing page)
Astrid Deschenes
git_last_commit: 33153bc
git_last_commit_date: 2022-11-01 11:12:31 -0500
nebbiolo1Linux (Ubuntu 22.04.1 LTS) / x86_64  OK    OK    OK  UNNEEDED, same version is already published
palomino3Windows Server 2022 Datacenter / x64  OK    OK    OK    OK  NO, package depends on 'GenomicRanges' which is not available
merida1macOS 10.14.6 Mojave / x86_64  OK    OK    OK    OK  NO, package depends on 'BiocParallel' which is not available
Package 92/470HostnameOS / ArchINSTALLBUILDCHECKBUILD BIN
contiBAIT 1.27.0  (landing page)
Kieran O'Neill
git_last_commit: 6188b0c
git_last_commit_date: 2022-11-01 11:12:55 -0500
nebbiolo1Linux (Ubuntu 22.04.1 LTS) / x86_64  OK    OK    WARNINGS  UNNEEDED, same version is already published
palomino3Windows Server 2022 Datacenter / x64  OK    OK    WARNINGS    OK  NO, package depends on 'Rsamtools' which is not available
merida1macOS 10.14.6 Mojave / x86_64  OK    OK    WARNINGS    OK  NO, package depends on 'Rsamtools' which is not available
Package 93/470HostnameOS / ArchINSTALLBUILDCHECKBUILD BIN
copynumber 1.39.0  (landing page)
Gro Nilsen
git_last_commit: a110ada
git_last_commit_date: 2022-11-01 11:08:08 -0500
nebbiolo1Linux (Ubuntu 22.04.1 LTS) / x86_64  OK    ERROR  skipped
palomino3Windows Server 2022 Datacenter / x64  OK    ERROR  skippedskipped
merida1macOS 10.14.6 Mojave / x86_64  OK    OK    OK    OK  UNNEEDED, same version is already published
Package 94/470HostnameOS / ArchINSTALLBUILDCHECKBUILD BIN
CoreGx 2.3.0  (landing page)
Benjamin Haibe-Kains
git_last_commit: 0f3b984
git_last_commit_date: 2022-11-01 11:22:04 -0500
nebbiolo1Linux (Ubuntu 22.04.1 LTS) / x86_64  OK    OK    OK  UNNEEDED, same version is already published
palomino3Windows Server 2022 Datacenter / x64  OK    OK    OK    OK  NO, package depends on 'SummarizedExperiment' which is not available
merida1macOS 10.14.6 Mojave / x86_64  OK    OK    OK    OK  NO, package depends on 'piano' which is not available
Package 95/470HostnameOS / ArchINSTALLBUILDCHECKBUILD BIN
crisprBase 1.3.0  (landing page)
Jean-Philippe Fortin
git_last_commit: f7c1882
git_last_commit_date: 2022-11-01 11:26:16 -0500
nebbiolo1Linux (Ubuntu 22.04.1 LTS) / x86_64  OK    OK    OK  UNNEEDED, same version is already published
palomino3Windows Server 2022 Datacenter / x64  OK    OK    OK    OK  NO, package depends on 'GenomicRanges' which is not available
merida1macOS 10.14.6 Mojave / x86_64  OK    OK    OK    OK  UNNEEDED, same version is already published
Package 96/470HostnameOS / ArchINSTALLBUILDCHECKBUILD BIN
crisprBowtie 1.3.0  (landing page)
Jean-Philippe Fortin
git_last_commit: 25bfd4f
git_last_commit_date: 2022-11-01 11:26:28 -0500
nebbiolo1Linux (Ubuntu 22.04.1 LTS) / x86_64  OK    OK    OK  UNNEEDED, same version is already published
palomino3Windows Server 2022 Datacenter / x64  OK    OK    OK    OK  NO, package depends on 'BSgenome' which is not available
merida1macOS 10.14.6 Mojave / x86_64  OK    OK    OK    OK  NO, package depends on 'BSgenome' which is not available
Package 97/470HostnameOS / ArchINSTALLBUILDCHECKBUILD BIN
crisprBwa 1.3.0  (landing page)
Jean-Philippe Fortin
git_last_commit: fdc9e44
git_last_commit_date: 2022-11-01 11:26:58 -0500
nebbiolo1Linux (Ubuntu 22.04.1 LTS) / x86_64  OK    OK    OK  UNNEEDED, same version is already published
palomino3Windows Server 2022 Datacenter / x64... NOT SUPPORTED ...
merida1macOS 10.14.6 Mojave / x86_64  OK    OK    OK    OK  NO, package depends on 'BSgenome' which is not available
Package 98/470HostnameOS / ArchINSTALLBUILDCHECKBUILD BIN
crisprDesign 1.1.0  (landing page)
Jean-Philippe Fortin
git_last_commit: e819bfd
git_last_commit_date: 2022-11-01 11:27:20 -0500
nebbiolo1Linux (Ubuntu 22.04.1 LTS) / x86_64  OK    OK    OK  UNNEEDED, same version is already published
palomino3Windows Server 2022 Datacenter / x64  OK    OK    OK    OK  NO, package depends on 'crisprBase' which is not available
merida1macOS 10.14.6 Mojave / x86_64  OK    OK    OK    OK  NO, package depends on 'BSgenome' which is not available
Package 99/470HostnameOS / ArchINSTALLBUILDCHECKBUILD BIN
crisprScore 1.3.0  (landing page)
Jean-Philippe Fortin
git_last_commit: 17653eb
git_last_commit_date: 2022-11-01 11:26:17 -0500
nebbiolo1Linux (Ubuntu 22.04.1 LTS) / x86_64  OK    OK    OK  UNNEEDED, same version is already published
palomino3Windows Server 2022 Datacenter / x64  OK    OK    OK    OK  UNNEEDED, same version is already published
merida1macOS 10.14.6 Mojave / x86_64  OK    OK    OK    OK  UNNEEDED, same version is already published
Package 100/470HostnameOS / ArchINSTALLBUILDCHECKBUILD BIN
CRISPRseek 1.39.0  (landing page)
Lihua Julie Zhu
git_last_commit: 1ce9399
git_last_commit_date: 2022-11-01 11:09:00 -0500
nebbiolo1Linux (Ubuntu 22.04.1 LTS) / x86_64  OK    OK    OK  UNNEEDED, same version is already published
palomino3Windows Server 2022 Datacenter / x64  OK    OK    OK    OK  NO, package depends on 'BSgenome' which is not available
merida1macOS 10.14.6 Mojave / x86_64  OK    OK    TIMEOUT    OK  
Package 101/470HostnameOS / ArchINSTALLBUILDCHECKBUILD BIN
crisprViz 1.1.0  (landing page)
Jean-Philippe Fortin
git_last_commit: 203cb4d
git_last_commit_date: 2022-11-01 11:27:33 -0500
nebbiolo1Linux (Ubuntu 22.04.1 LTS) / x86_64  OK    OK    OK  UNNEEDED, same version is already published
palomino3Windows Server 2022 Datacenter / x64  OK    OK    OK    OK  NO, package depends on 'crisprBase' which is not available
merida1macOS 10.14.6 Mojave / x86_64  OK    OK    OK    OK  NO, package depends on 'crisprDesign' which is not available
Package 102/470HostnameOS / ArchINSTALLBUILDCHECKBUILD BIN
crlmm 1.57.0  (landing page)
Benilton S Carvalho
git_last_commit: 5bac5c8
git_last_commit_date: 2022-11-01 11:04:22 -0500
nebbiolo1Linux (Ubuntu 22.04.1 LTS) / x86_64  OK    OK    WARNINGS  UNNEEDED, same version is already published
palomino3Windows Server 2022 Datacenter / x64  OK    OK    WARNINGS    OK  NO, package depends on 'oligoClasses' which is not available
merida1macOS 10.14.6 Mojave / x86_64  OK    OK    WARNINGS    OK  UNNEEDED, same version is already published
Package 103/470HostnameOS / ArchINSTALLBUILDCHECKBUILD BIN
crossmeta 1.25.0  (landing page)
Alex Pickering
git_last_commit: 4dfee66
git_last_commit_date: 2022-11-01 11:13:53 -0500
nebbiolo1Linux (Ubuntu 22.04.1 LTS) / x86_64  OK    OK    OK  UNNEEDED, same version is already published
palomino3Windows Server 2022 Datacenter / x64  OK    OK    OK    OK  NO, package depends on 'oligo' which is not available
merida1macOS 10.14.6 Mojave / x86_64  OK    OK    OK    OK  NO, package depends on 'edgeR' which is not available
Package 104/470HostnameOS / ArchINSTALLBUILDCHECKBUILD BIN
csaw 1.33.0  (landing page)
Aaron Lun
git_last_commit: 613823d
git_last_commit_date: 2022-11-01 11:10:35 -0500
nebbiolo1Linux (Ubuntu 22.04.1 LTS) / x86_64  OK    OK    WARNINGS  UNNEEDED, same version is already published
palomino3Windows Server 2022 Datacenter / x64  OK    OK    WARNINGS    OK  NO, package depends on 'GenomicRanges' which is not available
merida1macOS 10.14.6 Mojave / x86_64  OK    OK    WARNINGS    OK  NO, package depends on 'Rsamtools' which is not available
Package 105/470HostnameOS / ArchINSTALLBUILDCHECKBUILD BIN
cummeRbund 2.41.0  (landing page)
Loyal A. Goff
git_last_commit: 003aab7
git_last_commit_date: 2022-11-01 11:06:20 -0500
nebbiolo1Linux (Ubuntu 22.04.1 LTS) / x86_64  OK    OK    WARNINGS  UNNEEDED, same version is already published
palomino3Windows Server 2022 Datacenter / x64  OK    OK    WARNINGS    OK  NO, package depends on 'rtracklayer' which is not available
merida1macOS 10.14.6 Mojave / x86_64  OK    OK    WARNINGS    OK  NO, package depends on 'rtracklayer' which is not available
Package 106/470HostnameOS / ArchINSTALLBUILDCHECKBUILD BIN
cydar 1.23.0  (landing page)
Aaron Lun
git_last_commit: e4de328
git_last_commit_date: 2022-11-01 11:15:23 -0500
nebbiolo1Linux (Ubuntu 22.04.1 LTS) / x86_64  OK    OK    OK  UNNEEDED, same version is already published
palomino3Windows Server 2022 Datacenter / x64  OK    OK    OK    OK  NO, package depends on 'SingleCellExperiment' which is not available
merida1macOS 10.14.6 Mojave / x86_64  OK    OK    OK    OK  NO, package depends on 'BiocParallel' which is not available
Package 107/470HostnameOS / ArchINSTALLBUILDCHECKBUILD BIN
dada2 1.27.0  (landing page)
Benjamin Callahan
git_last_commit: 0e1cf87
git_last_commit_date: 2022-11-01 11:13:00 -0500
nebbiolo1Linux (Ubuntu 22.04.1 LTS) / x86_64  OK    OK    OK  UNNEEDED, same version is already published
palomino3Windows Server 2022 Datacenter / x64  OK    OK    OK    OK  NO, package depends on 'ShortRead' which is not available
merida1macOS 10.14.6 Mojave / x86_64  OK    OK    OK    OK  NO, package depends on 'ShortRead' which is not available
Package 108/470HostnameOS / ArchINSTALLBUILDCHECKBUILD BIN
dagLogo 1.37.0  (landing page)
Jianhong Ou
git_last_commit: 87098d8
git_last_commit_date: 2022-11-01 11:08:48 -0500
nebbiolo1Linux (Ubuntu 22.04.1 LTS) / x86_64  OK    OK    OK  UNNEEDED, same version is already published
palomino3Windows Server 2022 Datacenter / x64  OK    OK    OK    OK  NO, package depends on 'motifStack' which is not available
merida1macOS 10.14.6 Mojave / x86_64  OK    OK    OK    OK  NO, package depends on 'motifStack' which is not available
Package 109/470HostnameOS / ArchINSTALLBUILDCHECKBUILD BIN
DAMEfinder 1.11.0  (landing page)
Stephany Orjuela
git_last_commit: 254ed52
git_last_commit_date: 2022-11-01 11:21:14 -0500
nebbiolo1Linux (Ubuntu 22.04.1 LTS) / x86_64  OK    OK    OK  UNNEEDED, same version is already published
palomino3Windows Server 2022 Datacenter / x64  OK    OK    OK    OK  NO, package depends on 'GenomicRanges' which is not available
merida1macOS 10.14.6 Mojave / x86_64  OK    OK    OK    OK  NO, package depends on 'GenomicAlignments' which is not available
Package 110/470HostnameOS / ArchINSTALLBUILDCHECKBUILD BIN
ddCt 1.55.0  (landing page)
Jitao David Zhang
git_last_commit: 6cdeda4
git_last_commit_date: 2022-11-01 11:04:33 -0500
nebbiolo1Linux (Ubuntu 22.04.1 LTS) / x86_64  OK    OK    WARNINGS  UNNEEDED, same version is already published
palomino3Windows Server 2022 Datacenter / x64  OK    OK    WARNINGS    OK  UNNEEDED, same version is already published
merida1macOS 10.14.6 Mojave / x86_64  OK    ERROR  skippedskipped
Package 111/470HostnameOS / ArchINSTALLBUILDCHECKBUILD BIN
decompTumor2Sig 2.15.0  (landing page)
Rosario M. Piro
git_last_commit: f413c6a
git_last_commit_date: 2022-11-01 11:18:56 -0500
nebbiolo1Linux (Ubuntu 22.04.1 LTS) / x86_64  OK    OK    OK  UNNEEDED, same version is already published
palomino3Windows Server 2022 Datacenter / x64  OK    OK    OK    OK  NO, package depends on 'GenomicRanges' which is not available
merida1macOS 10.14.6 Mojave / x86_64  OK    OK    OK    OK  NO, package depends on 'GenomicFeatures' which is not available
Package 112/470HostnameOS / ArchINSTALLBUILDCHECKBUILD BIN
deconvR 1.5.0  (landing page)
İrem B. Gündüz
git_last_commit: 0b15c5d
git_last_commit_date: 2022-11-15 04:12:58 -0500
nebbiolo1Linux (Ubuntu 22.04.1 LTS) / x86_64  OK    OK    OK  UNNEEDED, same version is already published
palomino3Windows Server 2022 Datacenter / x64  OK    OK    OK    OK  NO, package depends on 'methylKit' which is not available
merida1macOS 10.14.6 Mojave / x86_64  OK    OK    OK    OK  NO, package depends on 'methylKit' which is not available
Package 113/470HostnameOS / ArchINSTALLBUILDCHECKBUILD BIN
DEGreport 1.35.0  (landing page)
Lorena Pantano
git_last_commit: 23d1855
git_last_commit_date: 2022-11-01 11:09:50 -0500
nebbiolo1Linux (Ubuntu 22.04.1 LTS) / x86_64  OK    OK    WARNINGS  UNNEEDED, same version is already published
palomino3Windows Server 2022 Datacenter / x64  OK    OK    WARNINGS    OK  NO, package depends on 'DESeq2' which is not available
merida1macOS 10.14.6 Mojave / x86_64  OK    OK    WARNINGS    OK  NO, package depends on 'DESeq2' which is not available
Package 114/470HostnameOS / ArchINSTALLBUILDCHECKBUILD BIN
DelayedArray 0.25.0  (landing page)
Hervé Pagès
git_last_commit: 9a1f91e
git_last_commit_date: 2022-11-01 11:14:54 -0500
nebbiolo1Linux (Ubuntu 22.04.1 LTS) / x86_64  OK    OK    WARNINGS  UNNEEDED, same version is already published
palomino3Windows Server 2022 Datacenter / x64  OK    OK    WARNINGS    OK  UNNEEDED, same version is already published
merida1macOS 10.14.6 Mojave / x86_64  OK    OK    WARNINGS    OK  UNNEEDED, same version is already published
Package 115/470HostnameOS / ArchINSTALLBUILDCHECKBUILD BIN
DelayedDataFrame 1.15.0  (landing page)
Qian Liu
git_last_commit: 397720d
git_last_commit_date: 2022-11-01 11:18:59 -0500
nebbiolo1Linux (Ubuntu 22.04.1 LTS) / x86_64  OK    OK    OK  UNNEEDED, same version is already published
palomino3Windows Server 2022 Datacenter / x64  OK    OK    OK    OK  UNNEEDED, same version is already published
merida1macOS 10.14.6 Mojave / x86_64  OK    OK    OK    OK  UNNEEDED, same version is already published
Package 116/470HostnameOS / ArchINSTALLBUILDCHECKBUILD BIN
derfinder 1.33.0  (landing page)
Leonardo Collado-Torres
git_last_commit: 4da8676
git_last_commit_date: 2022-11-01 11:10:24 -0500
nebbiolo1Linux (Ubuntu 22.04.1 LTS) / x86_64  OK    OK    OK  UNNEEDED, same version is already published
palomino3Windows Server 2022 Datacenter / x64  OK    OK    OK    OK  NO, package depends on 'bumphunter' which is not available
merida1macOS 10.14.6 Mojave / x86_64  OK    OK    OK    OK  NO, package depends on 'BiocParallel' which is not available
Package 117/470HostnameOS / ArchINSTALLBUILDCHECKBUILD BIN
DEScan2 1.19.0  (landing page)
Dario Righelli
git_last_commit: f5d07fe
git_last_commit_date: 2022-11-01 11:17:18 -0500
nebbiolo1Linux (Ubuntu 22.04.1 LTS) / x86_64  OK    OK    OK  UNNEEDED, same version is already published
palomino3Windows Server 2022 Datacenter / x64  OK    OK    OK    OK  NO, package depends on 'GenomicRanges' which is not available
merida1macOS 10.14.6 Mojave / x86_64  OK    OK    OK    OK  NO, package depends on 'BiocParallel' which is not available
Package 118/470HostnameOS / ArchINSTALLBUILDCHECKBUILD BIN
DESeq2 1.39.3  (landing page)
Michael Love
git_last_commit: 98d2ab7
git_last_commit_date: 2022-11-23 09:08:41 -0500
nebbiolo1Linux (Ubuntu 22.04.1 LTS) / x86_64  OK    OK    OK  UNNEEDED, same version is already published
palomino3Windows Server 2022 Datacenter / x64  OK    OK    OK    OK  NO, package depends on 'GenomicRanges' which is not available
merida1macOS 10.14.6 Mojave / x86_64  OK    OK    OK    OK  NO, package depends on 'BiocParallel' which is not available
Package 119/470HostnameOS / ArchINSTALLBUILDCHECKBUILD BIN
destiny 3.13.0  (landing page)
Philipp Angerer
git_last_commit: 2054a20
git_last_commit_date: 2022-11-01 11:26:22 -0500
nebbiolo1Linux (Ubuntu 22.04.1 LTS) / x86_64  OK    OK    OK  UNNEEDED, same version is already published
palomino3Windows Server 2022 Datacenter / x64  OK    OK    OK    OK  NO, package depends on 'SummarizedExperiment' which is not available
merida1macOS 10.14.6 Mojave / x86_64  OK    OK    OK    OK  UNNEEDED, same version is already published
Package 120/470HostnameOS / ArchINSTALLBUILDCHECKBUILD BIN
DEWSeq 1.13.0  (landing page)
bioinformatics team Hentze
git_last_commit: ed545b2
git_last_commit_date: 2022-11-01 11:20:50 -0500
nebbiolo1Linux (Ubuntu 22.04.1 LTS) / x86_64  OK    OK    OK  UNNEEDED, same version is already published
palomino3Windows Server 2022 Datacenter / x64  OK    OK    OK    OK  NO, package depends on 'DESeq2' which is not available
merida1macOS 10.14.6 Mojave / x86_64  OK    OK    OK    OK  NO, package depends on 'DESeq2' which is not available
Package 121/470HostnameOS / ArchINSTALLBUILDCHECKBUILD BIN
DEXSeq 1.45.0  (landing page)
Alejandro Reyes
git_last_commit: e996738
git_last_commit_date: 2022-11-01 11:05:59 -0500
nebbiolo1Linux (Ubuntu 22.04.1 LTS) / x86_64  OK    OK    OK  UNNEEDED, same version is already published
palomino3Windows Server 2022 Datacenter / x64  OK    OK    OK    OK  NO, package depends on 'SummarizedExperiment' which is not available
merida1macOS 10.14.6 Mojave / x86_64  OK    OK    OK    OK  NO, package depends on 'BiocParallel' which is not available
Package 122/470HostnameOS / ArchINSTALLBUILDCHECKBUILD BIN
diffcoexp 1.19.0  (landing page)
Wenbin Wei
git_last_commit: c563a46
git_last_commit_date: 2022-11-01 11:17:18 -0500
nebbiolo1Linux (Ubuntu 22.04.1 LTS) / x86_64  OK    OK    OK  UNNEEDED, same version is already published
palomino3Windows Server 2022 Datacenter / x64  OK    OK    OK    OK  NO, package depends on 'SummarizedExperiment' which is not available
merida1macOS 10.14.6 Mojave / x86_64  OK    OK    OK    OK  UNNEEDED, same version is already published
Package 123/470HostnameOS / ArchINSTALLBUILDCHECKBUILD BIN
diffHic 1.31.0  (landing page)
Aaron Lun
git_last_commit: d0d608e
git_last_commit_date: 2022-11-01 11:11:37 -0500
nebbiolo1Linux (Ubuntu 22.04.1 LTS) / x86_64  OK    OK    WARNINGS  UNNEEDED, same version is already published
palomino3Windows Server 2022 Datacenter / x64  OK    OK    WARNINGS    OK  NO, package depends on 'GenomicRanges' which is not available
merida1macOS 10.14.6 Mojave / x86_64  OK    OK    WARNINGS    OK  NO, package depends on 'Rsamtools' which is not available
Package 124/470HostnameOS / ArchINSTALLBUILDCHECKBUILD BIN
DirichletMultinomial 1.41.0  (landing page)
Martin Morgan
git_last_commit: 71e50aa
git_last_commit_date: 2022-11-01 11:06:58 -0500
nebbiolo1Linux (Ubuntu 22.04.1 LTS) / x86_64  OK    OK    WARNINGS  UNNEEDED, same version is already published
palomino3Windows Server 2022 Datacenter / x64  OK    OK    WARNINGS    OK  UNNEEDED, same version is already published
merida1macOS 10.14.6 Mojave / x86_64  OK    ERROR  skippedskipped
Package 125/470HostnameOS / ArchINSTALLBUILDCHECKBUILD BIN
DiscoRhythm 1.15.0  (landing page)
Matthew Carlucci
git_last_commit: 4c46471
git_last_commit_date: 2022-11-01 11:19:37 -0500
nebbiolo1Linux (Ubuntu 22.04.1 LTS) / x86_64  OK    OK    OK  UNNEEDED, same version is already published
palomino3Windows Server 2022 Datacenter / x64  OK    OK    OK    OK  NO, package depends on 'SummarizedExperiment' which is not available
merida1macOS 10.14.6 Mojave / x86_64  OK    OK    OK    OK  UNNEEDED, same version is already published
Package 126/470HostnameOS / ArchINSTALLBUILDCHECKBUILD BIN
DRIMSeq 1.27.0  (landing page)
Malgorzata Nowicka
git_last_commit: 0ff62e8
git_last_commit_date: 2022-11-01 11:13:16 -0500
nebbiolo1Linux (Ubuntu 22.04.1 LTS) / x86_64  OK    OK    WARNINGS  UNNEEDED, same version is already published
palomino3Windows Server 2022 Datacenter / x64  OK    OK    WARNINGS    OK  NO, package depends on 'GenomicRanges' which is not available
merida1macOS 10.14.6 Mojave / x86_64  OK    OK    WARNINGS    OK  NO, package depends on 'BiocParallel' which is not available
Package 127/470HostnameOS / ArchINSTALLBUILDCHECKBUILD BIN
DropletUtils 1.19.2  (landing page)
Jonathan Griffiths
git_last_commit: 4907150
git_last_commit_date: 2022-11-22 02:59:05 -0500
nebbiolo1Linux (Ubuntu 22.04.1 LTS) / x86_64  OK    OK    WARNINGS  UNNEEDED, same version is already published
palomino3Windows Server 2022 Datacenter / x64  OK    OK    WARNINGS    OK  NO, package depends on 'SingleCellExperiment' which is not available
merida1macOS 10.14.6 Mojave / x86_64  OK    OK    WARNINGS    OK  NO, package depends on 'BiocParallel' which is not available
Package 128/470HostnameOS / ArchINSTALLBUILDCHECKBUILD BIN
DrugVsDisease 2.41.0  (landing page)
j. Saez-Rodriguez
git_last_commit: 18cb1ed
git_last_commit_date: 2022-11-01 11:07:48 -0500
nebbiolo1Linux (Ubuntu 22.04.1 LTS) / x86_64  OK    OK    OK  NO, package depends on 'ArrayExpress' which is not available
palomino3Windows Server 2022 Datacenter / x64  OK    OK    OK    OK  NO, package depends on 'ArrayExpress' which is not available
merida1macOS 10.14.6 Mojave / x86_64  OK    OK    OK    OK  NO, package depends on 'ArrayExpress' which is not available
Package 129/470HostnameOS / ArchINSTALLBUILDCHECKBUILD BIN
easyRNASeq 2.35.0  (landing page)
Nicolas Delhomme
git_last_commit: 04012c4
git_last_commit_date: 2022-11-01 11:06:37 -0500
nebbiolo1Linux (Ubuntu 22.04.1 LTS) / x86_64  OK    OK    WARNINGS  UNNEEDED, same version is already published
palomino3Windows Server 2022 Datacenter / x64  OK    OK    WARNINGS    OK  NO, package depends on 'genomeIntervals' which is not available
merida1macOS 10.14.6 Mojave / x86_64  OK    OK    WARNINGS    OK  NO, package depends on 'BiocParallel' which is not available
Package 130/470HostnameOS / ArchINSTALLBUILDCHECKBUILD BIN
EBImage 4.41.0  (landing page)
Andrzej Oleś
git_last_commit: 838f871
git_last_commit_date: 2022-11-01 10:40:58 -0500
nebbiolo1Linux (Ubuntu 22.04.1 LTS) / x86_64  OK    OK    WARNINGS  UNNEEDED, same version is already published
palomino3Windows Server 2022 Datacenter / x64  OK    OK    WARNINGS    OK  UNNEEDED, same version is already published
merida1macOS 10.14.6 Mojave / x86_64  OK    OK    WARNINGS    OK  UNNEEDED, same version is already published
Package 131/470HostnameOS / ArchINSTALLBUILDCHECKBUILD BIN
EDASeq 2.33.0  (landing page)
Davide Risso
git_last_commit: 04a9ebb
git_last_commit_date: 2022-11-01 11:06:16 -0500
nebbiolo1Linux (Ubuntu 22.04.1 LTS) / x86_64  OK    OK    OK  UNNEEDED, same version is already published
palomino3Windows Server 2022 Datacenter / x64  OK    OK    OK    OK  NO, package depends on 'ShortRead' which is not available
merida1macOS 10.14.6 Mojave / x86_64  OK    OK    OK    OK  NO, package depends on 'ShortRead' which is not available
Package 132/470HostnameOS / ArchINSTALLBUILDCHECKBUILD BIN
eiR 1.39.0  (landing page)
Thomas Girke
git_last_commit: a57ea92
git_last_commit_date: 2022-11-01 11:08:03 -0500
nebbiolo1Linux (Ubuntu 22.04.1 LTS) / x86_64  OK    OK    OK  UNNEEDED, same version is already published
palomino3Windows Server 2022 Datacenter / x64  OK    OK    OK    OK  UNNEEDED, same version is already published
merida1macOS 10.14.6 Mojave / x86_64  OK    OK    OK    OK  UNNEEDED, same version is already published
Package 133/470HostnameOS / ArchINSTALLBUILDCHECKBUILD BIN
eisaR 1.11.0  (landing page)
Michael Stadler
git_last_commit: 3c48231
git_last_commit_date: 2022-11-03 08:42:54 -0500
nebbiolo1Linux (Ubuntu 22.04.1 LTS) / x86_64  OK    OK    WARNINGS  UNNEEDED, same version is already published
palomino3Windows Server 2022 Datacenter / x64  OK    OK    WARNINGS    OK  NO, package depends on 'GenomicRanges' which is not available
merida1macOS 10.14.6 Mojave / x86_64  OK    OK    WARNINGS    OK  NO, package depends on 'edgeR' which is not available
Package 134/470HostnameOS / ArchINSTALLBUILDCHECKBUILD BIN
enhancerHomologSearch 1.5.0  (landing page)
Jianhong Ou
git_last_commit: 885528e
git_last_commit_date: 2022-11-01 11:25:27 -0500
nebbiolo1Linux (Ubuntu 22.04.1 LTS) / x86_64  OK    OK    OK  UNNEEDED, same version is already published
palomino3Windows Server 2022 Datacenter / x64  OK    OK    OK    OK  NO, package depends on 'BSgenome' which is not available
merida1macOS 10.14.6 Mojave / x86_64  OK    OK    OK    OK  NO, package depends on 'BSgenome' which is not available
Package 135/470HostnameOS / ArchINSTALLBUILDCHECKBUILD BIN
enrichTF 1.15.0  (landing page)
Zheng Wei
git_last_commit: 8cb8d13
git_last_commit_date: 2022-11-01 11:19:51 -0500
nebbiolo1Linux (Ubuntu 22.04.1 LTS) / x86_64  OK    OK    OK  UNNEEDED, same version is already published
palomino3Windows Server 2022 Datacenter / x64  OK    OK    OK    OK  NO, package depends on 'pipeFrame' which is not available
merida1macOS 10.14.6 Mojave / x86_64  OK    OK    OK    OK  NO, package depends on 'pipeFrame' which is not available
Package 136/470HostnameOS / ArchINSTALLBUILDCHECKBUILD BIN
ensembldb 2.23.1  (landing page)
Johannes Rainer
git_last_commit: 8995853
git_last_commit_date: 2022-11-09 05:50:04 -0500
nebbiolo1Linux (Ubuntu 22.04.1 LTS) / x86_64  OK    OK    OK  UNNEEDED, same version is already published
palomino3Windows Server 2022 Datacenter / x64  OK    OK    OK    OK  NO, package depends on 'GenomicRanges' which is not available
merida1macOS 10.14.6 Mojave / x86_64  OK    OK    OK    OK  NO, package depends on 'GenomicFeatures' which is not available
Package 137/470HostnameOS / ArchINSTALLBUILDCHECKBUILD BIN
ensemblVEP 1.41.1  (landing page)
Bioconductor Package Maintainer
git_last_commit: af762fa
git_last_commit_date: 2022-11-28 21:19:59 -0500
nebbiolo1Linux (Ubuntu 22.04.1 LTS) / x86_64  OK    ERROR  skipped
palomino3Windows Server 2022 Datacenter / x64... NOT SUPPORTED ...
merida1macOS 10.14.6 Mojave / x86_64  OK    OK    OK    OK  NO, package depends on 'VariantAnnotation' which is not available
Package 138/470HostnameOS / ArchINSTALLBUILDCHECKBUILD BIN
epialleleR 1.7.0  (landing page)
Oleksii Nikolaienko
git_last_commit: 11ca088
git_last_commit_date: 2022-11-01 11:24:58 -0500
nebbiolo1Linux (Ubuntu 22.04.1 LTS) / x86_64  OK    OK    OK  UNNEEDED, same version is already published
palomino3Windows Server 2022 Datacenter / x64  OK    OK    OK    OK  NO, package depends on 'GenomicRanges' which is not available
merida1macOS 10.14.6 Mojave / x86_64  OK    OK    OK    OK  NO, package depends on 'VariantAnnotation' which is not available
Package 139/470HostnameOS / ArchINSTALLBUILDCHECKBUILD BIN
EpiCompare 1.3.0  (landing page)
Sera Choi
git_last_commit: 0774994
git_last_commit_date: 2022-11-01 11:27:02 -0500
nebbiolo1Linux (Ubuntu 22.04.1 LTS) / x86_64  OK    OK    OK  UNNEEDED, same version is already published
palomino3Windows Server 2022 Datacenter / x64  OK    OK    OK    OK  NO, package depends on 'BRGenomics' which is not available
merida1macOS 10.14.6 Mojave / x86_64  OK    OK    OK    OK  NO, package depends on 'BRGenomics' which is not available
Package 140/470HostnameOS / ArchINSTALLBUILDCHECKBUILD BIN
epigenomix 1.39.0  (landing page)
Hans-Ulrich Klein
git_last_commit: 9187ade
git_last_commit_date: 2022-11-01 11:07:58 -0500
nebbiolo1Linux (Ubuntu 22.04.1 LTS) / x86_64  OK    OK    OK  UNNEEDED, same version is already published
palomino3Windows Server 2022 Datacenter / x64  OK    OK    OK    OK  NO, package depends on 'GenomicRanges' which is not available
merida1macOS 10.14.6 Mojave / x86_64  OK    OK    OK    OK  NO, package depends on 'Rsamtools' which is not available
Package 141/470HostnameOS / ArchINSTALLBUILDCHECKBUILD BIN
epimutacions 1.3.0  (landing page)
Dolors Pelegri-Siso
git_last_commit: 4b983d2
git_last_commit_date: 2022-11-01 11:26:53 -0500
nebbiolo1Linux (Ubuntu 22.04.1 LTS) / x86_64  OK    OK    OK  UNNEEDED, same version is already published
palomino3Windows Server 2022 Datacenter / x64  OK    OK    OK    OK  NO, package depends on 'minfi' which is not available
merida1macOS 10.14.6 Mojave / x86_64  OK    OK    OK    OK  NO, package depends on 'minfi' which is not available
Package 142/470HostnameOS / ArchINSTALLBUILDCHECKBUILD BIN
epistack 1.5.0  (landing page)
DEVAILLY Guillaume
git_last_commit: 8666251
git_last_commit_date: 2022-11-01 11:25:54 -0500
nebbiolo1Linux (Ubuntu 22.04.1 LTS) / x86_64  OK    OK    OK  UNNEEDED, same version is already published
palomino3Windows Server 2022 Datacenter / x64  OK    OK    OK    OK  NO, package depends on 'GenomicRanges' which is not available
merida1macOS 10.14.6 Mojave / x86_64  OK    OK    OK    OK  UNNEEDED, same version is already published
Package 143/470HostnameOS / ArchINSTALLBUILDCHECKBUILD BIN
EpiTxDb 1.11.0  (landing page)
Felix G.M. Ernst
git_last_commit: aa28b39
git_last_commit_date: 2022-11-01 11:21:35 -0500
nebbiolo1Linux (Ubuntu 22.04.1 LTS) / x86_64  OK    OK    OK  UNNEEDED, same version is already published
palomino3Windows Server 2022 Datacenter / x64  OK    OK    OK    OK  NO, package depends on 'Modstrings' which is not available
merida1macOS 10.14.6 Mojave / x86_64  OK    OK    OK    OK  NO, package depends on 'GenomicFeatures' which is not available
Package 144/470HostnameOS / ArchINSTALLBUILDCHECKBUILD BIN
epivizrChart 1.21.0  (landing page)
Hector Corrada Bravo
git_last_commit: f5a862c
git_last_commit_date: 2022-11-01 11:16:00 -0500
nebbiolo1Linux (Ubuntu 22.04.1 LTS) / x86_64  OK    OK    OK  UNNEEDED, same version is already published
palomino3Windows Server 2022 Datacenter / x64  OK    OK    OK    OK  NO, package depends on 'epivizrData' which is not available
merida1macOS 10.14.6 Mojave / x86_64  OK    OK    OK    OK  NO, package depends on 'epivizrData' which is not available
Package 145/470HostnameOS / ArchINSTALLBUILDCHECKBUILD BIN
epivizrStandalone 1.27.0  (landing page)
Hector Corrada Bravo
git_last_commit: 697c987
git_last_commit_date: 2022-11-01 11:13:43 -0500
nebbiolo1Linux (Ubuntu 22.04.1 LTS) / x86_64  OK    OK    WARNINGS  UNNEEDED, same version is already published
palomino3Windows Server 2022 Datacenter / x64  OK    OK    WARNINGS    OK  NO, package depends on 'epivizr' which is not available
merida1macOS 10.14.6 Mojave / x86_64  OK    OK    WARNINGS    OK  NO, package depends on 'epivizr' which is not available
Package 146/470HostnameOS / ArchINSTALLBUILDCHECKBUILD BIN
erma 1.15.0  (landing page)
VJ Carey
git_last_commit: ed3b144
git_last_commit_date: 2022-11-01 11:11:49 -0500
nebbiolo1Linux (Ubuntu 22.04.1 LTS) / x86_64  OK    OK    OK  UNNEEDED, same version is already published
palomino3Windows Server 2022 Datacenter / x64  OK    OK    OK    OK  NO, package depends on 'GenomicFiles' which is not available
merida1macOS 10.14.6 Mojave / x86_64  OK    OK    OK    OK  NO, package depends on 'GenomicFiles' which is not available
Package 147/470HostnameOS / ArchINSTALLBUILDCHECKBUILD BIN
esATAC 1.21.0  (landing page)
Zheng Wei
git_last_commit: dc1b794
git_last_commit_date: 2022-11-01 11:16:47 -0500
nebbiolo1Linux (Ubuntu 22.04.1 LTS) / x86_64  OK    OK    WARNINGS  UNNEEDED, same version is already published
palomino3Windows Server 2022 Datacenter / x64  OK    OK    WARNINGS    OK  NO, package depends on 'Rsamtools' which is not available
merida1macOS 10.14.6 Mojave / x86_64  OK    OK    WARNINGS    OK  NO, package depends on 'Rsamtools' which is not available
Package 148/470HostnameOS / ArchINSTALLBUILDCHECKBUILD BIN
exomePeak2 1.11.0  (landing page)
Zhen Wei
git_last_commit: 1b9534d
git_last_commit_date: 2022-11-01 11:21:28 -0500
nebbiolo1Linux (Ubuntu 22.04.1 LTS) / x86_64  OK    OK    OK  UNNEEDED, same version is already published
palomino3Windows Server 2022 Datacenter / x64  OK    OK    OK    OK  NO, package depends on 'SummarizedExperiment' which is not available
merida1macOS 10.14.6 Mojave / x86_64  OK    OK    OK    OK  NO, package depends on 'Rsamtools' which is not available
Package 149/470HostnameOS / ArchINSTALLBUILDCHECKBUILD BIN
ExperimentHub 2.7.0  (landing page)
Bioconductor Package Maintainer
git_last_commit: 161caf2
git_last_commit_date: 2022-11-01 11:13:01 -0500
nebbiolo1Linux (Ubuntu 22.04.1 LTS) / x86_64  OK    OK    WARNINGS  UNNEEDED, same version is already published
palomino3Windows Server 2022 Datacenter / x64  OK    OK    WARNINGS    OK  UNNEEDED, same version is already published
merida1macOS 10.14.6 Mojave / x86_64  OK    OK    WARNINGS    OK  UNNEEDED, same version is already published
Package 150/470HostnameOS / ArchINSTALLBUILDCHECKBUILD BIN
ExperimentHubData 1.25.0  (landing page)
Bioconductor Package Maintainer
git_last_commit: 74c2600
git_last_commit_date: 2022-11-01 11:13:02 -0500
nebbiolo1Linux (Ubuntu 22.04.1 LTS) / x86_64  OK    OK    OK  UNNEEDED, same version is already published
palomino3Windows Server 2022 Datacenter / x64  OK    OK    OK    OK  NO, package depends on 'AnnotationHubData' which is not available
merida1macOS 10.14.6 Mojave / x86_64  OK    OK    OK    OK  NO, package depends on 'AnnotationHubData' which is not available
Package 151/470HostnameOS / ArchINSTALLBUILDCHECKBUILD BIN
factR 1.1.0  (landing page)
Fursham Hamid
git_last_commit: d8724d2
git_last_commit_date: 2022-11-01 11:27:13 -0500
nebbiolo1Linux (Ubuntu 22.04.1 LTS) / x86_64  OK    OK    OK  UNNEEDED, same version is already published
palomino3Windows Server 2022 Datacenter / x64  OK    OK    OK    OK  NO, package depends on 'GenomicFeatures' which is not available
merida1macOS 10.14.6 Mojave / x86_64  OK    OK    OK    OK  NO, package depends on 'GenomicFeatures' which is not available
Package 152/470HostnameOS / ArchINSTALLBUILDCHECKBUILD BIN
FamAgg 1.27.0  (landing page)
Johannes Rainer
git_last_commit: 5b14e11
git_last_commit_date: 2022-11-01 11:12:34 -0500
nebbiolo1Linux (Ubuntu 22.04.1 LTS) / x86_64  OK    OK    OK  UNNEEDED, same version is already published
palomino3Windows Server 2022 Datacenter / x64  OK    OK    OK    OK  UNNEEDED, same version is already published
merida1macOS 10.14.6 Mojave / x86_64  OK    OK    OK    OK  UNNEEDED, same version is already published
Package 153/470HostnameOS / ArchINSTALLBUILDCHECKBUILD BIN
fastseg 1.45.0  (landing page)
Alexander Blume
git_last_commit: 1d51d68
git_last_commit_date: 2022-11-01 11:06:32 -0500
nebbiolo1Linux (Ubuntu 22.04.1 LTS) / x86_64  OK    OK    OK  UNNEEDED, same version is already published
palomino3Windows Server 2022 Datacenter / x64  OK    OK    OK    OK  NO, package depends on 'GenomicRanges' which is not available
merida1macOS 10.14.6 Mojave / x86_64  OK    OK    OK    OK  UNNEEDED, same version is already published
Package 154/470HostnameOS / ArchINSTALLBUILDCHECKBUILD BIN
ffpe 1.43.0  (landing page)
Levi Waldron
git_last_commit: 0136ce3
git_last_commit_date: 2022-11-01 11:06:45 -0500
nebbiolo1Linux (Ubuntu 22.04.1 LTS) / x86_64  OK    OK    OK  UNNEEDED, same version is already published
palomino3Windows Server 2022 Datacenter / x64  OK    OK    OK    OK  NO, package depends on 'lumi' which is not available
merida1macOS 10.14.6 Mojave / x86_64  OK    OK    OK    OK  NO, package depends on 'lumi' which is not available
Package 155/470HostnameOS / ArchINSTALLBUILDCHECKBUILD BIN
FindIT2 1.5.0  (landing page)
Guandong Shang
git_last_commit: db4c20d
git_last_commit_date: 2022-11-01 11:25:15 -0500
nebbiolo1Linux (Ubuntu 22.04.1 LTS) / x86_64  OK    OK    OK  UNNEEDED, same version is already published
palomino3Windows Server 2022 Datacenter / x64  OK    OK    OK    OK  NO, package depends on 'GenomicRanges' which is not available
merida1macOS 10.14.6 Mojave / x86_64  OK    OK    OK    OK  NO, package depends on 'rtracklayer' which is not available
Package 156/470HostnameOS / ArchINSTALLBUILDCHECKBUILD BIN
FLAMES 1.5.1  (landing page)
Voogd Oliver
git_last_commit: a17aa4c
git_last_commit_date: 2022-11-15 22:31:09 -0500
nebbiolo1Linux (Ubuntu 22.04.1 LTS) / x86_64  OK    OK    WARNINGS  UNNEEDED, same version is already published
palomino3Windows Server 2022 Datacenter / x64  OK    OK    ERROR    OK  
merida1macOS 10.14.6 Mojave / x86_64  OK    OK    WARNINGS    OK  NO, package depends on 'Rsamtools' which is not available
Package 157/470HostnameOS / ArchINSTALLBUILDCHECKBUILD BIN
flowBin 1.35.0  (landing page)
Kieran O'Neill
git_last_commit: e302c49
git_last_commit_date: 2022-11-01 11:09:04 -0500
nebbiolo1Linux (Ubuntu 22.04.1 LTS) / x86_64  OK    OK    OK  UNNEEDED, same version is already published
palomino3Windows Server 2022 Datacenter / x64  OK    OK    OK    OK  YES
merida1macOS 10.14.6 Mojave / x86_64  OK    OK    OK    OK  UNNEEDED, same version is already published
Package 158/470HostnameOS / ArchINSTALLBUILDCHECKBUILD BIN
flowClust 3.37.0  (landing page)
Greg Finak , Mike Jiang
git_last_commit: 97b31b3
git_last_commit_date: 2022-11-01 11:03:47 -0500
nebbiolo1Linux (Ubuntu 22.04.1 LTS) / x86_64  OK    OK    WARNINGS  UNNEEDED, same version is already published
palomino3Windows Server 2022 Datacenter / x64  OK    OK    WARNINGS    OK  YES
merida1macOS 10.14.6 Mojave / x86_64  OK    OK    WARNINGS    OK  UNNEEDED, same version is already published
Package 159/470HostnameOS / ArchINSTALLBUILDCHECKBUILD BIN
flowCore 2.11.0  (landing page)
Mike Jiang
git_last_commit: 351ad59
git_last_commit_date: 2022-11-01 10:42:20 -0500
nebbiolo1Linux (Ubuntu 22.04.1 LTS) / x86_64  OK    OK    WARNINGS  UNNEEDED, same version is already published
palomino3Windows Server 2022 Datacenter / x64  OK    OK    OK    OK  YES
merida1macOS 10.14.6 Mojave / x86_64  OK    OK    OK    OK  UNNEEDED, same version is already published
Package 160/470HostnameOS / ArchINSTALLBUILDCHECKBUILD BIN
flowFP 1.57.3  (landing page)
Herb Holyst , Wade Rogers
git_last_commit: dacfec8
git_last_commit_date: 2022-11-18 10:05:39 -0500
nebbiolo1Linux (Ubuntu 22.04.1 LTS) / x86_64  OK    OK    OK  UNNEEDED, same version is already published
palomino3Windows Server 2022 Datacenter / x64  OK    OK    OK    OK  YES
merida1macOS 10.14.6 Mojave / x86_64  OK    OK    OK    OK  UNNEEDED, same version is already published
Package 161/470HostnameOS / ArchINSTALLBUILDCHECKBUILD BIN
FlowSOM 2.7.1  (landing page)
Sofie Van Gassen
git_last_commit: b1126ab
git_last_commit_date: 2022-11-08 03:11:39 -0500
nebbiolo1Linux (Ubuntu 22.04.1 LTS) / x86_64  ERROR    ERROR  skipped
palomino3Windows Server 2022 Datacenter / x64  ERROR    ERROR  skippedskipped
merida1macOS 10.14.6 Mojave / x86_64  ERROR    ERROR  skippedskipped
Package 162/470HostnameOS / ArchINSTALLBUILDCHECKBUILD BIN
flowSpecs 1.13.0  (landing page)
Jakob Theorell
git_last_commit: 714713c
git_last_commit_date: 2022-11-01 11:20:33 -0500
nebbiolo1Linux (Ubuntu 22.04.1 LTS) / x86_64  OK    OK    OK  UNNEEDED, same version is already published
palomino3Windows Server 2022 Datacenter / x64  OK    OK    OK    OK  YES
merida1macOS 10.14.6 Mojave / x86_64  OK    OK    OK    OK  NO, package depends on 'BiocParallel' which is not available
Package 163/470HostnameOS / ArchINSTALLBUILDCHECKBUILD BIN
flowStats 4.11.0  (landing page)
Greg Finak , Mike Jiang
git_last_commit: fd0a953
git_last_commit_date: 2022-11-01 11:04:25 -0500
nebbiolo1Linux (Ubuntu 22.04.1 LTS) / x86_64  OK    OK    WARNINGS  UNNEEDED, same version is already published
palomino3Windows Server 2022 Datacenter / x64  OK    OK    WARNINGS    OK  YES
merida1macOS 10.14.6 Mojave / x86_64  OK    ERROR  skippedskipped
Package 164/470HostnameOS / ArchINSTALLBUILDCHECKBUILD BIN
flowWorkspace 4.11.0  (landing page)
Greg Finak , Mike Jiang
git_last_commit: fb34e4c
git_last_commit_date: 2022-11-01 11:05:55 -0500
nebbiolo1Linux (Ubuntu 22.04.1 LTS) / x86_64  OK    OK    WARNINGS  UNNEEDED, same version is already published
palomino3Windows Server 2022 Datacenter / x64  OK    OK    WARNINGS    OK  YES
merida1macOS 10.14.6 Mojave / x86_64  OK    ERROR  skippedskipped
Package 165/470HostnameOS / ArchINSTALLBUILDCHECKBUILD BIN
fmcsR 1.41.0  (landing page)
Thomas Girke
git_last_commit: b9aea38
git_last_commit_date: 2022-11-01 11:07:17 -0500
nebbiolo1Linux (Ubuntu 22.04.1 LTS) / x86_64  OK    OK    WARNINGS  UNNEEDED, same version is already published
palomino3Windows Server 2022 Datacenter / x64  OK    OK    WARNINGS    OK  UNNEEDED, same version is already published
merida1macOS 10.14.6 Mojave / x86_64  OK    OK    OK    OK  UNNEEDED, same version is already published
Package 166/470HostnameOS / ArchINSTALLBUILDCHECKBUILD BIN
FRASER 1.11.0  (landing page)
Christian Mertes
git_last_commit: ab699ed
git_last_commit_date: 2022-11-01 11:21:56 -0500
nebbiolo1Linux (Ubuntu 22.04.1 LTS) / x86_64  OK    OK    OK  UNNEEDED, same version is already published
palomino3Windows Server 2022 Datacenter / x64  OK    OK    OK    OK  NO, package depends on 'Rsamtools' which is not available
merida1macOS 10.14.6 Mojave / x86_64  OK    OK    OK    OK  NO, package depends on 'BiocParallel' which is not available
Package 167/470HostnameOS / ArchINSTALLBUILDCHECKBUILD BIN
frma 1.51.0  (landing page)
Matthew N. McCall
git_last_commit: 0985f1d
git_last_commit_date: 2022-11-01 11:04:47 -0500
nebbiolo1Linux (Ubuntu 22.04.1 LTS) / x86_64  OK    OK    OK  UNNEEDED, same version is already published
palomino3Windows Server 2022 Datacenter / x64  OK    OK    OK    OK  NO, package depends on 'oligo' which is not available
merida1macOS 10.14.6 Mojave / x86_64  OK    OK    OK    OK  UNNEEDED, same version is already published
Package 168/470HostnameOS / ArchINSTALLBUILDCHECKBUILD BIN
GA4GHclient 1.23.0  (landing page)
Welliton Souza
git_last_commit: 74319af
git_last_commit_date: 2022-11-01 11:15:24 -0500
nebbiolo1Linux (Ubuntu 22.04.1 LTS) / x86_64  OK    OK    OK  UNNEEDED, same version is already published
palomino3Windows Server 2022 Datacenter / x64  OK    OK    OK    OK  NO, package depends on 'GenomicRanges' which is not available
merida1macOS 10.14.6 Mojave / x86_64  OK    OK    OK    OK  NO, package depends on 'VariantAnnotation' which is not available
Package 169/470HostnameOS / ArchINSTALLBUILDCHECKBUILD BIN
GA4GHshiny 1.21.0  (landing page)
Welliton Souza
git_last_commit: 7ca7b54
git_last_commit_date: 2022-11-01 11:15:45 -0500
nebbiolo1Linux (Ubuntu 22.04.1 LTS) / x86_64  OK    OK    OK  UNNEEDED, same version is already published
palomino3Windows Server 2022 Datacenter / x64  OK    OK    OK    OK  NO, package depends on 'GA4GHclient' which is not available
merida1macOS 10.14.6 Mojave / x86_64  OK    OK    OK    OK  NO, package depends on 'GA4GHclient' which is not available
Package 170/470HostnameOS / ArchINSTALLBUILDCHECKBUILD BIN
gcapc 1.23.0  (landing page)
Mingxiang Teng
git_last_commit: 353104a
git_last_commit_date: 2022-11-01 11:14:56 -0500
nebbiolo1Linux (Ubuntu 22.04.1 LTS) / x86_64  OK    OK    OK  UNNEEDED, same version is already published
palomino3Windows Server 2022 Datacenter / x64  OK    OK    OK    OK  NO, package depends on 'BSgenome' which is not available
merida1macOS 10.14.6 Mojave / x86_64  OK    OK    OK    OK  NO, package depends on 'BSgenome' which is not available
Package 171/470HostnameOS / ArchINSTALLBUILDCHECKBUILD BIN
GDSArray 1.19.0  (landing page)
Qian Liu
git_last_commit: 5e7655b
git_last_commit_date: 2022-11-01 11:17:29 -0500
nebbiolo1Linux (Ubuntu 22.04.1 LTS) / x86_64  OK    OK    OK  UNNEEDED, same version is already published
palomino3Windows Server 2022 Datacenter / x64  OK    OK    OK    OK  NO, package depends on 'SeqArray' which is not available
merida1macOS 10.14.6 Mojave / x86_64  OK    OK    OK    OK  UNNEEDED, same version is already published
Package 172/470HostnameOS / ArchINSTALLBUILDCHECKBUILD BIN
genbankr 1.27.0  (landing page)
Gabriel Becker
git_last_commit: 52cde8c
git_last_commit_date: 2022-11-01 11:13:33 -0500
nebbiolo1Linux (Ubuntu 22.04.1 LTS) / x86_64  OK    OK    OK  UNNEEDED, same version is already published
palomino3Windows Server 2022 Datacenter / x64  OK    OK    OK    OK  NO, package depends on 'GenomicRanges' which is not available
merida1macOS 10.14.6 Mojave / x86_64  OK    OK    OK    OK  NO, package depends on 'GenomicFeatures' which is not available
Package 173/470HostnameOS / ArchINSTALLBUILDCHECKBUILD BIN
geneAttribution 1.25.0  (landing page)
Arthur Wuster
git_last_commit: 5aab3ee
git_last_commit_date: 2022-11-01 11:14:21 -0500
nebbiolo1Linux (Ubuntu 22.04.1 LTS) / x86_64  OK    OK    OK  UNNEEDED, same version is already published
palomino3Windows Server 2022 Datacenter / x64  OK    OK    OK    OK  NO, package depends on 'GenomicRanges' which is not available
merida1macOS 10.14.6 Mojave / x86_64  OK    OK    OK    OK  NO, package depends on 'GenomicFeatures' which is not available
Package 174/470HostnameOS / ArchINSTALLBUILDCHECKBUILD BIN
geneClassifiers 1.23.0  (landing page)
R Kuiper
git_last_commit: 19424a0
git_last_commit_date: 2022-11-01 11:15:10 -0500
nebbiolo1Linux (Ubuntu 22.04.1 LTS) / x86_64  OK    OK    OK  UNNEEDED, same version is already published
palomino3Windows Server 2022 Datacenter / x64  OK    OK    OK    OK  UNNEEDED, same version is already published
merida1macOS 10.14.6 Mojave / x86_64  OK    OK    OK    OK  UNNEEDED, same version is already published
Package 175/470HostnameOS / ArchINSTALLBUILDCHECKBUILD BIN
genefilter 1.81.0  (landing page)
Bioconductor Package Maintainer
git_last_commit: 1bb91bb
git_last_commit_date: 2022-11-01 10:34:55 -0500
nebbiolo1Linux (Ubuntu 22.04.1 LTS) / x86_64  OK    OK    WARNINGS  UNNEEDED, same version is already published
palomino3Windows Server 2022 Datacenter / x64  OK    OK    WARNINGS    OK  UNNEEDED, same version is already published
merida1macOS 10.14.6 Mojave / x86_64  OK    ERROR  skippedskipped
Package 176/470HostnameOS / ArchINSTALLBUILDCHECKBUILD BIN
geneplotter 1.77.0  (landing page)
Bioconductor Package Maintainer
git_last_commit: c312361
git_last_commit_date: 2022-11-01 10:34:58 -0500
nebbiolo1Linux (Ubuntu 22.04.1 LTS) / x86_64  OK    OK    OK  UNNEEDED, same version is already published
palomino3Windows Server 2022 Datacenter / x64  OK    OK    OK    OK  UNNEEDED, same version is already published
merida1macOS 10.14.6 Mojave / x86_64  OK    OK    OK    OK  UNNEEDED, same version is already published
Package 177/470HostnameOS / ArchINSTALLBUILDCHECKBUILD BIN
GENESIS 2.29.0  (landing page)
Stephanie M. Gogarten
git_last_commit: 43d4cc8
git_last_commit_date: 2022-11-01 11:11:18 -0500
nebbiolo1Linux (Ubuntu 22.04.1 LTS) / x86_64  OK    OK    OK  UNNEEDED, same version is already published
palomino3Windows Server 2022 Datacenter / x64  OK    OK    OK    OK  NO, package depends on 'GenomicRanges' which is not available
merida1macOS 10.14.6 Mojave / x86_64  OK    OK    OK    OK  NO, package depends on 'BiocParallel' which is not available
Package 178/470HostnameOS / ArchINSTALLBUILDCHECKBUILD BIN
GenomAutomorphism 1.1.1  (landing page)
Robersy Sanchez
git_last_commit: 857771c
git_last_commit_date: 2022-11-24 14:43:08 -0500
nebbiolo1Linux (Ubuntu 22.04.1 LTS) / x86_64  OK    OK    OK  UNNEEDED, same version is already published
palomino3Windows Server 2022 Datacenter / x64  OK    OK    ERROR    OK  
merida1macOS 10.14.6 Mojave / x86_64  OK    OK    OK    OK  NO, package depends on 'BiocParallel' which is not available
Package 179/470HostnameOS / ArchINSTALLBUILDCHECKBUILD BIN
GenomeInfoDb 1.35.5  (landing page)
Hervé Pagès
git_last_commit: c41dffd
git_last_commit_date: 2022-11-18 20:24:28 -0500
nebbiolo1Linux (Ubuntu 22.04.1 LTS) / x86_64  OK    OK    WARNINGS  UNNEEDED, same version is already published
palomino3Windows Server 2022 Datacenter / x64  OK    OK    WARNINGS    OK  UNNEEDED, same version is already published
merida1macOS 10.14.6 Mojave / x86_64  OK    ERROR  skippedskipped
Package 180/470HostnameOS / ArchINSTALLBUILDCHECKBUILD BIN
genomeIntervals 1.55.0  (landing page)
Julien Gagneur
git_last_commit: 65437b0
git_last_commit_date: 2022-11-01 11:04:21 -0500
nebbiolo1Linux (Ubuntu 22.04.1 LTS) / x86_64  OK    OK    WARNINGS  UNNEEDED, same version is already published
palomino3Windows Server 2022 Datacenter / x64  OK    OK    WARNINGS    OK  NO, package depends on 'GenomicRanges' which is not available
merida1macOS 10.14.6 Mojave / x86_64  OK    ERROR  skippedskipped
Package 181/470HostnameOS / ArchINSTALLBUILDCHECKBUILD BIN
GenomicAlignments 1.35.0  (landing page)
Hervé Pagès
git_last_commit: 06a6074
git_last_commit_date: 2022-11-01 11:08:59 -0500
nebbiolo1Linux (Ubuntu 22.04.1 LTS) / x86_64  OK    OK    WARNINGS  UNNEEDED, same version is already published
palomino3Windows Server 2022 Datacenter / x64  OK    OK    WARNINGS    OK  NO, package depends on 'GenomicRanges' which is not available
merida1macOS 10.14.6 Mojave / x86_64  OK    OK    WARNINGS    OK  NO, package depends on 'Rsamtools' which is not available
Package 182/470HostnameOS / ArchINSTALLBUILDCHECKBUILD BIN
GenomicFeatures 1.51.2  (landing page)
H. Pagès
git_last_commit: df02299
git_last_commit_date: 2022-11-03 03:54:13 -0500
nebbiolo1Linux (Ubuntu 22.04.1 LTS) / x86_64  OK    OK    ERROR  
palomino3Windows Server 2022 Datacenter / x64  OK    OK    WARNINGS    OK  NO, package depends on 'GenomicRanges' which is not available
merida1macOS 10.14.6 Mojave / x86_64  OK    OK    WARNINGS    OK  NO, package depends on 'rtracklayer' which is not available
Package 183/470HostnameOS / ArchINSTALLBUILDCHECKBUILD BIN
GenomicFiles 1.35.0  (landing page)
Bioconductor Package Maintainer
git_last_commit: f96fdfd
git_last_commit_date: 2022-11-01 11:09:37 -0500
nebbiolo1Linux (Ubuntu 22.04.1 LTS) / x86_64  OK    OK    WARNINGS  UNNEEDED, same version is already published
palomino3Windows Server 2022 Datacenter / x64  OK    OK    WARNINGS    OK  NO, package depends on 'GenomicRanges' which is not available
merida1macOS 10.14.6 Mojave / x86_64  OK    ERROR  skippedskipped
Package 184/470HostnameOS / ArchINSTALLBUILDCHECKBUILD BIN
GenomicInteractions 1.33.0  (landing page)
Liz Ing-Simmons
git_last_commit: 9a34ccf
git_last_commit_date: 2022-11-01 11:10:21 -0500
nebbiolo1Linux (Ubuntu 22.04.1 LTS) / x86_64  OK    OK    OK  UNNEEDED, same version is already published
palomino3Windows Server 2022 Datacenter / x64  OK    OK    OK    OK  NO, package depends on 'InteractionSet' which is not available
merida1macOS 10.14.6 Mojave / x86_64  OK    OK    OK    OK  NO, package depends on 'Rsamtools' which is not available
Package 185/470HostnameOS / ArchINSTALLBUILDCHECKBUILD BIN
GenomicRanges 1.51.1  (landing page)
Hervé Pagès
git_last_commit: 1e7c646
git_last_commit_date: 2022-11-04 23:01:20 -0500
nebbiolo1Linux (Ubuntu 22.04.1 LTS) / x86_64  OK    OK    WARNINGS  UNNEEDED, same version is already published
palomino3Windows Server 2022 Datacenter / x64  OK    ERROR  skippedskipped
merida1macOS 10.14.6 Mojave / x86_64  OK    OK    WARNINGS    OK  UNNEEDED, same version is already published
Package 186/470HostnameOS / ArchINSTALLBUILDCHECKBUILD BIN
GenomicScores 2.11.0  (landing page)
Robert Castelo
git_last_commit: d78fec9
git_last_commit_date: 2022-11-01 11:15:32 -0500
nebbiolo1Linux (Ubuntu 22.04.1 LTS) / x86_64  OK    OK    WARNINGS  UNNEEDED, same version is already published
palomino3Windows Server 2022 Datacenter / x64  OK    OK    WARNINGS    OK  NO, package depends on 'GenomicRanges' which is not available
merida1macOS 10.14.6 Mojave / x86_64  OK    OK    WARNINGS    OK  UNNEEDED, same version is already published
Package 187/470HostnameOS / ArchINSTALLBUILDCHECKBUILD BIN
GenomicTuples 1.33.0  (landing page)
Peter Hickey
git_last_commit: 2d72eeb
git_last_commit_date: 2022-11-01 11:10:31 -0500
nebbiolo1Linux (Ubuntu 22.04.1 LTS) / x86_64  OK    OK    WARNINGS  UNNEEDED, same version is already published
palomino3Windows Server 2022 Datacenter / x64  OK    OK    WARNINGS    OK  NO, package depends on 'GenomicRanges' which is not available
merida1macOS 10.14.6 Mojave / x86_64  OK    OK    WARNINGS    OK  UNNEEDED, same version is already published
Package 188/470HostnameOS / ArchINSTALLBUILDCHECKBUILD BIN
genotypeeval 1.31.0  (landing page)
Jennifer Tom
git_last_commit: 5e3f17e
git_last_commit_date: 2022-11-01 11:11:55 -0500
nebbiolo1Linux (Ubuntu 22.04.1 LTS) / x86_64  OK    OK    ERROR  
palomino3Windows Server 2022 Datacenter / x64  OK    OK    ERROR    OK  
merida1macOS 10.14.6 Mojave / x86_64  OK    OK    ERROR    OK  
Package 189/470HostnameOS / ArchINSTALLBUILDCHECKBUILD BIN
GenVisR 1.31.0  (landing page)
Zachary Skidmore
git_last_commit: 2952fa0
git_last_commit_date: 2022-11-01 11:12:48 -0500
nebbiolo1Linux (Ubuntu 22.04.1 LTS) / x86_64  OK    OK    ERROR  
palomino3Windows Server 2022 Datacenter / x64  OK    OK    ERROR    OK  
merida1macOS 10.14.6 Mojave / x86_64  OK    OK    ERROR    OK  
Package 190/470HostnameOS / ArchINSTALLBUILDCHECKBUILD BIN
GeomxTools 3.3.0  (landing page)
Nicole Ortogero
git_last_commit: 9bd00a9
git_last_commit_date: 2022-11-01 11:23:52 -0500
nebbiolo1Linux (Ubuntu 22.04.1 LTS) / x86_64  OK    OK    WARNINGS  UNNEEDED, same version is already published
palomino3Windows Server 2022 Datacenter / x64  OK    OK    WARNINGS    OK  NO, package depends on 'NanoStringNCTools' which is not available
merida1macOS 10.14.6 Mojave / x86_64  OK    OK    TIMEOUT    OK  
Package 191/470HostnameOS / ArchINSTALLBUILDCHECKBUILD BIN
ggbio 1.47.0  (landing page)
Michael Lawrence
git_last_commit: 45abc27
git_last_commit_date: 2022-11-01 11:06:25 -0500
nebbiolo1Linux (Ubuntu 22.04.1 LTS) / x86_64  OK    OK    WARNINGS  UNNEEDED, same version is already published
palomino3Windows Server 2022 Datacenter / x64  OK    OK    WARNINGS    OK  NO, package depends on 'biovizBase' which is not available
merida1macOS 10.14.6 Mojave / x86_64  OK    OK    WARNINGS    OK  NO, package depends on 'biovizBase' which is not available
Package 192/470HostnameOS / ArchINSTALLBUILDCHECKBUILD BIN
girafe 1.51.0  (landing page)
J. Toedling
git_last_commit: 6dd5018
git_last_commit_date: 2022-11-01 11:04:57 -0500
nebbiolo1Linux (Ubuntu 22.04.1 LTS) / x86_64  OK    OK    OK  UNNEEDED, same version is already published
palomino3Windows Server 2022 Datacenter / x64  OK    OK    OK    OK  NO, package depends on 'Rsamtools' which is not available
merida1macOS 10.14.6 Mojave / x86_64  OK    OK    OK    OK  NO, package depends on 'Rsamtools' which is not available
Package 193/470HostnameOS / ArchINSTALLBUILDCHECKBUILD BIN
glmGamPoi 1.11.0  (landing page)
Constantin Ahlmann-Eltze
git_last_commit: 705787a
git_last_commit_date: 2022-11-01 11:21:46 -0500
nebbiolo1Linux (Ubuntu 22.04.1 LTS) / x86_64  OK    OK    OK  UNNEEDED, same version is already published
palomino3Windows Server 2022 Datacenter / x64  OK    OK    OK    OK  NO, package depends on 'SummarizedExperiment' which is not available
merida1macOS 10.14.6 Mojave / x86_64  OK    OK    OK    OK  UNNEEDED, same version is already published
Package 194/470HostnameOS / ArchINSTALLBUILDCHECKBUILD BIN
gmapR 1.41.0  (landing page)
Michael Lawrence
git_last_commit: fea773c
git_last_commit_date: 2022-11-01 11:07:10 -0500
nebbiolo1Linux (Ubuntu 22.04.1 LTS) / x86_64  OK    OK    WARNINGS  UNNEEDED, same version is already published
palomino3Windows Server 2022 Datacenter / x64... NOT SUPPORTED ...
merida1macOS 10.14.6 Mojave / x86_64  OK    OK    WARNINGS    OK  NO, package depends on 'Rsamtools' which is not available
Package 195/470HostnameOS / ArchINSTALLBUILDCHECKBUILD BIN
gmoviz 1.11.0  (landing page)
Kathleen Zeglinski
git_last_commit: 0739ba9
git_last_commit_date: 2022-11-01 11:21:38 -0500
nebbiolo1Linux (Ubuntu 22.04.1 LTS) / x86_64  OK    OK    OK  UNNEEDED, same version is already published
palomino3Windows Server 2022 Datacenter / x64  OK    OK    OK    OK  NO, package depends on 'GenomicRanges' which is not available
merida1macOS 10.14.6 Mojave / x86_64  OK    OK    OK    OK  NO, package depends on 'Rsamtools' which is not available
Package 196/470HostnameOS / ArchINSTALLBUILDCHECKBUILD BIN
goseq 1.51.0  (landing page)
Matthew Young , Nadia Davidson
git_last_commit: 41b21b6
git_last_commit_date: 2022-11-01 11:04:59 -0500
nebbiolo1Linux (Ubuntu 22.04.1 LTS) / x86_64  OK    OK    OK  UNNEEDED, same version is already published
palomino3Windows Server 2022 Datacenter / x64  OK    OK    OK    OK  UNNEEDED, same version is already published
merida1macOS 10.14.6 Mojave / x86_64  OK    OK    OK    OK  UNNEEDED, same version is already published
Package 197/470HostnameOS / ArchINSTALLBUILDCHECKBUILD BIN
GOTHiC 1.35.0  (landing page)
Borbala Mifsud
git_last_commit: a97a62c
git_last_commit_date: 2022-11-01 11:20:09 -0500
nebbiolo1Linux (Ubuntu 22.04.1 LTS) / x86_64  OK    OK    OK  UNNEEDED, same version is already published
palomino3Windows Server 2022 Datacenter / x64  OK    OK    OK    OK  NO, package depends on 'GenomicRanges' which is not available
merida1macOS 10.14.6 Mojave / x86_64  OK    OK    OK    OK  NO, package depends on 'BSgenome' which is not available
Package 198/470HostnameOS / ArchINSTALLBUILDCHECKBUILD BIN
gpuMagic 1.15.0  (landing page)
Jiefei Wang
git_last_commit: b0dab1d
git_last_commit_date: 2022-11-01 11:19:49 -0500
nebbiolo1Linux (Ubuntu 22.04.1 LTS) / x86_64  OK    OK    OK  UNNEEDED, same version is already published
palomino3Windows Server 2022 Datacenter / x64  OK    OK    OK    OK  UNNEEDED, same version is already published
merida1macOS 10.14.6 Mojave / x86_64  OK    OK    OK    OK  UNNEEDED, same version is already published
Package 199/470HostnameOS / ArchINSTALLBUILDCHECKBUILD BIN
graph 1.77.0  (landing page)
Bioconductor Package Maintainer
git_last_commit: 7522c5c
git_last_commit_date: 2022-11-01 10:35:27 -0500
nebbiolo1Linux (Ubuntu 22.04.1 LTS) / x86_64  OK    OK    OK  UNNEEDED, same version is already published
palomino3Windows Server 2022 Datacenter / x64  OK    OK    OK    OK  UNNEEDED, same version is already published
merida1macOS 10.14.6 Mojave / x86_64  OK    OK    OK    OK  UNNEEDED, same version is already published
Package 200/470HostnameOS / ArchINSTALLBUILDCHECKBUILD BIN
GSEABase 1.61.0  (landing page)
Bioconductor Package Maintainer
git_last_commit: 1d30521
git_last_commit_date: 2022-11-01 11:03:29 -0500
nebbiolo1Linux (Ubuntu 22.04.1 LTS) / x86_64  OK    OK    OK  UNNEEDED, same version is already published
palomino3Windows Server 2022 Datacenter / x64  OK    OK    OK    OK  UNNEEDED, same version is already published
merida1macOS 10.14.6 Mojave / x86_64  OK    OK    OK    OK  UNNEEDED, same version is already published
Package 201/470HostnameOS / ArchINSTALLBUILDCHECKBUILD BIN
GUIDEseq 1.29.4  (landing page)
Lihua Julie Zhu
git_last_commit: a1608c6
git_last_commit_date: 2022-11-21 23:35:38 -0500
nebbiolo1Linux (Ubuntu 22.04.1 LTS) / x86_64  OK    OK    WARNINGS  UNNEEDED, same version is already published
palomino3Windows Server 2022 Datacenter / x64  OK    OK    WARNINGS    OK  NO, package depends on 'GenomicRanges' which is not available
merida1macOS 10.14.6 Mojave / x86_64  OK    OK    WARNINGS    OK  NO, package depends on 'CRISPRseek' which is not available
Package 202/470HostnameOS / ArchINSTALLBUILDCHECKBUILD BIN
Gviz 1.43.0  (landing page)
Robert Ivanek
git_last_commit: aefa8d1
git_last_commit_date: 2022-11-01 11:06:41 -0500
nebbiolo1Linux (Ubuntu 22.04.1 LTS) / x86_64  OK    OK    ERROR  
palomino3Windows Server 2022 Datacenter / x64  OK    OK    WARNINGS    OK  NO, package depends on 'GenomicRanges' which is not available
merida1macOS 10.14.6 Mojave / x86_64  OK    OK    WARNINGS    OK  NO, package depends on 'rtracklayer' which is not available
Package 203/470HostnameOS / ArchINSTALLBUILDCHECKBUILD BIN
HDF5Array 1.27.0  (landing page)
Hervé Pagès
git_last_commit: 7c1f873
git_last_commit_date: 2022-11-01 11:13:03 -0500
nebbiolo1Linux (Ubuntu 22.04.1 LTS) / x86_64  OK    OK    OK  UNNEEDED, same version is already published
palomino3Windows Server 2022 Datacenter / x64  OK    OK    OK    OK  UNNEEDED, same version is already published
merida1macOS 10.14.6 Mojave / x86_64  OK    OK    OK    OK  UNNEEDED, same version is already published
Package 204/470HostnameOS / ArchINSTALLBUILDCHECKBUILD BIN
heatmaps 1.23.0  (landing page)
Malcolm Perry
git_last_commit: 745e9b9
git_last_commit_date: 2022-11-01 11:15:40 -0500
nebbiolo1Linux (Ubuntu 22.04.1 LTS) / x86_64  OK    OK    OK  UNNEEDED, same version is already published
palomino3Windows Server 2022 Datacenter / x64  OK    OK    OK    OK  NO, package depends on 'GenomicRanges' which is not available
merida1macOS 10.14.6 Mojave / x86_64  OK    OK    OK    OK  UNNEEDED, same version is already published
Package 205/470HostnameOS / ArchINSTALLBUILDCHECKBUILD BIN
HelloRanges 1.25.0  (landing page)
Michael Lawrence
git_last_commit: cd2ba49
git_last_commit_date: 2022-11-01 11:14:42 -0500
nebbiolo1Linux (Ubuntu 22.04.1 LTS) / x86_64  OK    OK    OK  UNNEEDED, same version is already published
palomino3Windows Server 2022 Datacenter / x64  OK    OK    OK    OK  NO, package depends on 'GenomicRanges' which is not available
merida1macOS 10.14.6 Mojave / x86_64  OK    OK    OK    OK  NO, package depends on 'BSgenome' which is not available