Back to Multiple platform build/check report for BioC 3.16
ABCDEFGHIJKL[M]NOPQRSTUVWXYZ

This page was generated on 2022-08-18 11:08:17 -0400 (Thu, 18 Aug 2022).

HostnameOSArch (*)R versionInstalled pkgs
nebbiolo2Linux (Ubuntu 20.04.4 LTS)x86_644.2.1 (2022-06-23) -- "Funny-Looking Kid" 4379
palomino4Windows Server 2022 Datacenterx644.2.1 (2022-06-23 ucrt) -- "Funny-Looking Kid" 4161
lconwaymacOS 12.2.1 Montereyx86_644.2.1 Patched (2022-07-09 r82577) -- "Funny-Looking Kid" 4169
Click on any hostname to see more info about the system (e.g. compilers)      (*) as reported by 'uname -p', except on Windows and Mac OS X

BUILD BIN results for monocle on lconway


To the developers/maintainers of the monocle package:
- Please allow up to 24 hours (and sometimes 48 hours) for your latest push to git@git.bioconductor.org:packages/monocle.git to
reflect on this report. See How and When does the builder pull? When will my changes propagate? for more information.
- Make sure to use the following settings in order to reproduce any error or warning you see on this page.

raw results

Package 1226/2140HostnameOS / ArchINSTALLBUILDCHECKBUILD BIN
monocle 2.25.1  (landing page)
Cole Trapnell
Snapshot Date: 2022-08-17 14:00:04 -0400 (Wed, 17 Aug 2022)
git_url: https://git.bioconductor.org/packages/monocle
git_branch: master
git_last_commit: df410d6
git_last_commit_date: 2022-06-08 17:26:28 -0400 (Wed, 08 Jun 2022)
nebbiolo2Linux (Ubuntu 20.04.4 LTS) / x86_64  OK    OK    OK  UNNEEDED, same version is already published
palomino4Windows Server 2022 Datacenter / x64  OK    OK    OK    OK  UNNEEDED, same version is already published
lconwaymacOS 12.2.1 Monterey / x86_64  OK    OK    OK    OK  UNNEEDED, same version is already published

Summary

Package: monocle
Version: 2.25.1
Command: rm -rf monocle.buildbin-libdir && mkdir monocle.buildbin-libdir && /Users/biocbuild/BBS/utils/build-universal.sh monocle_2.25.1.tar.gz /Library/Frameworks/R.framework/Resources/bin/R monocle.buildbin-libdir
StartedAt: 2022-08-17 23:47:14 -0400 (Wed, 17 Aug 2022)
EndedAt: 2022-08-17 23:47:51 -0400 (Wed, 17 Aug 2022)
EllapsedTime: 36.1 seconds
RetCode: 0
Status:   OK  
PackageFile: monocle_2.25.1.tgz
PackageFileSize: 1.404 MiB

Command output

##############################################################################
##############################################################################
###
### Running command:
###
###   rm -rf monocle.buildbin-libdir && mkdir monocle.buildbin-libdir && /Users/biocbuild/BBS/utils/build-universal.sh monocle_2.25.1.tar.gz /Library/Frameworks/R.framework/Resources/bin/R monocle.buildbin-libdir
###
##############################################################################
##############################################################################


>>>>>>> 
>>>>>>> INSTALLATION WITH 'R CMD INSTALL --preclean --no-multiarch --library=monocle.buildbin-libdir monocle_2.25.1.tar.gz'
>>>>>>> 

* installing *source* package ‘monocle’ ...
** using staged installation
** libs
clang++ -mmacosx-version-min=10.13 -std=gnu++14 -I"/Library/Frameworks/R.framework/Resources/include" -DNDEBUG  -I'/Library/Frameworks/R.framework/Versions/4.2/Resources/library/Rcpp/include' -I/usr/local/include   -fPIC  -Wall -g -O2  -c RcppExports.cpp -o RcppExports.o
clang++ -mmacosx-version-min=10.13 -std=gnu++14 -I"/Library/Frameworks/R.framework/Resources/include" -DNDEBUG  -I'/Library/Frameworks/R.framework/Versions/4.2/Resources/library/Rcpp/include' -I/usr/local/include   -fPIC  -Wall -g -O2  -c clustering.cpp -o clustering.o
clang++ -mmacosx-version-min=10.13 -std=gnu++14 -dynamiclib -Wl,-headerpad_max_install_names -undefined dynamic_lookup -single_module -multiply_defined suppress -L/Library/Frameworks/R.framework/Resources/lib -L/usr/local/lib -o monocle.so RcppExports.o clustering.o -F/Library/Frameworks/R.framework/.. -framework R -Wl,-framework -Wl,CoreFoundation
installing to /Users/biocbuild/bbs-3.16-bioc/meat/monocle.buildbin-libdir/00LOCK-monocle/00new/monocle/libs
** R
** data
*** moving datasets to lazyload DB
** inst
** byte-compile and prepare package for lazy loading
** help
*** installing help indices
** building package indices
** installing vignettes
** testing if installed package can be loaded from temporary location
** checking absolute paths in shared objects and dynamic libraries
** testing if installed package can be loaded from final location
** testing if installed package keeps a record of temporary installation path
* DONE (monocle)


>>>>>>> 
>>>>>>> FIXING LINKS FOR monocle.buildbin-libdir/monocle/libs/monocle.so
>>>>>>> 

install_name_tool -change "/usr/local/lib/libgcc_s.1.dylib" "/Library/Frameworks/R.framework/Versions/4.2/Resources/lib/libgcc_s.1.dylib" "monocle.buildbin-libdir/monocle/libs/monocle.so"
install_name_tool -change "/usr/local/lib/libgfortran.5.dylib" "/Library/Frameworks/R.framework/Versions/4.2/Resources/lib/libgfortran.5.dylib" "monocle.buildbin-libdir/monocle/libs/monocle.so"
install_name_tool -change "/usr/local/lib/libquadmath.0.dylib" "/Library/Frameworks/R.framework/Versions/4.2/Resources/lib/libquadmath.0.dylib" "monocle.buildbin-libdir/monocle/libs/monocle.so"