Back to Multiple platform build/check report for BioC 3.18:   simplified   long
A[B]CDEFGHIJKLMNOPQRSTUVWXYZ

This page was generated on 2023-06-08 13:01:54 -0400 (Thu, 08 Jun 2023).

HostnameOSArch (*)R versionInstalled pkgs
nebbiolo2Linux (Ubuntu 22.04.2 LTS)x86_644.3.0 RC (2023-04-18 r84287) -- "Already Tomorrow" 4598
palomino4Windows Server 2022 Datacenterx644.3.0 RC (2023-04-18 r84287 ucrt) -- "Already Tomorrow" 4347
lconwaymacOS 12.6.5 Montereyx86_644.3.0 RC (2023-04-13 r84266) -- "Already Tomorrow" 4354
kunpeng2Linux (openEuler 22.03 LTS-SP1)aarch644.3.0 (2023-04-21) -- "Already Tomorrow" 4379
Click on any hostname to see more info about the system (e.g. compilers)      (*) as reported by 'uname -p', except on Windows and Mac OS X

All results for package basilisk.utils


The builds on kunpeng2 (Linux ARM64) are experimental!
To the developers/maintainers of the basilisk.utils package:
- Allow up to 24 hours (and sometimes 48 hours) for your latest push to git@git.bioconductor.org:packages/basilisk.utils.git to reflect on this report. See Troubleshooting Build Report for more information.
- Use the following Renviron settings to reproduce errors and warnings.
- If 'R CMD check' started to fail recently on the Linux builder(s) over a missing dependency, add the missing dependency to 'Suggests:' in your DESCRIPTION file. See Renviron.bioc for more information.

raw results

Package 131/2199HostnameOS / ArchINSTALLBUILDCHECKBUILD BIN
basilisk.utils 1.13.1  (landing page)
Aaron Lun
Snapshot Date: 2023-06-07 14:00:08 -0400 (Wed, 07 Jun 2023)
git_url: https://git.bioconductor.org/packages/basilisk.utils
git_branch: devel
git_last_commit: ae9bc9e
git_last_commit_date: 2023-05-19 12:03:53 -0400 (Fri, 19 May 2023)
nebbiolo2Linux (Ubuntu 22.04.2 LTS) / x86_64  OK    OK    OK  UNNEEDED, same version is already published
palomino4Windows Server 2022 Datacenter / x64  OK    OK    OK    OK  UNNEEDED, same version is already published
lconwaymacOS 12.6.5 Monterey / x86_64  OK    OK    OK    OK  UNNEEDED, same version is already published
kunpeng2Linux (openEuler 22.03 LTS-SP1) / aarch64  OK    OK    OK  

Results for Bioconductor software packages that depend directly on package basilisk.utils

QUICK STATSOS / ArchINSTALLBUILDCHECKBUILD BIN
nebbiolo2Linux (Ubuntu 22.04.2 LTS) / x86_64
002
002
0002
palomino4Windows Server 2022 Datacenter / x64
002
002
1001
002
lconwaymacOS 12.6.5 Monterey / x86_64
002
002
0002
002
kunpeng2Linux (openEuler 22.03 LTS-SP1) / aarch64
002
002
0002
Package 1/2HostnameOS / ArchINSTALLBUILDCHECKBUILD BIN
basilisk 1.13.1  (landing page)
Aaron Lun
git_last_commit: da13e7f
git_last_commit_date: 2023-06-07 02:59:19 -0400
nebbiolo2Linux (Ubuntu 22.04.2 LTS) / x86_64  OK    OK    OK  UNNEEDED, same version is already published
palomino4Windows Server 2022 Datacenter / x64  OK    OK    TIMEOUT    OK  
lconwaymacOS 12.6.5 Monterey / x86_64  OK    OK    OK    OK  UNNEEDED, same version is already published
kunpeng2Linux (openEuler 22.03 LTS-SP1) / aarch64  OK    OK    OK  
Package 2/2HostnameOS / ArchINSTALLBUILDCHECKBUILD BIN
crisprScore 1.5.0  (landing page)
Jean-Philippe Fortin
git_last_commit: b3a100b
git_last_commit_date: 2023-04-25 11:35:22 -0400
nebbiolo2Linux (Ubuntu 22.04.2 LTS) / x86_64  OK    OK    OK  UNNEEDED, same version is already published
palomino4Windows Server 2022 Datacenter / x64  OK    OK    OK    OK  NO, package depends on 'basilisk' which is not available
lconwaymacOS 12.6.5 Monterey / x86_64  OK    OK    OK    OK  UNNEEDED, same version is already published
kunpeng2Linux (openEuler 22.03 LTS-SP1) / aarch64  OK    OK    OK