Back to Multiple platform build/check report for BioC 3.18: simplified long |
|
This page was generated on 2023-09-22 11:36:42 -0400 (Fri, 22 Sep 2023).
Hostname | OS | Arch (*) | R version | Installed pkgs |
---|---|---|---|---|
nebbiolo2 | Linux (Ubuntu 22.04.2 LTS) | x86_64 | 4.3.1 (2023-06-16) -- "Beagle Scouts" | 4659 |
palomino4 | Windows Server 2022 Datacenter | x64 | 4.3.1 (2023-06-16 ucrt) -- "Beagle Scouts" | 4394 |
lconway | macOS 12.6.5 Monterey | x86_64 | 4.3.1 Patched (2023-06-17 r84564) -- "Beagle Scouts" | 4408 |
kunpeng2 | Linux (openEuler 22.03 LTS-SP1) | aarch64 | 4.3.1 (2023-06-16) -- "Beagle Scouts" | 4397 |
Click on any hostname to see more info about the system (e.g. compilers) (*) as reported by 'uname -p', except on Windows and Mac OS X |
Package 868/2233 | Hostname | OS / Arch | INSTALL | BUILD | CHECK | BUILD BIN | ||||||||
goProfiles 1.63.0 (landing page) Alex Sanchez
| nebbiolo2 | Linux (Ubuntu 22.04.2 LTS) / x86_64 | OK | OK | OK | ![]() | ||||||||
palomino4 | Windows Server 2022 Datacenter / x64 | OK | OK | OK | OK | ![]() | ||||||||
lconway | macOS 12.6.5 Monterey / x86_64 | OK | OK | OK | OK | ![]() | ||||||||
kunpeng2 | Linux (openEuler 22.03 LTS-SP1) / aarch64 | OK | OK | OK | ||||||||||
To the developers/maintainers of the goProfiles package: - Allow up to 24 hours (and sometimes 48 hours) for your latest push to git@git.bioconductor.org:packages/goProfiles.git to reflect on this report. See Troubleshooting Build Report for more information. - Use the following Renviron settings to reproduce errors and warnings. - If 'R CMD check' started to fail recently on the Linux builder(s) over a missing dependency, add the missing dependency to 'Suggests:' in your DESCRIPTION file. See Renviron.bioc for more information. |
Package: goProfiles |
Version: 1.63.0 |
Command: /home/biocbuild/bbs-3.18-bioc/R/bin/R CMD check --install=check:goProfiles.install-out.txt --library=/home/biocbuild/bbs-3.18-bioc/R/site-library --timings goProfiles_1.63.0.tar.gz |
StartedAt: 2023-09-21 22:20:18 -0400 (Thu, 21 Sep 2023) |
EndedAt: 2023-09-21 22:23:34 -0400 (Thu, 21 Sep 2023) |
EllapsedTime: 195.6 seconds |
RetCode: 0 |
Status: OK |
CheckDir: goProfiles.Rcheck |
Warnings: 0 |
############################################################################## ############################################################################## ### ### Running command: ### ### /home/biocbuild/bbs-3.18-bioc/R/bin/R CMD check --install=check:goProfiles.install-out.txt --library=/home/biocbuild/bbs-3.18-bioc/R/site-library --timings goProfiles_1.63.0.tar.gz ### ############################################################################## ############################################################################## * using log directory ‘/home/biocbuild/bbs-3.18-bioc/meat/goProfiles.Rcheck’ * using R version 4.3.1 (2023-06-16) * using platform: x86_64-pc-linux-gnu (64-bit) * R was compiled by gcc (Ubuntu 11.3.0-1ubuntu1~22.04.1) 11.3.0 GNU Fortran (Ubuntu 11.3.0-1ubuntu1~22.04.1) 11.3.0 * running under: Ubuntu 22.04.3 LTS * using session charset: UTF-8 * checking for file ‘goProfiles/DESCRIPTION’ ... OK * checking extension type ... Package * this is package ‘goProfiles’ version ‘1.63.0’ * checking package namespace information ... OK * checking package dependencies ... OK * checking if this is a source package ... OK * checking if there is a namespace ... OK * checking for hidden files and directories ... OK * checking for portable file names ... OK * checking for sufficient/correct file permissions ... OK * checking whether package ‘goProfiles’ can be installed ... OK * checking installed package size ... OK * checking package directory ... OK * checking ‘build’ directory ... OK * checking DESCRIPTION meta-information ... OK * checking top-level files ... OK * checking for left-over files ... OK * checking index information ... OK * checking package subdirectories ... OK * checking R files for non-ASCII characters ... OK * checking R files for syntax errors ... OK * checking whether the package can be loaded ... OK * checking whether the package can be loaded with stated dependencies ... OK * checking whether the package can be unloaded cleanly ... OK * checking whether the namespace can be loaded with stated dependencies ... OK * checking whether the namespace can be unloaded cleanly ... OK * checking loading without being on the library search path ... OK * checking dependencies in R code ... OK * checking S3 generic/method consistency ... OK * checking replacement functions ... OK * checking foreign function calls ... OK * checking R code for possible problems ... OK * checking Rd files ... NOTE checkRd: (-1) compareGeneLists.Rd:6: Escaped LaTeX specials: \~ checkRd: (-1) compareProfilesLists.Rd:7: Escaped LaTeX specials: \~ * checking Rd metadata ... OK * checking Rd cross-references ... OK * checking for missing documentation entries ... OK * checking for code/documentation mismatches ... OK * checking Rd \usage sections ... OK * checking Rd contents ... OK * checking for unstated dependencies in examples ... OK * checking contents of ‘data’ directory ... OK * checking data for non-ASCII characters ... OK * checking data for ASCII and uncompressed saves ... OK * checking installed files from ‘inst/doc’ ... OK * checking files in ‘vignettes’ ... OK * checking examples ... OK Examples with CPU (user + system) or elapsed time > 5s user system elapsed compareGeneLists 14.597 0.188 14.785 equivalentGOProfiles 9.639 0.092 9.732 * checking for unstated dependencies in vignettes ... OK * checking package vignettes in ‘inst/doc’ ... OK * checking running R code from vignettes ... ‘goProfiles.Rnw’... OK OK * checking re-building of vignette outputs ... OK * checking PDF version of manual ... OK * DONE Status: 1 NOTE See ‘/home/biocbuild/bbs-3.18-bioc/meat/goProfiles.Rcheck/00check.log’ for details.
goProfiles.Rcheck/00install.out
############################################################################## ############################################################################## ### ### Running command: ### ### /home/biocbuild/bbs-3.18-bioc/R/bin/R CMD INSTALL goProfiles ### ############################################################################## ############################################################################## * installing to library ‘/home/biocbuild/bbs-3.18-bioc/R/site-library’ * installing *source* package ‘goProfiles’ ... ** using staged installation ** R ** data ** inst ** byte-compile and prepare package for lazy loading ** help *** installing help indices ** building package indices ** installing vignettes ** testing if installed package can be loaded from temporary location ** testing if installed package can be loaded from final location ** testing if installed package keeps a record of temporary installation path * DONE (goProfiles)
goProfiles.Rcheck/goProfiles-Ex.timings
name | user | system | elapsed | |
CD4ids | 0.003 | 0.001 | 0.003 | |
GOTermsList | 0.000 | 0.000 | 0.001 | |
basicProfile | 3.023 | 0.236 | 3.260 | |
compSummary | 0.000 | 0.000 | 0.001 | |
compareGOProfiles | 2.746 | 0.080 | 2.826 | |
compareGeneLists | 14.597 | 0.188 | 14.785 | |
compareProfilesLists | 0 | 0 | 0 | |
contractedProfile | 1.400 | 0.024 | 1.424 | |
conversionFunctions | 0.030 | 0.001 | 0.030 | |
drosophila | 0.000 | 0.001 | 0.002 | |
equivClust | 0 | 0 | 0 | |
equivClust2pdf | 0.018 | 0.000 | 0.017 | |
equivSummary | 0 | 0 | 0 | |
equivalentGOProfiles | 9.639 | 0.092 | 9.732 | |
expandedLevel | 0.749 | 0.003 | 0.753 | |
expandedProfile | 0.602 | 0.001 | 0.601 | |
fisherGOProfiles | 4.233 | 0.044 | 4.278 | |
fitGOProfile | 0 | 0 | 0 | |
hugoIds | 0.011 | 0.000 | 0.011 | |
iterEquivClust | 0 | 0 | 0 | |
mergeProfilesLists | 3.975 | 0.040 | 4.014 | |
ngenes | 1.312 | 0.032 | 1.344 | |
omimIds | 0.002 | 0.004 | 0.005 | |
plotProfiles | 3.579 | 0.020 | 3.599 | |
printProfiles | 3.770 | 0.036 | 3.807 | |
prostateIds | 0.004 | 0.000 | 0.003 | |