Back to Multiple platform build/check report for BioC 3.19:   simplified   long
ABCDEFGHIJKLMNOPQRS[T]UVWXYZ

This page was generated on 2024-03-04 11:36:17 -0500 (Mon, 04 Mar 2024).

HostnameOSArch (*)R versionInstalled pkgs
nebbiolo1Linux (Ubuntu 22.04.3 LTS)x86_64R Under development (unstable) (2024-01-16 r85808) -- "Unsuffered Consequences" 4676
palomino3Windows Server 2022 Datacenterx64R Under development (unstable) (2024-01-14 r85805 ucrt) -- "Unsuffered Consequences" 4414
merida1macOS 12.7.1 Montereyx86_64R Under development (unstable) (2024-01-16 r85808) -- "Unsuffered Consequences" 4441
kunpeng2Linux (openEuler 22.03 LTS-SP1)aarch64R Under development (unstable) (2024-01-16 r85812) -- "Unsuffered Consequences" 4417
Click on any hostname to see more info about the system (e.g. compilers)      (*) as reported by 'uname -p', except on Windows and Mac OS X

All results for package TFBSTools


To the developers/maintainers of the TFBSTools package:
- Allow up to 24 hours (and sometimes 48 hours) for your latest push to git@git.bioconductor.org:packages/TFBSTools.git to reflect on this report. See Troubleshooting Build Report for more information.
- Use the following Renviron settings to reproduce errors and warnings.
- If 'R CMD check' started to fail recently on the Linux builder(s) over a missing dependency, add the missing dependency to 'Suggests:' in your DESCRIPTION file. See Renviron.bioc for more information.

raw results

Package 2106/2251HostnameOS / ArchINSTALLBUILDCHECKBUILD BIN
TFBSTools 1.41.0  (landing page)
Ge Tan
Snapshot Date: 2024-03-01 14:00:22 -0500 (Fri, 01 Mar 2024)
git_url: https://git.bioconductor.org/packages/TFBSTools
git_branch: devel
git_last_commit: 0bc27e4
git_last_commit_date: 2023-10-24 09:56:29 -0500 (Tue, 24 Oct 2023)
nebbiolo1Linux (Ubuntu 22.04.3 LTS) / x86_64  OK    OK    OK  UNNEEDED, same version is already published
palomino3Windows Server 2022 Datacenter / x64  OK    OK    OK    OK  UNNEEDED, same version is already published
merida1macOS 12.7.1 Monterey / x86_64  OK    OK    OK    OK  UNNEEDED, same version is already published
kunpeng2Linux (openEuler 22.03 LTS-SP1) / aarch64  OK    OK    OK  

Results for Bioconductor software packages that depend directly on package TFBSTools

QUICK STATSOS / ArchINSTALLBUILDCHECKBUILD BIN
nebbiolo1Linux (Ubuntu 22.04.3 LTS) / x86_64
0111
0111
0128
palomino3Windows Server 2022 Datacenter / x64
0111
0111
0029
0011
merida1macOS 12.7.1 Monterey / x86_64
0012
0012
0039
0012
kunpeng2Linux (openEuler 22.03 LTS-SP1) / aarch64
0012
0012
0129
Package 1/12HostnameOS / ArchINSTALLBUILDCHECKBUILD BIN
ATACCoGAPS 1.5.0  (landing page)
Rossin Erbe
git_last_commit: e9769e5
git_last_commit_date: 2023-10-24 11:42:56 -0500
nebbiolo1Linux (Ubuntu 22.04.3 LTS) / x86_64  ERROR    ERROR  skipped
palomino3Windows Server 2022 Datacenter / x64  ERROR    ERROR  skippedskipped
merida1macOS 12.7.1 Monterey / x86_64  OK    OK    OK    OK  UNNEEDED, same version is already published
kunpeng2Linux (openEuler 22.03 LTS-SP1) / aarch64  OK    OK    OK  
Package 2/12HostnameOS / ArchINSTALLBUILDCHECKBUILD BIN
ATACseqTFEA 1.5.1  (landing page)
Jianhong Ou
git_last_commit: bd2f07b
git_last_commit_date: 2024-02-05 17:31:24 -0500
nebbiolo1Linux (Ubuntu 22.04.3 LTS) / x86_64  OK    OK    OK  UNNEEDED, same version is already published
palomino3Windows Server 2022 Datacenter / x64  OK    OK    OK    OK  UNNEEDED, same version is already published
merida1macOS 12.7.1 Monterey / x86_64  OK    OK    OK    OK  UNNEEDED, same version is already published
kunpeng2Linux (openEuler 22.03 LTS-SP1) / aarch64  OK    OK    OK  
Package 3/12HostnameOS / ArchINSTALLBUILDCHECKBUILD BIN
chromVAR 1.25.0  (landing page)
Alicia Schep
git_last_commit: 4dc365e
git_last_commit_date: 2023-10-24 11:00:14 -0500
nebbiolo1Linux (Ubuntu 22.04.3 LTS) / x86_64  OK    OK    OK  UNNEEDED, same version is already published
palomino3Windows Server 2022 Datacenter / x64  OK    OK    OK    OK  UNNEEDED, same version is already published
merida1macOS 12.7.1 Monterey / x86_64  OK    OK    OK    OK  UNNEEDED, same version is already published
kunpeng2Linux (openEuler 22.03 LTS-SP1) / aarch64  OK    OK    OK  
Package 4/12HostnameOS / ArchINSTALLBUILDCHECKBUILD BIN
enrichTF 1.19.1  (landing page)
Zheng Wei
git_last_commit: fded8c9
git_last_commit_date: 2024-02-29 13:09:49 -0500
nebbiolo1Linux (Ubuntu 22.04.3 LTS) / x86_64  OK    OK    ERROR  
palomino3Windows Server 2022 Datacenter / x64  OK    OK    WARNINGS    OK  YES
merida1macOS 12.7.1 Monterey / x86_64  OK    OK    WARNINGS    OK  YES
kunpeng2Linux (openEuler 22.03 LTS-SP1) / aarch64  OK    OK    ERROR  
Package 5/12HostnameOS / ArchINSTALLBUILDCHECKBUILD BIN
esATAC 1.25.0  (landing page)
Zheng Wei
git_last_commit: c979e6e
git_last_commit_date: 2023-10-24 11:01:27 -0500
nebbiolo1Linux (Ubuntu 22.04.3 LTS) / x86_64  OK    OK    OK  UNNEEDED, same version is already published
palomino3Windows Server 2022 Datacenter / x64  OK    OK    OK    OK  UNNEEDED, same version is already published
merida1macOS 12.7.1 Monterey / x86_64  OK    OK    OK    OK  UNNEEDED, same version is already published
kunpeng2Linux (openEuler 22.03 LTS-SP1) / aarch64  OK    OK    OK  
Package 6/12HostnameOS / ArchINSTALLBUILDCHECKBUILD BIN
MatrixRider 1.35.0  (landing page)
Elena Grassi
git_last_commit: a10e8a6
git_last_commit_date: 2023-10-24 10:42:04 -0500
nebbiolo1Linux (Ubuntu 22.04.3 LTS) / x86_64  OK    OK    WARNINGS  UNNEEDED, same version is already published
palomino3Windows Server 2022 Datacenter / x64  OK    OK    OK    OK  UNNEEDED, same version is already published
merida1macOS 12.7.1 Monterey / x86_64  OK    OK    WARNINGS    OK  UNNEEDED, same version is already published
kunpeng2Linux (openEuler 22.03 LTS-SP1) / aarch64  OK    OK    WARNINGS  
Package 7/12HostnameOS / ArchINSTALLBUILDCHECKBUILD BIN
MethReg 1.13.5  (landing page)
Tiago Silva
git_last_commit: 5e79625
git_last_commit_date: 2024-01-25 10:57:38 -0500
nebbiolo1Linux (Ubuntu 22.04.3 LTS) / x86_64  OK    OK    OK  UNNEEDED, same version is already published
palomino3Windows Server 2022 Datacenter / x64  OK    OK    OK    OK  UNNEEDED, same version is already published
merida1macOS 12.7.1 Monterey / x86_64  OK    OK    OK    OK  UNNEEDED, same version is already published
kunpeng2Linux (openEuler 22.03 LTS-SP1) / aarch64  OK    OK    OK  
Package 8/12HostnameOS / ArchINSTALLBUILDCHECKBUILD BIN
monaLisa 1.9.0  (landing page)
Michael Stadler
git_last_commit: f0d6458
git_last_commit_date: 2023-11-01 05:14:49 -0500
nebbiolo1Linux (Ubuntu 22.04.3 LTS) / x86_64  OK    OK    OK  UNNEEDED, same version is already published
palomino3Windows Server 2022 Datacenter / x64  OK    OK    OK    OK  UNNEEDED, same version is already published
merida1macOS 12.7.1 Monterey / x86_64  OK    OK    OK    OK  UNNEEDED, same version is already published
kunpeng2Linux (openEuler 22.03 LTS-SP1) / aarch64  OK    OK    OK  
Package 9/12HostnameOS / ArchINSTALLBUILDCHECKBUILD BIN
motifmatchr 1.25.0  (landing page)
Alicia Schep
git_last_commit: 9ae0e17
git_last_commit_date: 2023-10-24 10:57:39 -0500
nebbiolo1Linux (Ubuntu 22.04.3 LTS) / x86_64  OK    OK    OK  UNNEEDED, same version is already published
palomino3Windows Server 2022 Datacenter / x64  OK    OK    OK    OK  UNNEEDED, same version is already published
merida1macOS 12.7.1 Monterey / x86_64  OK    OK    OK    OK  UNNEEDED, same version is already published
kunpeng2Linux (openEuler 22.03 LTS-SP1) / aarch64  OK    OK    OK  
Package 10/12HostnameOS / ArchINSTALLBUILDCHECKBUILD BIN
motifStack 1.47.1  (landing page)
Jianhong Ou
git_last_commit: 6f997af
git_last_commit_date: 2024-01-03 11:17:49 -0500
nebbiolo1Linux (Ubuntu 22.04.3 LTS) / x86_64  OK    OK    OK  UNNEEDED, same version is already published
palomino3Windows Server 2022 Datacenter / x64  OK    OK    OK    OK  UNNEEDED, same version is already published
merida1macOS 12.7.1 Monterey / x86_64  OK    OK    OK    OK  UNNEEDED, same version is already published
kunpeng2Linux (openEuler 22.03 LTS-SP1) / aarch64  OK    OK    OK  
Package 11/12HostnameOS / ArchINSTALLBUILDCHECKBUILD BIN
primirTSS 1.21.0  (landing page)
Pumin Li
git_last_commit: 6e0c645
git_last_commit_date: 2023-10-24 11:07:37 -0500
nebbiolo1Linux (Ubuntu 22.04.3 LTS) / x86_64  OK    OK    WARNINGS  UNNEEDED, same version is already published
palomino3Windows Server 2022 Datacenter / x64  OK    OK    WARNINGS    OK  UNNEEDED, same version is already published
merida1macOS 12.7.1 Monterey / x86_64  OK    OK    WARNINGS    OK  UNNEEDED, same version is already published
kunpeng2Linux (openEuler 22.03 LTS-SP1) / aarch64  OK    OK    WARNINGS  
Package 12/12HostnameOS / ArchINSTALLBUILDCHECKBUILD BIN
spatzie 1.9.0  (landing page)
Jennifer Hammelman
git_last_commit: 4e99506
git_last_commit_date: 2023-10-24 11:35:19 -0500
nebbiolo1Linux (Ubuntu 22.04.3 LTS) / x86_64  OK    OK    OK  UNNEEDED, same version is already published
palomino3Windows Server 2022 Datacenter / x64  OK    OK    OK    OK  UNNEEDED, same version is already published
merida1macOS 12.7.1 Monterey / x86_64  OK    OK    OK    OK  UNNEEDED, same version is already published
kunpeng2Linux (openEuler 22.03 LTS-SP1) / aarch64  OK    OK    OK