This page was generated on 2023-09-29 12:07:07 -0400 (Fri, 29 Sep 2023).
|
|
| |||||||||||||||||||||||||||||||||||
Package | Maintainer | INSTALL/BUILD/CHECK | ||||||||||||||||||||||||||||||||||
1/2233 | a4 1.49.0 (landing page) | Laure Cougnaud | WARNINGS | |||||||||||||||||||||||||||||||||
2/2233 | a4Base 1.49.0 (landing page) | Laure Cougnaud | OK | |||||||||||||||||||||||||||||||||
3/2233 | a4Classif 1.49.0 (landing page) | Laure Cougnaud | OK | |||||||||||||||||||||||||||||||||
4/2233 | a4Core 1.49.0 (landing page) | Laure Cougnaud | OK | |||||||||||||||||||||||||||||||||
5/2233 | a4Preproc 1.49.0 (landing page) | Laure Cougnaud | OK | |||||||||||||||||||||||||||||||||
6/2233 | a4Reporting 1.49.0 (landing page) | Laure Cougnaud | OK | |||||||||||||||||||||||||||||||||
7/2233 | ABarray 1.69.0 (landing page) | Yongming Andrew Sun | OK | |||||||||||||||||||||||||||||||||
8/2233 | abseqR 1.19.0 (landing page) | JiaHong Fong | OK | |||||||||||||||||||||||||||||||||
9/2233 | ABSSeq 1.55.0 (landing page) | Wentao Yang | OK | |||||||||||||||||||||||||||||||||
10/2233 | acde 1.31.0 (landing page) | Juan Pablo Acosta | OK | |||||||||||||||||||||||||||||||||
11/2233 | ACE 1.19.0 (landing page) | Jos B Poell | OK | |||||||||||||||||||||||||||||||||
12/2233 | aCGH 1.79.0 (landing page) | Peter Dimitrov | OK | |||||||||||||||||||||||||||||||||
13/2233 | ACME 2.57.0 (landing page) | Sean Davis | WARNINGS | |||||||||||||||||||||||||||||||||
14/2233 | ADaCGH2 2.41.0 (landing page) | Ramon Diaz-Uriarte | OK | |||||||||||||||||||||||||||||||||
15/2233 | ADAM 1.17.0 (landing page) | Jose Luiz Rybarczyk Filho | OK | |||||||||||||||||||||||||||||||||
16/2233 | ADAMgui 1.17.0 (landing page) | Jose Luiz Rybarczyk Filho | OK | |||||||||||||||||||||||||||||||||
17/2233 | adductomicsR 1.17.0 (landing page) | Josie Hayes | TIMEOUT | |||||||||||||||||||||||||||||||||
18/2233 | ADImpute 1.11.0 (landing page) | Ana Carolina Leote | ERROR | |||||||||||||||||||||||||||||||||
19/2233 | adSplit 1.71.0 (landing page) | Claudio Lottaz | OK | |||||||||||||||||||||||||||||||||
20/2233 | adverSCarial 0.99.53 (landing page) | Ghislain FIEVET | TIMEOUT | |||||||||||||||||||||||||||||||||
21/2233 | AffiXcan 1.19.0 (landing page) | Alessandro Lussana | OK | |||||||||||||||||||||||||||||||||
22/2233 | affxparser 1.73.0 (landing page) | Kasper Daniel Hansen | ERROR | |||||||||||||||||||||||||||||||||
23/2233 | affy 1.79.3 (landing page) | Robert D. Shear | WARNINGS | |||||||||||||||||||||||||||||||||
24/2233 | affycomp 1.77.2 (landing page) | Robert D. Shear | OK | |||||||||||||||||||||||||||||||||
25/2233 | affyContam 1.59.0 (landing page) | V. Carey | OK | |||||||||||||||||||||||||||||||||
26/2233 | affycoretools 1.73.0 (landing page) | James W. MacDonald | ERROR | |||||||||||||||||||||||||||||||||
27/2233 | affyILM 1.53.0 (landing page) | Myriam Kroll and Fabrice Berger | OK | |||||||||||||||||||||||||||||||||
28/2233 | affyio 1.71.0 (landing page) | Ben Bolstad | WARNINGS | |||||||||||||||||||||||||||||||||
29/2233 | affylmGUI 1.75.0 (landing page) | Gordon Smyth | OK | |||||||||||||||||||||||||||||||||
30/2233 | affyPLM 1.77.2 (landing page) | Ben Bolstad | WARNINGS | |||||||||||||||||||||||||||||||||
31/2233 | AffyRNADegradation 1.47.0 (landing page) | Mario Fasold | ERROR | |||||||||||||||||||||||||||||||||
32/2233 | AGDEX 1.49.0 (landing page) | Cuilan lani Gao | OK | |||||||||||||||||||||||||||||||||
33/2233 | aggregateBioVar 1.11.0 (landing page) | Jason Ratcliff | ERROR | |||||||||||||||||||||||||||||||||
34/2233 | agilp 3.33.0 (landing page) | Benny Chain | OK | |||||||||||||||||||||||||||||||||
35/2233 | AgiMicroRna 2.51.0 (landing page) | Pedro Lopez-Romero | ERROR | |||||||||||||||||||||||||||||||||
36/2233 | AHMassBank 1.1.0 (landing page) | Johannes Rainer | OK | |||||||||||||||||||||||||||||||||
37/2233 | AIMS 1.33.0 (landing page) | Eric R Paquet | OK | |||||||||||||||||||||||||||||||||
38/2233 | airpart 1.9.0 (landing page) | Wancen Mu | ERROR | |||||||||||||||||||||||||||||||||
39/2233 | alabaster 1.1.0 (landing page) | Aaron Lun | WARNINGS | |||||||||||||||||||||||||||||||||
40/2233 | alabaster.base 1.1.2 (landing page) | Aaron Lun | WARNINGS | |||||||||||||||||||||||||||||||||
41/2233 | alabaster.bumpy 1.1.0 (landing page) | Aaron Lun | OK | |||||||||||||||||||||||||||||||||
42/2233 | alabaster.files 0.99.1 (landing page) | Aaron Lun | ERROR | |||||||||||||||||||||||||||||||||
43/2233 | alabaster.mae 1.1.1 (landing page) | Aaron Lun | ERROR | |||||||||||||||||||||||||||||||||
44/2233 | alabaster.matrix 1.1.4 (landing page) | Aaron Lun | OK | |||||||||||||||||||||||||||||||||
45/2233 | alabaster.ranges 1.1.0 (landing page) | Aaron Lun | OK | |||||||||||||||||||||||||||||||||
46/2233 | alabaster.sce 1.1.0 (landing page) | Aaron Lun | ERROR | |||||||||||||||||||||||||||||||||
47/2233 | alabaster.schemas 1.1.2 (landing page) | Aaron Lun | OK | |||||||||||||||||||||||||||||||||
48/2233 | alabaster.se 1.1.0 (landing page) | Aaron Lun | OK | |||||||||||||||||||||||||||||||||
49/2233 | alabaster.spatial 1.1.0 (landing page) | Aaron Lun | ERROR | |||||||||||||||||||||||||||||||||
50/2233 | alabaster.string 1.1.1 (landing page) | Aaron Lun | OK | |||||||||||||||||||||||||||||||||
51/2233 | alabaster.vcf 1.1.1 (landing page) | Aaron Lun | ERROR | |||||||||||||||||||||||||||||||||
52/2233 | ALDEx2 1.33.0 (landing page) | Greg Gloor | WARNINGS | |||||||||||||||||||||||||||||||||
53/2233 | alevinQC 1.17.1 (landing page) | Charlotte Soneson | OK | |||||||||||||||||||||||||||||||||
54/2233 | AllelicImbalance 1.39.0 (landing page) | Jesper R Gadin | ERROR | |||||||||||||||||||||||||||||||||
55/2233 | AlphaBeta 1.15.0 (landing page) | Yadollah Shahryary Dizaji | OK | |||||||||||||||||||||||||||||||||
56/2233 | AlpsNMR 4.3.0 (landing page) | Sergio Oller Moreno | OK | |||||||||||||||||||||||||||||||||
57/2233 | altcdfenvs 2.63.0 (landing page) | Laurent Gautier | OK | |||||||||||||||||||||||||||||||||
58/2233 | AMARETTO 1.17.0 (landing page) | Olivier Gevaert | TIMEOUT | |||||||||||||||||||||||||||||||||
59/2233 | AMOUNTAIN 1.27.0 (landing page) | Dong Li | OK | |||||||||||||||||||||||||||||||||
60/2233 | amplican 1.23.7 (landing page) | Eivind Valen | OK | |||||||||||||||||||||||||||||||||
61/2233 | Anaquin 2.25.0 (landing page) | Ted Wong | OK | |||||||||||||||||||||||||||||||||
62/2233 | ANCOMBC 2.3.2 (landing page) | Huang Lin | ERROR | |||||||||||||||||||||||||||||||||
63/2233 | AneuFinder 1.29.0 (landing page) | Aaron Taudt | ERROR | |||||||||||||||||||||||||||||||||
64/2233 | ANF 1.23.0 (landing page) | Tianle Ma | ERROR | |||||||||||||||||||||||||||||||||
65/2233 | animalcules 1.17.0 (landing page) | Yue Zhao | ERROR | |||||||||||||||||||||||||||||||||
66/2233 | annaffy 1.73.0 (landing page) | Colin A. Smith | WARNINGS | |||||||||||||||||||||||||||||||||
67/2233 | annmap 1.43.0 (landing page) | Chris Wirth | WARNINGS | |||||||||||||||||||||||||||||||||
68/2233 | annotate 1.79.0 (landing page) | Bioconductor Package Maintainer | ERROR | |||||||||||||||||||||||||||||||||
69/2233 | AnnotationDbi 1.63.2 (landing page) | Bioconductor Package Maintainer | ERROR | |||||||||||||||||||||||||||||||||
70/2233 | AnnotationFilter 1.25.0 (landing page) | Bioconductor Package Maintainer | OK | |||||||||||||||||||||||||||||||||
71/2233 | AnnotationForge 1.43.4 (landing page) | Bioconductor Package Maintainer | OK | |||||||||||||||||||||||||||||||||
72/2233 | AnnotationHub 3.9.2 (landing page) | Bioconductor Package Maintainer | ERROR | |||||||||||||||||||||||||||||||||
73/2233 | AnnotationHubData 1.31.0 (landing page) | Bioconductor Package Maintainer | ERROR | |||||||||||||||||||||||||||||||||
74/2233 | annotationTools 1.75.0 (landing page) | Alexandre Kuhn | OK | |||||||||||||||||||||||||||||||||
75/2233 | annotatr 1.27.0 (landing page) | Raymond G. Cavalcante | ERROR | |||||||||||||||||||||||||||||||||
76/2233 | anota 1.49.0 (landing page) | Ola Larsson | OK | |||||||||||||||||||||||||||||||||
77/2233 | anota2seq 1.23.1 (landing page) | Christian Oertlin | WARNINGS | |||||||||||||||||||||||||||||||||
78/2233 | antiProfiles 1.41.0 (landing page) | Hector Corrada Bravo | OK | |||||||||||||||||||||||||||||||||
79/2233 | AnVIL 1.13.10 (landing page) | Marcel Ramos | OK | |||||||||||||||||||||||||||||||||
80/2233 | AnVILBilling 1.11.0 (landing page) | Vince Carey | OK | |||||||||||||||||||||||||||||||||
81/2233 | AnVILPublish 1.11.2 (landing page) | Marcel Ramos | OK | |||||||||||||||||||||||||||||||||
82/2233 | AnVILWorkflow 1.1.3 (landing page) | Sehyun Oh | OK | |||||||||||||||||||||||||||||||||
83/2233 | APAlyzer 1.15.0 (landing page) | Ruijia Wang | ERROR | |||||||||||||||||||||||||||||||||
84/2233 | apComplex 2.67.0 (landing page) | Denise Scholtens | OK | |||||||||||||||||||||||||||||||||
85/2233 | apeglm 1.23.1 (landing page) | Anqi Zhu | OK | |||||||||||||||||||||||||||||||||
86/2233 | APL 1.5.0 (landing page) | Elzbieta Gralinska | TIMEOUT | |||||||||||||||||||||||||||||||||
87/2233 | appreci8R 1.19.0 (landing page) | Sarah Sandmann | ERROR | |||||||||||||||||||||||||||||||||
88/2233 | aroma.light 3.31.1 (landing page) | Henrik Bengtsson | OK | |||||||||||||||||||||||||||||||||
89/2233 | ArrayExpress 1.61.0 (landing page) | Jose Marugan | OK | |||||||||||||||||||||||||||||||||
90/2233 | arrayMvout 1.59.0 (landing page) | V. Carey | OK | |||||||||||||||||||||||||||||||||
91/2233 | arrayQuality 1.79.0 (landing page) | Agnes Paquet | WARNINGS | |||||||||||||||||||||||||||||||||
92/2233 | arrayQualityMetrics 3.57.0 (landing page) | Mike Smith | ERROR | |||||||||||||||||||||||||||||||||
93/2233 | ARRmNormalization 1.41.0 (landing page) | Jean-Philippe Fortin | ERROR | |||||||||||||||||||||||||||||||||
94/2233 | artMS 1.19.0 (landing page) | David Jimenez-Morales | OK | |||||||||||||||||||||||||||||||||
95/2233 | ASAFE 1.27.0 (landing page) | Qian Zhang | OK | |||||||||||||||||||||||||||||||||
96/2233 | ASEB 1.45.0 (landing page) | Likun Wang | ERROR | |||||||||||||||||||||||||||||||||
97/2233 | ASGSCA 1.35.0 (landing page) | Hela Romdhani | OK | |||||||||||||||||||||||||||||||||
98/2233 | ASICS 2.17.0 (landing page) | Gaëlle Lefort | ERROR | |||||||||||||||||||||||||||||||||
99/2233 | ASpli 2.11.1 (landing page) | Ariel Chernomoretz | ERROR | |||||||||||||||||||||||||||||||||
100/2233 | AssessORF 1.19.0 (landing page) | Deepank Korandla | OK | |||||||||||||||||||||||||||||||||
101/2233 | ASSET 2.19.0 (landing page) | Samsiddhi Bhattacharjee | OK | |||||||||||||||||||||||||||||||||
102/2233 | ASSIGN 1.37.0 (landing page) | Ying Shen | OK | |||||||||||||||||||||||||||||||||
103/2233 | ASURAT 1.5.0 (landing page) | Keita Iida | TIMEOUT | |||||||||||||||||||||||||||||||||
104/2233 | ATACCoGAPS 1.3.0 (landing page) | Rossin Erbe | ERROR | |||||||||||||||||||||||||||||||||
105/2233 | ATACseqQC 1.25.2 (landing page) | Jianhong Ou | ERROR | |||||||||||||||||||||||||||||||||
106/2233 | ATACseqTFEA 1.3.0 (landing page) | Jianhong Ou | ERROR | |||||||||||||||||||||||||||||||||
107/2233 | atena 1.7.0 (landing page) | Beatriz Calvo-Serra | ERROR | |||||||||||||||||||||||||||||||||
108/2233 | atSNP 1.17.0 (landing page) | Sunyoung Shin | ERROR | |||||||||||||||||||||||||||||||||
109/2233 | attract 1.53.0 (landing page) | Samuel Zimmerman | ERROR | |||||||||||||||||||||||||||||||||
110/2233 | AUCell 1.23.0 (landing page) | Sara Aibar | ERROR | |||||||||||||||||||||||||||||||||
111/2233 | autonomics 1.9.0 (landing page) | Aditya Bhagwat | ERROR | |||||||||||||||||||||||||||||||||
112/2233 | AWFisher 1.15.0 (landing page) | Zhiguang Huo | OK | |||||||||||||||||||||||||||||||||
113/2233 | awst 1.9.0 (landing page) | Davide Risso | ERROR | |||||||||||||||||||||||||||||||||
|
| |||||||||||||||||||||||||||||||||||
Package | Maintainer | INSTALL/BUILD/CHECK | ||||||||||||||||||||||||||||||||||
114/2233 | BaalChIP 1.27.0 (landing page) | Ines de Santiago | ERROR | |||||||||||||||||||||||||||||||||
115/2233 | bacon 1.29.0 (landing page) | Maarten van Iterson | OK | |||||||||||||||||||||||||||||||||
116/2233 | BADER 1.39.0 (landing page) | Andreas Neudecker | ERROR | |||||||||||||||||||||||||||||||||
117/2233 | BadRegionFinder 1.29.0 (landing page) | Sarah Sandmann | ERROR | |||||||||||||||||||||||||||||||||
118/2233 | BAGS 2.41.0 (landing page) | Alejandro Quiroz-Zarate | OK | |||||||||||||||||||||||||||||||||
119/2233 | ballgown 2.33.0 (landing page) | Jack Fu | ERROR | |||||||||||||||||||||||||||||||||
120/2233 | bambu 3.3.5 (landing page) | Ying Chen | TIMEOUT | |||||||||||||||||||||||||||||||||
121/2233 | bamsignals 1.33.0 (landing page) | Johannes Helmuth | WARNINGS | |||||||||||||||||||||||||||||||||
122/2233 | BANDITS 1.17.0 (landing page) | Simone Tiberi | OK | |||||||||||||||||||||||||||||||||
123/2233 | bandle 1.5.0 (landing page) | Oliver M. Crook | ERROR | |||||||||||||||||||||||||||||||||
124/2233 | banocc 1.25.0 (landing page) | George Weingart | ERROR | |||||||||||||||||||||||||||||||||
125/2233 | barcodetrackR 1.9.0 (landing page) | Diego Alexander Espinoza | OK | |||||||||||||||||||||||||||||||||
126/2233 | basecallQC 1.25.0 (landing page) | Thomas Carroll | ERROR | |||||||||||||||||||||||||||||||||
127/2233 | BaseSpaceR 1.45.0 (landing page) | Jared O'Connell | WARNINGS | |||||||||||||||||||||||||||||||||
128/2233 | Basic4Cseq 1.37.0 (landing page) | Carolin Walter | ERROR | |||||||||||||||||||||||||||||||||
129/2233 | BASiCS 2.13.4 (landing page) | Catalina Vallejos | ERROR | |||||||||||||||||||||||||||||||||
130/2233 | BASiCStan 1.3.0 (landing page) | Alan O'Callaghan | ERROR | |||||||||||||||||||||||||||||||||
131/2233 | BasicSTARRseq 1.29.0 (landing page) | Annika Buerger | OK | |||||||||||||||||||||||||||||||||
132/2233 | basilisk 1.13.3 (landing page) | Aaron Lun | ERROR | |||||||||||||||||||||||||||||||||
133/2233 | basilisk.utils 1.13.3 (landing page) | Aaron Lun | OK | |||||||||||||||||||||||||||||||||
134/2233 | batchelor 1.17.2 (landing page) | Aaron Lun | TIMEOUT | |||||||||||||||||||||||||||||||||
135/2233 | BatchQC 1.29.0 (landing page) | Solaiappan Manimaran | OK | |||||||||||||||||||||||||||||||||
136/2233 | BayesKnockdown 1.27.0 (landing page) | William Chad Young | OK | |||||||||||||||||||||||||||||||||
137/2233 | BayesSpace 1.11.0 (landing page) | Matt Stone | ERROR | |||||||||||||||||||||||||||||||||
138/2233 | bayNorm 1.19.0 (landing page) | Wenhao Tang | OK | |||||||||||||||||||||||||||||||||
139/2233 | Thomas J. Hardcastle | WARNINGS | ||||||||||||||||||||||||||||||||||
140/2233 | BBCAnalyzer 1.31.0 (landing page) | Sarah Sandmann | ERROR | |||||||||||||||||||||||||||||||||
141/2233 | BCRANK 1.63.0 (landing page) | Adam Ameur | OK | |||||||||||||||||||||||||||||||||
142/2233 | bcSeq 1.23.0 (landing page) | Jiaxing Lin | WARNINGS | |||||||||||||||||||||||||||||||||
143/2233 | BDMMAcorrect 1.19.0 (landing page) | ZHENWEI DAI | ERROR | |||||||||||||||||||||||||||||||||
144/2233 | beachmat 2.17.16 (landing page) | Aaron Lun | OK | |||||||||||||||||||||||||||||||||
145/2233 | beachmat.hdf5 0.99.1 (landing page) | Aaron Lun | WARNINGS | |||||||||||||||||||||||||||||||||
146/2233 | beadarray 2.51.0 (landing page) | Mark Dunning | ERROR | |||||||||||||||||||||||||||||||||
147/2233 | beadarraySNP 1.67.0 (landing page) | Jan Oosting | OK | |||||||||||||||||||||||||||||||||
148/2233 | BeadDataPackR 1.53.0 (landing page) | Mike Smith | OK | |||||||||||||||||||||||||||||||||
149/2233 | BEARscc 1.21.0 (landing page) | Benjamin Schuster-Boeckler | OK | |||||||||||||||||||||||||||||||||
150/2233 | BEAT 1.39.0 (landing page) | Kemal Akman | ERROR | |||||||||||||||||||||||||||||||||
151/2233 | BEclear 2.17.0 (landing page) | Livia Rasp | OK | |||||||||||||||||||||||||||||||||
152/2233 | beer 1.5.0 (landing page) | Athena Chen | OK | |||||||||||||||||||||||||||||||||
153/2233 | benchdamic 1.7.4 (landing page) | Matteo Calgaro | ERROR | |||||||||||||||||||||||||||||||||
154/2233 | BG2 1.1.0 (landing page) | Jacob Williams | TIMEOUT | |||||||||||||||||||||||||||||||||
155/2233 | BgeeCall 1.17.0 (landing page) | Julien Wollbrett | OK | |||||||||||||||||||||||||||||||||
156/2233 | BgeeDB 2.27.0 (landing page) | Julien Wollbrett | ERROR | |||||||||||||||||||||||||||||||||
157/2233 | Alex Lewin | ERROR | ||||||||||||||||||||||||||||||||||
158/2233 | bgx 1.67.0 (landing page) | Ernest Turro | ERROR | |||||||||||||||||||||||||||||||||
159/2233 | BHC 1.53.0 (landing page) | Rich Savage | ERROR | |||||||||||||||||||||||||||||||||
160/2233 | BicARE 1.59.0 (landing page) | Pierre Gestraud | OK | |||||||||||||||||||||||||||||||||
161/2233 | BiFET 1.21.0 (landing page) | Ahrim Youn | OK | |||||||||||||||||||||||||||||||||
162/2233 | BiGGR 1.37.0 (landing page) | Anand K. Gavai | ERROR | |||||||||||||||||||||||||||||||||
163/2233 | bigmelon 1.27.0 (landing page) | Tyler J. Gorrie-Stone | ERROR | |||||||||||||||||||||||||||||||||
164/2233 | Lindsay Rutter | ERROR | ||||||||||||||||||||||||||||||||||
165/2233 | BindingSiteFinder 1.7.11 (landing page) | Mirko Brüggemann | ERROR | |||||||||||||||||||||||||||||||||
166/2233 | bioassayR 1.39.0 (landing page) | Daniela Cassol | OK | |||||||||||||||||||||||||||||||||
167/2233 | Biobase 2.61.0 (landing page) | Bioconductor Package Maintainer | WARNINGS | |||||||||||||||||||||||||||||||||
168/2233 | biobroom 1.33.0 (landing page) | John D. Storey | WARNINGS | |||||||||||||||||||||||||||||||||
169/2233 | biobtreeR 1.13.0 (landing page) | Tamer Gur | ERROR | |||||||||||||||||||||||||||||||||
170/2233 | bioCancer 1.29.0 (landing page) | Karim Mezhoud | ERROR | |||||||||||||||||||||||||||||||||
171/2233 | BiocBaseUtils 1.3.2 (landing page) | Marcel Ramos | OK | |||||||||||||||||||||||||||||||||
172/2233 | BiocCheck 1.37.16 (landing page) | Marcel Ramos | OK | |||||||||||||||||||||||||||||||||
173/2233 | BiocFHIR 1.3.0 (landing page) | Vincent Carey | OK | |||||||||||||||||||||||||||||||||
174/2233 | BiocFileCache 2.9.1 (landing page) | Lori Shepherd | OK | |||||||||||||||||||||||||||||||||
175/2233 | BiocGenerics 0.47.0 (landing page) | Hervé Pagès | WARNINGS | |||||||||||||||||||||||||||||||||
176/2233 | biocGraph 1.63.0 (landing page) | Florian Hahne | OK | |||||||||||||||||||||||||||||||||
177/2233 | BiocHail 1.1.5 (landing page) | Vincent Carey | ERROR | |||||||||||||||||||||||||||||||||
178/2233 | BiocHubsShiny 1.1.1 (landing page) | Marcel Ramos | TIMEOUT | |||||||||||||||||||||||||||||||||
179/2233 | BiocIO 1.11.0 (landing page) | Marcel Ramos | OK | |||||||||||||||||||||||||||||||||
180/2233 | BiocNeighbors 1.19.0 (landing page) | Aaron Lun | ERROR | |||||||||||||||||||||||||||||||||
181/2233 | BiocOncoTK 1.21.1 (landing page) | VJ Carey | ERROR | |||||||||||||||||||||||||||||||||
182/2233 | BioCor 1.25.1 (landing page) | Lluís Revilla Sancho | ERROR | |||||||||||||||||||||||||||||||||
183/2233 | BiocParallel 1.35.4 (landing page) | Martin Morgan | OK | |||||||||||||||||||||||||||||||||
184/2233 | BiocPkgTools 1.19.9 (landing page) | Sean Davis | OK | |||||||||||||||||||||||||||||||||
185/2233 | BiocSet 1.15.0 (landing page) | Kayla Morrell | ERROR | |||||||||||||||||||||||||||||||||
186/2233 | BiocSingular 1.17.1 (landing page) | Aaron Lun | OK | |||||||||||||||||||||||||||||||||
187/2233 | BiocSklearn 1.23.1 (landing page) | Vince Carey | ERROR | |||||||||||||||||||||||||||||||||
188/2233 | BiocStyle 2.29.2 (landing page) | Bioconductor Package | OK | |||||||||||||||||||||||||||||||||
189/2233 | biocthis 1.11.5 (landing page) | Leonardo Collado-Torres | OK | |||||||||||||||||||||||||||||||||
190/2233 | BiocVersion 3.18.0 (landing page) | Bioconductor Package Maintainer | OK | |||||||||||||||||||||||||||||||||
191/2233 | biocViews 1.69.2 (landing page) | Bioconductor Package Maintainer | OK | |||||||||||||||||||||||||||||||||
192/2233 | BiocWorkflowTools 1.27.0 (landing page) | Mike Smith | OK | |||||||||||||||||||||||||||||||||
193/2233 | biodb 1.9.1 (landing page) | Pierrick Roger | WARNINGS | |||||||||||||||||||||||||||||||||
194/2233 | biodbChebi 1.7.0 (landing page) | Pierrick Roger | OK | |||||||||||||||||||||||||||||||||
195/2233 | biodbExpasy 1.5.0 (landing page) | Pierrick Roger | OK | |||||||||||||||||||||||||||||||||
196/2233 | biodbHmdb 1.7.1 (landing page) | Pierrick Roger | WARNINGS | |||||||||||||||||||||||||||||||||
197/2233 | biodbKegg 1.7.1 (landing page) | Pierrick Roger | OK | |||||||||||||||||||||||||||||||||
198/2233 | biodbLipidmaps 1.7.0 (landing page) | Pierrick Roger | OK | |||||||||||||||||||||||||||||||||
199/2233 | biodbMirbase 1.5.1 (landing page) | Pierrick Roger | ERROR | |||||||||||||||||||||||||||||||||
200/2233 | biodbNcbi 1.5.0 (landing page) | Pierrick Roger | OK | |||||||||||||||||||||||||||||||||
201/2233 | biodbNci 1.5.0 (landing page) | Pierrick Roger | OK | |||||||||||||||||||||||||||||||||
202/2233 | biodbUniprot 1.7.0 (landing page) | Pierrick Roger | OK | |||||||||||||||||||||||||||||||||
203/2233 | bioDist 1.73.0 (landing page) | Bioconductor Package Maintainer | OK | |||||||||||||||||||||||||||||||||
204/2233 | biomaRt 2.57.1 (landing page) | Mike Smith | OK | |||||||||||||||||||||||||||||||||
205/2233 | biomformat 1.29.1 (landing page) | Paul J. McMurdie | WARNINGS | |||||||||||||||||||||||||||||||||
206/2233 | Junfang Chen | ERROR | ||||||||||||||||||||||||||||||||||
207/2233 | BioMVCClass 1.69.0 (landing page) | Elizabeth Whalen | OK | |||||||||||||||||||||||||||||||||
208/2233 | Yang Du | ERROR | ||||||||||||||||||||||||||||||||||
209/2233 | BioNAR 1.3.9 (landing page) | Anatoly Sorokin | ERROR | |||||||||||||||||||||||||||||||||
210/2233 | BioNERO 1.9.7 (landing page) | Fabricio Almeida-Silva | ERROR | |||||||||||||||||||||||||||||||||
211/2233 | BioNet 1.61.0 (landing page) | Marcus Dittrich | ERROR | |||||||||||||||||||||||||||||||||
212/2233 | BioNetStat 1.21.0 (landing page) | Vinicius Jardim | OK | |||||||||||||||||||||||||||||||||
213/2233 | BioQC 1.29.0 (landing page) | Jitao David Zhang | OK | |||||||||||||||||||||||||||||||||
214/2233 | biosigner 1.29.2 (landing page) | Etienne A. Thevenot | ERROR | |||||||||||||||||||||||||||||||||
215/2233 | Biostrings 2.69.2 (landing page) | Hervé Pagès | ERROR | |||||||||||||||||||||||||||||||||
216/2233 | BioTIP 1.15.0 (landing page) | Yuxi (Jennifer) Sun | WARNINGS | |||||||||||||||||||||||||||||||||
217/2233 | biotmle 1.25.0 (landing page) | Nima Hejazi | ERROR | |||||||||||||||||||||||||||||||||
218/2233 | biovizBase 1.49.0 (landing page) | Michael Lawrence | ERROR | |||||||||||||||||||||||||||||||||
219/2233 | BiRewire 3.33.0 (landing page) | Andrea Gobbi | WARNINGS | |||||||||||||||||||||||||||||||||
220/2233 | biscuiteer 1.15.0 (landing page) | Jacob Morrison | TIMEOUT | |||||||||||||||||||||||||||||||||
221/2233 | BiSeq 1.41.0 (landing page) | Katja Hebestreit | ERROR | |||||||||||||||||||||||||||||||||
222/2233 | blacksheepr 1.15.0 (landing page) | RugglesLab | ERROR | |||||||||||||||||||||||||||||||||
223/2233 | blima 1.35.0 (landing page) | Vojtěch Kulvait | ERROR | |||||||||||||||||||||||||||||||||
224/2233 | BLMA 1.25.0 (landing page) | Hung Nguyen | OK | |||||||||||||||||||||||||||||||||
225/2233 | BloodGen3Module 1.9.0 (landing page) | Darawan Rinchai | TIMEOUT | |||||||||||||||||||||||||||||||||
226/2233 | bluster 1.11.4 (landing page) | Aaron Lun | TIMEOUT | |||||||||||||||||||||||||||||||||
227/2233 | bnbc 1.23.0 (landing page) | Kipper Fletez-Brant | ERROR | |||||||||||||||||||||||||||||||||
228/2233 | bnem 1.9.0 (landing page) | Martin Pirkl | OK | |||||||||||||||||||||||||||||||||
229/2233 | BOBaFIT 1.5.0 (landing page) | Gaia Mazzocchetti | ERROR | |||||||||||||||||||||||||||||||||
230/2233 | borealis 1.5.0 (landing page) | Garrett Jenkinson | ERROR | |||||||||||||||||||||||||||||||||
231/2233 | BPRMeth 1.27.1 (landing page) | Chantriolnt-Andreas Kapourani | OK | |||||||||||||||||||||||||||||||||
232/2233 | BRAIN 1.47.0 (landing page) | Piotr Dittwald | WARNINGS | |||||||||||||||||||||||||||||||||
233/2233 | brainflowprobes 1.15.0 (landing page) | Amanda Price | ERROR | |||||||||||||||||||||||||||||||||
234/2233 | branchpointer 1.27.0 (landing page) | Beth Signal | ERROR | |||||||||||||||||||||||||||||||||
235/2233 | breakpointR 1.19.0 (landing page) | David Porubsky | OK | |||||||||||||||||||||||||||||||||
236/2233 | brendaDb 1.15.0 (landing page) | Yi Zhou | OK | |||||||||||||||||||||||||||||||||
237/2233 | BRGenomics 1.13.0 (landing page) | Mike DeBerardine | ERROR | |||||||||||||||||||||||||||||||||
238/2233 | BridgeDbR 2.11.2 (landing page) | Egon Willighagen | OK | |||||||||||||||||||||||||||||||||
239/2233 | BrowserViz 2.23.1 (landing page) | Arkadiusz Gladki | OK | |||||||||||||||||||||||||||||||||
240/2233 | BSgenome 1.69.0 (landing page) | Hervé Pagès | ERROR | |||||||||||||||||||||||||||||||||
241/2233 | BSgenomeForge 1.1.1 (landing page) | Hervé Pagès | ERROR | |||||||||||||||||||||||||||||||||
242/2233 | bsseq 1.37.0 (landing page) | Kasper Daniel Hansen | ERROR | |||||||||||||||||||||||||||||||||
243/2233 | BubbleTree 2.31.0 (landing page) | Todd Creasy | ERROR | |||||||||||||||||||||||||||||||||
244/2233 | BufferedMatrix 1.65.0 (landing page) | Ben Bolstad | WARNINGS | |||||||||||||||||||||||||||||||||
245/2233 | BufferedMatrixMethods 1.65.0 (landing page) | Ben Bolstad | OK | |||||||||||||||||||||||||||||||||
246/2233 | bugsigdbr 1.7.7 (landing page) | Ludwig Geistlinger | OK | |||||||||||||||||||||||||||||||||
247/2233 | BUMHMM 1.25.0 (landing page) | Alina Selega | OK | |||||||||||||||||||||||||||||||||
248/2233 | bumphunter 1.43.0 (landing page) | Tamilselvi Guharaj | ERROR | |||||||||||||||||||||||||||||||||
249/2233 | BumpyMatrix 1.9.0 (landing page) | Aaron Lun | OK | |||||||||||||||||||||||||||||||||
250/2233 | BUS 1.57.0 (landing page) | Yuanhua Liu | OK | |||||||||||||||||||||||||||||||||
251/2233 | BUScorrect 1.19.0 (landing page) | Xiangyu Luo | OK | |||||||||||||||||||||||||||||||||
252/2233 | BUSpaRse 1.15.0 (landing page) | Lambda Moses | TIMEOUT | |||||||||||||||||||||||||||||||||
253/2233 | BUSseq 1.7.0 (landing page) | Fangda Song | OK | |||||||||||||||||||||||||||||||||
|
| |||||||||||||||||||||||||||||||||||
Package | Maintainer | INSTALL/BUILD/CHECK | ||||||||||||||||||||||||||||||||||
254/2233 | CaDrA 0.99.7 (landing page) | Reina Chau | ERROR | |||||||||||||||||||||||||||||||||
255/2233 | CAEN 1.9.0 (landing page) | Zhou Yan | ERROR | |||||||||||||||||||||||||||||||||
256/2233 | CAFE 1.37.0 (landing page) | Sander Bollen | ERROR | |||||||||||||||||||||||||||||||||
257/2233 | CAGEfightR 1.21.0 (landing page) | Malte Thodberg | ERROR | |||||||||||||||||||||||||||||||||
258/2233 | cageminer 1.7.2 (landing page) | Fabrício Almeida-Silva | ERROR | |||||||||||||||||||||||||||||||||
259/2233 | CAGEr 2.7.1 (landing page) | Charles Plessy | ERROR | |||||||||||||||||||||||||||||||||
260/2233 | calm 1.15.0 (landing page) | Kun Liang | OK | |||||||||||||||||||||||||||||||||
261/2233 | CAMERA 1.57.0 (landing page) | Steffen Neumann | ERROR | |||||||||||||||||||||||||||||||||
262/2233 | canceR 1.35.0 (landing page) | Karim Mezhoud | OK | |||||||||||||||||||||||||||||||||
263/2233 | cancerclass 1.45.0 (landing page) | Daniel Kosztyla | WARNINGS | |||||||||||||||||||||||||||||||||
264/2233 | CancerInSilico 2.21.0 (landing page) | Thomas D. Sherman | ERROR | |||||||||||||||||||||||||||||||||
265/2233 | CancerSubtypes 1.27.0 (landing page) | Taosheng Xu | ERROR | |||||||||||||||||||||||||||||||||
266/2233 | cardelino 1.3.0 (landing page) | Davis McCarthy | ERROR | |||||||||||||||||||||||||||||||||
267/2233 | Cardinal 3.3.3 (landing page) | Kylie A. Bemis | OK | |||||||||||||||||||||||||||||||||
268/2233 | CardinalIO 0.99.2 (landing page) | Kylie Ariel Bemis | OK | |||||||||||||||||||||||||||||||||
269/2233 | CARNIVAL 2.11.0 (landing page) | Attila Gabor | OK | |||||||||||||||||||||||||||||||||
270/2233 | casper 2.35.0 (landing page) | David Rossell | ERROR | |||||||||||||||||||||||||||||||||
271/2233 | CATALYST 1.25.1 (landing page) | Helena L. Crowell | ERROR | |||||||||||||||||||||||||||||||||
272/2233 | Category 2.67.0 (landing page) | Bioconductor Package Maintainer | ERROR | |||||||||||||||||||||||||||||||||
273/2233 | categoryCompare 1.45.0 (landing page) | Robert M. Flight | ERROR | |||||||||||||||||||||||||||||||||
274/2233 | CausalR 1.33.0 (landing page) | Glyn Bradley | OK | |||||||||||||||||||||||||||||||||
275/2233 | cbaf 1.23.0 (landing page) | Arman Shahrisa | ERROR | |||||||||||||||||||||||||||||||||
276/2233 | CBEA 1.1.0 (landing page) | Quang Nguyen | OK | |||||||||||||||||||||||||||||||||
277/2233 | cBioPortalData 2.13.9 (landing page) | Marcel Ramos | ERROR | |||||||||||||||||||||||||||||||||
278/2233 | CBNplot 1.1.0 (landing page) | Noriaki Sato | TIMEOUT | |||||||||||||||||||||||||||||||||
279/2233 | cbpManager 1.9.3 (landing page) | Arsenij Ustjanzew | WARNINGS | |||||||||||||||||||||||||||||||||
280/2233 | ccfindR 1.21.0 (landing page) | Jun Woo | ERROR | |||||||||||||||||||||||||||||||||
281/2233 | ccImpute 1.3.0 (landing page) | Marcin Malec | TIMEOUT | |||||||||||||||||||||||||||||||||
282/2233 | ccmap 1.27.0 (landing page) | Alex Pickering | ERROR | |||||||||||||||||||||||||||||||||
283/2233 | CCPROMISE 1.27.0 (landing page) | Xueyuan Cao | WARNINGS | |||||||||||||||||||||||||||||||||
284/2233 | ccrepe 1.37.0 (landing page) | Emma Schwager | ERROR | |||||||||||||||||||||||||||||||||
285/2233 | CDI 0.99.21 (landing page) | Jiyuan Fang | ERROR | |||||||||||||||||||||||||||||||||
286/2233 | celaref 1.19.0 (landing page) | Sarah Williams | TIMEOUT | |||||||||||||||||||||||||||||||||
287/2233 | celda 1.17.0 (landing page) | Joshua Campbell | TIMEOUT | |||||||||||||||||||||||||||||||||
288/2233 | CellaRepertorium 1.11.0 (landing page) | Andrew McDavid | WARNINGS | |||||||||||||||||||||||||||||||||
289/2233 | CellBarcode 1.7.1 (landing page) | Wenjie Sun | OK | |||||||||||||||||||||||||||||||||
290/2233 | cellbaseR 1.25.0 (landing page) | Mohammed OE Abdallah | ERROR | |||||||||||||||||||||||||||||||||
291/2233 | CellBench 1.17.0 (landing page) | Shian Su | OK | |||||||||||||||||||||||||||||||||
292/2233 | cellHTS2 2.65.0 (landing page) | Joseph Barry | WARNINGS | |||||||||||||||||||||||||||||||||
293/2233 | CelliD 1.9.0 (landing page) | Akira Cortal | ERROR | |||||||||||||||||||||||||||||||||
294/2233 | cellity 1.29.0 (landing page) | Tomislav Ilicic | OK | |||||||||||||||||||||||||||||||||
295/2233 | CellMapper 1.27.0 (landing page) | Brad Nelms | TIMEOUT | |||||||||||||||||||||||||||||||||
296/2233 | cellmigRation 1.9.0 (landing page) | Waldir Leoncio | OK | |||||||||||||||||||||||||||||||||
297/2233 | CellMixS 1.17.0 (landing page) | Almut Lütge | OK | |||||||||||||||||||||||||||||||||
298/2233 | CellNOptR 1.47.0 (landing page) | Attila Gabor | OK | |||||||||||||||||||||||||||||||||
299/2233 | cellscape 1.25.0 (landing page) | Maia Smith | ERROR | |||||||||||||||||||||||||||||||||
300/2233 | CellScore 1.21.4 (landing page) | Nancy Mah | ERROR | |||||||||||||||||||||||||||||||||
301/2233 | CellTrails 1.19.0 (landing page) | Daniel Ellwanger | OK | |||||||||||||||||||||||||||||||||
302/2233 | cellxgenedp 1.5.3 (landing page) | Martin Morgan | OK | |||||||||||||||||||||||||||||||||
303/2233 | CEMiTool 1.25.0 (landing page) | Helder Nakaya | ERROR | |||||||||||||||||||||||||||||||||
304/2233 | censcyt 1.9.0 (landing page) | Reto Gerber | ERROR | |||||||||||||||||||||||||||||||||
305/2233 | Cepo 1.7.0 (landing page) | Hani Jieun Kim | ERROR | |||||||||||||||||||||||||||||||||
306/2233 | ceRNAnetsim 1.13.0 (landing page) | Selcen Ari Yuka | ERROR | |||||||||||||||||||||||||||||||||
307/2233 | CeTF 1.13.0 (landing page) | Carlos Alberto Oliveira de Biagi Junior | ERROR | |||||||||||||||||||||||||||||||||
308/2233 | CexoR 1.39.0 (landing page) | Pedro Madrigal | ERROR | |||||||||||||||||||||||||||||||||
309/2233 | CFAssay 1.35.0 (landing page) | Herbert Braselmann | OK | |||||||||||||||||||||||||||||||||
310/2233 | cfdnakit 0.99.4 (landing page) | Pitithat Puranachot | OK | |||||||||||||||||||||||||||||||||
311/2233 | cfDNAPro 1.7.0 (landing page) | Haichao Wang | ERROR | |||||||||||||||||||||||||||||||||
312/2233 | cfTools 1.1.0 (landing page) | Ran Hu | ERROR | |||||||||||||||||||||||||||||||||
313/2233 | CGEN 3.37.1 (landing page) | Justin Lee | OK | |||||||||||||||||||||||||||||||||
314/2233 | CGHbase 1.61.0 (landing page) | Mark van de Wiel | OK | |||||||||||||||||||||||||||||||||
315/2233 | CGHcall 2.63.0 (landing page) | Mark van de Wiel | WARNINGS | |||||||||||||||||||||||||||||||||
316/2233 | cghMCR 1.59.0 (landing page) | J. Zhang | WARNINGS | |||||||||||||||||||||||||||||||||
317/2233 | CGHnormaliter 1.55.0 (landing page) | Bart P.P. van Houte | OK | |||||||||||||||||||||||||||||||||
318/2233 | CGHregions 1.59.0 (landing page) | Sjoerd Vosse | OK | |||||||||||||||||||||||||||||||||
319/2233 | ChAMP 2.31.0 (landing page) | Yuan Tian | ERROR | |||||||||||||||||||||||||||||||||
320/2233 | ChemmineOB 1.39.1 (landing page) | Thomas Girke | WARNINGS | |||||||||||||||||||||||||||||||||
321/2233 | ChemmineR 3.53.2 (landing page) | Thomas Girke | WARNINGS | |||||||||||||||||||||||||||||||||
322/2233 | CHETAH 1.17.0 (landing page) | Jurrian de Kanter | OK | |||||||||||||||||||||||||||||||||
323/2233 | Chicago 1.29.0 (landing page) | Mikhail Spivakov | ERROR | |||||||||||||||||||||||||||||||||
324/2233 | chihaya 1.1.1 (landing page) | Aaron Lun | WARNINGS | |||||||||||||||||||||||||||||||||
325/2233 | chimeraviz 1.27.0 (landing page) | Stian Lågstad | ERROR | |||||||||||||||||||||||||||||||||
326/2233 | ChIPanalyser 1.23.0 (landing page) | Patrick C.N. Martin | ERROR | |||||||||||||||||||||||||||||||||
327/2233 | ChIPComp 1.31.0 (landing page) | Li Chen | ERROR | |||||||||||||||||||||||||||||||||
328/2233 | chipenrich 2.25.0 (landing page) | Kai Wang | ERROR | |||||||||||||||||||||||||||||||||
329/2233 | ChIPexoQual 1.25.0 (landing page) | Rene Welch | ERROR | |||||||||||||||||||||||||||||||||
330/2233 | ChIPpeakAnno 3.35.3 (landing page) | Jianhong Ou | ERROR | |||||||||||||||||||||||||||||||||
331/2233 | ChIPQC 1.37.1 (landing page) | Tom Carroll | ERROR | |||||||||||||||||||||||||||||||||
332/2233 | ChIPseeker 1.37.0 (landing page) | Guangchuang Yu | ERROR | |||||||||||||||||||||||||||||||||
333/2233 | chipseq 1.51.0 (landing page) | Bioconductor Package Maintainer | ERROR | |||||||||||||||||||||||||||||||||
334/2233 | ChIPseqR 1.55.0 (landing page) | Peter Humburg | ERROR | |||||||||||||||||||||||||||||||||
335/2233 | ChIPsim 1.55.0 (landing page) | Peter Humburg | ERROR | |||||||||||||||||||||||||||||||||
336/2233 | ChIPXpress 1.45.0 (landing page) | George Wu | ERROR | |||||||||||||||||||||||||||||||||
337/2233 | chopsticks 1.67.0 (landing page) | Hin-Tak Leung | WARNINGS | |||||||||||||||||||||||||||||||||
338/2233 | chromDraw 2.31.0 (landing page) | Jan Janecka | WARNINGS | |||||||||||||||||||||||||||||||||
339/2233 | ChromHeatMap 1.55.0 (landing page) | Tim F. Rayner | ERROR | |||||||||||||||||||||||||||||||||
340/2233 | chromPlot 1.29.0 (landing page) | Karen Y. Orostica | WARNINGS | |||||||||||||||||||||||||||||||||
341/2233 | ChromSCape 1.11.0 (landing page) | Pacome Prompsy | ERROR | |||||||||||||||||||||||||||||||||
342/2233 | chromstaR 1.27.0 (landing page) | Aaron Taudt | ERROR | |||||||||||||||||||||||||||||||||
343/2233 | chromVAR 1.23.0 (landing page) | Alicia Schep | ERROR | |||||||||||||||||||||||||||||||||
344/2233 | CHRONOS 1.29.0 (landing page) | Panos Balomenos | ERROR | |||||||||||||||||||||||||||||||||
345/2233 | cicero 1.19.0 (landing page) | Hannah Pliner | ERROR | |||||||||||||||||||||||||||||||||
346/2233 | CIMICE 1.9.0 (landing page) | Nicolò Rossi | OK | |||||||||||||||||||||||||||||||||
347/2233 | CINdex 1.29.0 (landing page) | Yuriy Gusev | ERROR | |||||||||||||||||||||||||||||||||
348/2233 | circRNAprofiler 1.15.1 (landing page) | Simona Aufiero | ERROR | |||||||||||||||||||||||||||||||||
349/2233 | CircSeqAlignTk 1.3.0 (landing page) | Jianqiang Sun | ERROR | |||||||||||||||||||||||||||||||||
350/2233 | cisPath 1.41.0 (landing page) | Likun Wang | WARNINGS | |||||||||||||||||||||||||||||||||
351/2233 | CiteFuse 1.13.0 (landing page) | Yingxin Lin | ERROR | |||||||||||||||||||||||||||||||||
352/2233 | ClassifyR 3.5.15 (landing page) | Dario Strbenac | ERROR | |||||||||||||||||||||||||||||||||
353/2233 | cleanUpdTSeq 1.39.0 (landing page) | Jianhong Ou | ERROR | |||||||||||||||||||||||||||||||||
354/2233 | cleaver 1.39.0 (landing page) | Sebastian Gibb | OK | |||||||||||||||||||||||||||||||||
355/2233 | clevRvis 1.1.0 (landing page) | Sarah Sandmann | OK | |||||||||||||||||||||||||||||||||
356/2233 | clippda 1.51.0 (landing page) | Stephen Nyangoma | OK | |||||||||||||||||||||||||||||||||
357/2233 | clipper 1.41.0 (landing page) | Paolo Martini | ERROR | |||||||||||||||||||||||||||||||||
358/2233 | cliProfiler 1.7.0 (landing page) | You Zhou | OK | |||||||||||||||||||||||||||||||||
359/2233 | cliqueMS 1.15.1 (landing page) | Oriol Senan Campos | ERROR | |||||||||||||||||||||||||||||||||
360/2233 | Clomial 1.37.0 (landing page) | Habil Zare | OK | |||||||||||||||||||||||||||||||||
361/2233 | Irina Ostrovnaya | ERROR | ||||||||||||||||||||||||||||||||||
362/2233 | clst 1.49.0 (landing page) | Noah Hoffman | WARNINGS | |||||||||||||||||||||||||||||||||
363/2233 | clstutils 1.49.0 (landing page) | Noah Hoffman | WARNINGS | |||||||||||||||||||||||||||||||||
364/2233 | CluMSID 1.17.0 (landing page) | Tobias Depke | ERROR | |||||||||||||||||||||||||||||||||
365/2233 | clustComp 1.29.0 (landing page) | Aurora Torrente | OK | |||||||||||||||||||||||||||||||||
366/2233 | clusterExperiment 2.21.0 (landing page) | Elizabeth Purdom | ERROR | |||||||||||||||||||||||||||||||||
367/2233 | ClusterJudge 1.23.0 (landing page) | Adrian Pasculescu | ERROR | |||||||||||||||||||||||||||||||||
368/2233 | clusterProfiler 4.9.3 (landing page) | Guangchuang Yu | ERROR | |||||||||||||||||||||||||||||||||
369/2233 | clusterSeq 1.25.0 (landing page) | Thomas J. Hardcastle | WARNINGS | |||||||||||||||||||||||||||||||||
370/2233 | ClusterSignificance 1.29.0 (landing page) | Jason T Serviss | OK | |||||||||||||||||||||||||||||||||
371/2233 | clusterStab 1.73.0 (landing page) | James W. MacDonald | OK | |||||||||||||||||||||||||||||||||
372/2233 | clustifyr 1.13.1 (landing page) | Kent Riemondy | ERROR | |||||||||||||||||||||||||||||||||
373/2233 | CMA 1.59.0 (landing page) | Roman Hornung | OK | |||||||||||||||||||||||||||||||||
374/2233 | cmapR 1.13.0 (landing page) | Ted Natoli | OK | |||||||||||||||||||||||||||||||||
375/2233 | cn.farms 1.49.0 (landing page) | Andreas Mitterecker | OK | |||||||||||||||||||||||||||||||||
376/2233 | cn.mops 1.47.0 (landing page) | Gundula Povysil | OK | |||||||||||||||||||||||||||||||||
377/2233 | CNAnorm 1.47.1 (landing page) | Stefano Berri | OK | |||||||||||||||||||||||||||||||||
378/2233 | CNEr 1.37.0 (landing page) | Ge Tan | ERROR | |||||||||||||||||||||||||||||||||
379/2233 | CNORdt 1.43.0 (landing page) | A. MacNamara | OK | |||||||||||||||||||||||||||||||||
380/2233 | CNORfeeder 1.41.0 (landing page) | Attila Gabor | WARNINGS | |||||||||||||||||||||||||||||||||
381/2233 | CNORfuzzy 1.43.0 (landing page) | T. Cokelaer | OK | |||||||||||||||||||||||||||||||||
382/2233 | CNORode 1.43.0 (landing page) | Attila Gabor | WARNINGS | |||||||||||||||||||||||||||||||||
383/2233 | CNTools 1.57.0 (landing page) | J. Zhang | OK | |||||||||||||||||||||||||||||||||
384/2233 | CNVfilteR 1.15.2 (landing page) | Jose Marcos Moreno-Cabrera | ERROR | |||||||||||||||||||||||||||||||||
385/2233 | CNVgears 1.9.0 (landing page) | Simone Montalbano | ERROR | |||||||||||||||||||||||||||||||||
386/2233 | cnvGSA 1.45.0 (landing page) | Joseph Lugo | OK | |||||||||||||||||||||||||||||||||
387/2233 | CNViz 1.9.0 (landing page) | Rebecca Greenblatt | OK | |||||||||||||||||||||||||||||||||
388/2233 | CNVMetrics 1.5.1 (landing page) | Astrid Deschênes | OK | |||||||||||||||||||||||||||||||||
389/2233 | CNVPanelizer 1.33.0 (landing page) | Thomas Wolf | OK | |||||||||||||||||||||||||||||||||
390/2233 | CNVRanger 1.17.6 (landing page) | Ludwig Geistlinger | TIMEOUT | |||||||||||||||||||||||||||||||||
391/2233 | CNVrd2 1.39.0 (landing page) | Hoang Tan Nguyen | OK | |||||||||||||||||||||||||||||||||
392/2233 | CoCiteStats 1.73.0 (landing page) | Bioconductor Package Maintainer | ERROR | |||||||||||||||||||||||||||||||||
393/2233 | COCOA 2.15.0 (landing page) | John Lawson | ERROR | |||||||||||||||||||||||||||||||||
394/2233 | codelink 1.69.0 (landing page) | Diego Diez | OK | |||||||||||||||||||||||||||||||||
395/2233 | CODEX 1.33.0 (landing page) | Yuchao Jiang | OK | |||||||||||||||||||||||||||||||||
396/2233 | CoGAPS 3.21.2 (landing page) | Elana J. Fertig | ERROR | |||||||||||||||||||||||||||||||||
397/2233 | cogena 1.35.0 (landing page) | Zhilong Jia | ERROR | |||||||||||||||||||||||||||||||||
398/2233 | cogeqc 1.5.0 (landing page) | Fabrício Almeida-Silva | ERROR | |||||||||||||||||||||||||||||||||
399/2233 | Cogito 1.7.0 (landing page) | Annika Bürger | ERROR | |||||||||||||||||||||||||||||||||
400/2233 | coGPS 1.45.0 (landing page) | Yingying Wei | OK | |||||||||||||||||||||||||||||||||
401/2233 | COHCAP 1.47.0 (landing page) | Charles Warden | OK | |||||||||||||||||||||||||||||||||
402/2233 | cola 2.7.0 (landing page) | Zuguang Gu | OK | |||||||||||||||||||||||||||||||||
403/2233 | comapr 1.5.0 (landing page) | Ruqian Lyu | ERROR | |||||||||||||||||||||||||||||||||
404/2233 | combi 1.13.1 (landing page) | Stijn Hawinkel | ERROR | |||||||||||||||||||||||||||||||||
405/2233 | coMET 1.33.0 (landing page) | Tiphaine Martin | ERROR | |||||||||||||||||||||||||||||||||
406/2233 | coMethDMR 1.5.0 (landing page) | Fernanda Veitzman | TIMEOUT | |||||||||||||||||||||||||||||||||
407/2233 | compartmap 1.19.0 (landing page) | Benjamin Johnson | ERROR | |||||||||||||||||||||||||||||||||
408/2233 | COMPASS 1.39.1 (landing page) | Greg Finak | OK | |||||||||||||||||||||||||||||||||
409/2233 | compcodeR 1.37.4 (landing page) | Charlotte Soneson | ERROR | |||||||||||||||||||||||||||||||||
410/2233 | compEpiTools 1.35.1 (landing page) | Mattia Furlan | ERROR | |||||||||||||||||||||||||||||||||
411/2233 | ComplexHeatmap 2.17.0 (landing page) | Zuguang Gu | OK | |||||||||||||||||||||||||||||||||
412/2233 | CompoundDb 1.5.0 (landing page) | Johannes Rainer | OK | |||||||||||||||||||||||||||||||||
413/2233 | ComPrAn 1.9.0 (landing page) | Petra Palenikova | OK | |||||||||||||||||||||||||||||||||
414/2233 | compSPOT 0.99.25 (landing page) | Sydney Grant | OK | |||||||||||||||||||||||||||||||||
415/2233 | concordexR 1.1.0 (landing page) | Kayla Jackson | TIMEOUT | |||||||||||||||||||||||||||||||||
416/2233 | condiments 1.9.0 (landing page) | Hector Roux de Bezieux | ERROR | |||||||||||||||||||||||||||||||||
417/2233 | CONFESS 1.29.0 (landing page) | Diana LOW | WARNINGS | |||||||||||||||||||||||||||||||||
418/2233 | consensus 1.19.0 (landing page) | Tim Peters | OK | |||||||||||||||||||||||||||||||||
419/2233 | ConsensusClusterPlus 1.65.0 (landing page) | Matt Wilkerson | OK | |||||||||||||||||||||||||||||||||
420/2233 | consensusDE 1.19.0 (landing page) | Ashley J. Waardenberg | ERROR | |||||||||||||||||||||||||||||||||
421/2233 | consensusOV 1.23.0 (landing page) | Benjamin Haibe-Kains | ERROR | |||||||||||||||||||||||||||||||||
422/2233 | consensusSeekeR 1.29.0 (landing page) | Astrid Deschenes | OK | |||||||||||||||||||||||||||||||||
423/2233 | consICA 1.3.9 (landing page) | Petr V. Nazarov | ERROR | |||||||||||||||||||||||||||||||||
424/2233 | CONSTANd 1.9.0 (landing page) | Dirk Valkenborg | OK | |||||||||||||||||||||||||||||||||
425/2233 | contiBAIT 1.29.0 (landing page) | Kieran O'Neill | ERROR | |||||||||||||||||||||||||||||||||
426/2233 | conumee 1.35.0 (landing page) | Volker Hovestadt | ERROR | |||||||||||||||||||||||||||||||||
427/2233 | convert 1.77.0 (landing page) | Yee Hwa (Jean) Yang | OK | |||||||||||||||||||||||||||||||||
428/2233 | copa 1.69.0 (landing page) | James W. MacDonald | OK | |||||||||||||||||||||||||||||||||
429/2233 | CopyNumberPlots 1.17.1 (landing page) | Bernat Gel | ERROR | |||||||||||||||||||||||||||||||||
430/2233 | coRdon 1.19.0 (landing page) | Anamaria Elek | OK | |||||||||||||||||||||||||||||||||
431/2233 | CoRegNet 1.39.0 (landing page) | Remy Nicolle | ERROR | |||||||||||||||||||||||||||||||||
432/2233 | CoreGx 2.5.0 (landing page) | Benjamin Haibe-Kains | ERROR | |||||||||||||||||||||||||||||||||
433/2233 | Cormotif 1.47.0 (landing page) | Yingying Wei | OK | |||||||||||||||||||||||||||||||||
434/2233 | corral 1.11.0 (landing page) | Lauren Hsu | TIMEOUT | |||||||||||||||||||||||||||||||||
435/2233 | CORREP 1.67.0 (landing page) | Dongxiao Zhu | OK | |||||||||||||||||||||||||||||||||
436/2233 | coseq 1.25.0 (landing page) | Andrea Rau | ERROR | |||||||||||||||||||||||||||||||||
437/2233 | CoSIA 1.1.0 (landing page) | Amanda D. Clark | TIMEOUT | |||||||||||||||||||||||||||||||||
438/2233 | cosmiq 1.35.0 (landing page) | David Fischer | OK | |||||||||||||||||||||||||||||||||
439/2233 | cosmosR 1.9.1 (landing page) | Attila Gabor | OK | |||||||||||||||||||||||||||||||||
440/2233 | COSNet 1.35.0 (landing page) | Marco Frasca | ERROR | |||||||||||||||||||||||||||||||||
441/2233 | COTAN 2.1.8 (landing page) | Galfrè Silvia Giulia | ERROR | |||||||||||||||||||||||||||||||||
442/2233 | countsimQC 1.19.0 (landing page) | Charlotte Soneson | OK | |||||||||||||||||||||||||||||||||
443/2233 | covEB 1.27.0 (landing page) | C. Pacini | OK | |||||||||||||||||||||||||||||||||
444/2233 | CoverageView 1.39.0 (landing page) | Ernesto Lowy | WARNINGS | |||||||||||||||||||||||||||||||||
445/2233 | covRNA 1.27.0 (landing page) | Lara Urban | OK | |||||||||||||||||||||||||||||||||
446/2233 | cpvSNP 1.33.0 (landing page) | Caitlin McHugh | OK | |||||||||||||||||||||||||||||||||
447/2233 | cqn 1.47.0 (landing page) | Kasper Daniel Hansen | OK | |||||||||||||||||||||||||||||||||
448/2233 | CRImage 1.49.0 (landing page) | Henrik Failmezger | OK | |||||||||||||||||||||||||||||||||
449/2233 | crisprBase 1.5.0 (landing page) | Jean-Philippe Fortin | OK | |||||||||||||||||||||||||||||||||
450/2233 | crisprBowtie 1.5.0 (landing page) | Jean-Philippe Fortin | OK | |||||||||||||||||||||||||||||||||
451/2233 | crisprBwa 1.5.0 (landing page) | Jean-Philippe Fortin | OK | |||||||||||||||||||||||||||||||||
452/2233 | crisprDesign 1.3.1 (landing page) | Jean-Philippe Fortin | ERROR | |||||||||||||||||||||||||||||||||
453/2233 | crisprScore 1.5.0 (landing page) | Jean-Philippe Fortin | OK | |||||||||||||||||||||||||||||||||
454/2233 | CRISPRseek 1.41.0 (landing page) | Lihua Julie Zhu | ERROR | |||||||||||||||||||||||||||||||||
455/2233 | crisprseekplus 1.27.0 (landing page) | Alper Kucukural | ERROR | |||||||||||||||||||||||||||||||||
456/2233 | CrispRVariants 1.29.1 (landing page) | Helen Lindsay | WARNINGS | |||||||||||||||||||||||||||||||||
457/2233 | crisprVerse 1.3.0 (landing page) | Jean-Philippe Fortin | OK | |||||||||||||||||||||||||||||||||
458/2233 | crisprViz 1.3.1 (landing page) | Jean-Philippe Fortin | ERROR | |||||||||||||||||||||||||||||||||
459/2233 | crlmm 1.59.0 (landing page) | Benilton S Carvalho | ERROR | |||||||||||||||||||||||||||||||||
460/2233 | crossmeta 1.27.0 (landing page) | Alex Pickering | ERROR | |||||||||||||||||||||||||||||||||
461/2233 | CSAR 1.53.0 (landing page) | Jose M Muino | OK | |||||||||||||||||||||||||||||||||
462/2233 | csaw 1.35.0 (landing page) | Aaron Lun | ERROR | |||||||||||||||||||||||||||||||||
463/2233 | csdR 1.7.0 (landing page) | Jakob Peder Pettersen | ERROR | |||||||||||||||||||||||||||||||||
464/2233 | Chandler Zuo | ERROR | ||||||||||||||||||||||||||||||||||
465/2233 | CSSQ 1.13.1 (landing page) | Fan Lab at Georgia Institute of Technology | OK | |||||||||||||||||||||||||||||||||
466/2233 | ctc 1.75.0 (landing page) | Antoine Lucas | OK | |||||||||||||||||||||||||||||||||
467/2233 | CTdata 1.1.4 (landing page) | Laurent Gatto | TIMEOUT | |||||||||||||||||||||||||||||||||
468/2233 | CTDquerier 2.9.0 (landing page) | Xavier Escribà-Montagut | WARNINGS | |||||||||||||||||||||||||||||||||
469/2233 | cTRAP 1.19.0 (landing page) | Nuno Saraiva-Agostinho | ERROR | |||||||||||||||||||||||||||||||||
470/2233 | ctsGE 1.27.0 (landing page) | Michal Sharabi-Schwager | OK | |||||||||||||||||||||||||||||||||
471/2233 | CTSV 1.3.0 (landing page) | Jinge Yu Developer | OK | |||||||||||||||||||||||||||||||||
472/2233 | cummeRbund 2.43.0 (landing page) | Loyal A. Goff | ERROR | |||||||||||||||||||||||||||||||||
473/2233 | CuratedAtlasQueryR 0.99.6 (landing page) | Stefano Mangiola | ERROR | |||||||||||||||||||||||||||||||||
474/2233 | customCMPdb 1.11.0 (landing page) | Yuzhu Duan | OK | |||||||||||||||||||||||||||||||||
475/2233 | customProDB 1.41.0 (landing page) | Xiaojing Wang | ERROR | |||||||||||||||||||||||||||||||||
476/2233 | cyanoFilter 1.9.0 (landing page) | Oluwafemi Olusoji | OK | |||||||||||||||||||||||||||||||||
477/2233 | cycle 1.55.0 (landing page) | Matthias Futschik | OK | |||||||||||||||||||||||||||||||||
478/2233 | cydar 1.25.0 (landing page) | Aaron Lun | OK | |||||||||||||||||||||||||||||||||
479/2233 | CytoDx 1.21.0 (landing page) | Zicheng Hu | OK | |||||||||||||||||||||||||||||||||
480/2233 | CyTOFpower 1.7.0 (landing page) | Anne-Maud Ferreira | ERROR | |||||||||||||||||||||||||||||||||
481/2233 | cytofQC 1.1.0 (landing page) | Jill Lundell | OK | |||||||||||||||||||||||||||||||||
482/2233 | CytoGLMM 1.9.0 (landing page) | Christof Seiler | OK | |||||||||||||||||||||||||||||||||
483/2233 | cytoKernel 1.7.0 (landing page) | Tusharkanti Ghosh | OK | |||||||||||||||||||||||||||||||||
484/2233 | cytolib 2.13.1 (landing page) | Mike Jiang | WARNINGS | |||||||||||||||||||||||||||||||||
485/2233 | cytomapper 1.13.1 (landing page) | Nils Eling | ERROR | |||||||||||||||||||||||||||||||||
486/2233 | cytoMEM 1.5.0 (landing page) | Jonathan Irish | OK | |||||||||||||||||||||||||||||||||
487/2233 | CytoML 2.13.1 (landing page) | Mike Jiang | WARNINGS | |||||||||||||||||||||||||||||||||
488/2233 | CytoPipeline 1.1.5 (landing page) | Philippe Hauchamps | OK | |||||||||||||||||||||||||||||||||
489/2233 | CytoPipelineGUI 0.99.2 (landing page) | Philippe Hauchamps | OK | |||||||||||||||||||||||||||||||||
490/2233 | cytoviewer 1.1.1 (landing page) | Lasse Meyer | OK | |||||||||||||||||||||||||||||||||
|
| |||||||||||||||||||||||||||||||||||
Package | Maintainer | INSTALL/BUILD/CHECK | ||||||||||||||||||||||||||||||||||
491/2233 | dada2 1.29.0 (landing page) | Benjamin Callahan | OK | |||||||||||||||||||||||||||||||||
492/2233 | dagLogo 1.39.0 (landing page) | Jianhong Ou | ERROR | |||||||||||||||||||||||||||||||||
493/2233 | daMA 1.73.0 (landing page) | Jobst Landgrebe | OK | |||||||||||||||||||||||||||||||||
494/2233 | DAMEfinder 1.13.0 (landing page) | Stephany Orjuela | ERROR | |||||||||||||||||||||||||||||||||
495/2233 | DaMiRseq 2.13.0 (landing page) | Mattia Chiesa | ERROR | |||||||||||||||||||||||||||||||||
496/2233 | DAPAR 1.33.0 (landing page) | Samuel Wieczorek | ERROR | |||||||||||||||||||||||||||||||||
497/2233 | DART 1.49.0 (landing page) | Charles Shijie Zheng | OK | |||||||||||||||||||||||||||||||||
498/2233 | dcanr 1.17.0 (landing page) | Dharmesh D. Bhuva | OK | |||||||||||||||||||||||||||||||||
499/2233 | DCATS 0.99.6 (landing page) | Xinyi Lin | OK | |||||||||||||||||||||||||||||||||
500/2233 | dce 1.9.2 (landing page) | Kim Philipp Jablonski | TIMEOUT | |||||||||||||||||||||||||||||||||
501/2233 | dcGSA 1.29.0 (landing page) | Jiehuan sun | WARNINGS | |||||||||||||||||||||||||||||||||
502/2233 | ddCt 1.57.0 (landing page) | Jitao David Zhang | WARNINGS | |||||||||||||||||||||||||||||||||
503/2233 | ddPCRclust 1.21.0 (landing page) | Benedikt G. Brink | OK | |||||||||||||||||||||||||||||||||
504/2233 | dearseq 1.13.3 (landing page) | Boris P. Hejblum | ERROR | |||||||||||||||||||||||||||||||||
505/2233 | debCAM 1.19.0 (landing page) | Lulu Chen | OK | |||||||||||||||||||||||||||||||||
506/2233 | debrowser 1.29.3 (landing page) | Alper Kucukural | OK | |||||||||||||||||||||||||||||||||
507/2233 | DECIPHER 2.29.2 (landing page) | Erik Wright | TIMEOUT | |||||||||||||||||||||||||||||||||
508/2233 | Francisco Jose Campos Laborie | ERROR | ||||||||||||||||||||||||||||||||||
509/2233 | decompTumor2Sig 2.17.0 (landing page) | Rosario M. Piro | ERROR | |||||||||||||||||||||||||||||||||
510/2233 | DeconRNASeq 1.43.0 (landing page) | Ting Gong | OK | |||||||||||||||||||||||||||||||||
511/2233 | decontam 1.21.0 (landing page) | Benjamin Callahan | OK | |||||||||||||||||||||||||||||||||
512/2233 | deconvR 1.7.0 (landing page) | Irem B. Gündüz | ERROR | |||||||||||||||||||||||||||||||||
513/2233 | decoupleR 2.7.0 (landing page) | Pau Badia-i-Mompel | ERROR | |||||||||||||||||||||||||||||||||
514/2233 | Felipe Albrecht | ERROR | ||||||||||||||||||||||||||||||||||
515/2233 | DeepPINCS 1.9.3 (landing page) | Dongmin Jung | ERROR | |||||||||||||||||||||||||||||||||
516/2233 | deepSNV 1.47.0 (landing page) | Moritz Gerstung | ERROR | |||||||||||||||||||||||||||||||||
517/2233 | DEFormats 1.29.0 (landing page) | Andrzej Oleś | OK | |||||||||||||||||||||||||||||||||
518/2233 | DegNorm 1.11.0 (landing page) | Ji-Ping Wang | ERROR | |||||||||||||||||||||||||||||||||
519/2233 | DEGraph 1.53.0 (landing page) | Laurent Jacob | OK | |||||||||||||||||||||||||||||||||
520/2233 | DEGreport 1.37.0 (landing page) | Lorena Pantano | ERROR | |||||||||||||||||||||||||||||||||
521/2233 | DEGseq 1.55.0 (landing page) | Likun Wang | WARNINGS | |||||||||||||||||||||||||||||||||
522/2233 | DelayedArray 0.27.10 (landing page) | Hervé Pagès | ERROR | |||||||||||||||||||||||||||||||||
523/2233 | DelayedDataFrame 1.17.0 (landing page) | Qian Liu | OK | |||||||||||||||||||||||||||||||||
524/2233 | DelayedMatrixStats 1.23.4 (landing page) | Peter Hickey | ERROR | |||||||||||||||||||||||||||||||||
525/2233 | DelayedRandomArray 1.9.1 (landing page) | Aaron Lun | OK | |||||||||||||||||||||||||||||||||
526/2233 | DelayedTensor 1.7.0 (landing page) | Koki Tsuyuzaki | WARNINGS | |||||||||||||||||||||||||||||||||
527/2233 | DELocal 1.1.1 (landing page) | Rishi Das Roy | ERROR | |||||||||||||||||||||||||||||||||
528/2233 | deltaCaptureC 1.15.0 (landing page) | Michael Shapiro | OK | |||||||||||||||||||||||||||||||||
529/2233 | deltaGseg 1.41.0 (landing page) | Diana Low | WARNINGS | |||||||||||||||||||||||||||||||||
530/2233 | DeMAND 1.31.0 (landing page) | Jung Hoon Woo | OK | |||||||||||||||||||||||||||||||||
531/2233 | DeMixT 1.17.0 (landing page) | Shuai Guo | WARNINGS | |||||||||||||||||||||||||||||||||
532/2233 | demuxmix 1.3.1 (landing page) | Hans-Ulrich Klein | OK | |||||||||||||||||||||||||||||||||
533/2233 | demuxSNP 0.99.15 (landing page) | Michael Lynch | ERROR | |||||||||||||||||||||||||||||||||
534/2233 | densvis 1.11.5 (landing page) | Alan O'Callaghan | ERROR | |||||||||||||||||||||||||||||||||
535/2233 | DEP 1.23.0 (landing page) | Arne Smits | WARNINGS | |||||||||||||||||||||||||||||||||
536/2233 | DepecheR 1.17.4 (landing page) | Jakob Theorell | OK | |||||||||||||||||||||||||||||||||
537/2233 | DepInfeR 1.5.0 (landing page) | Junyan Lu | OK | |||||||||||||||||||||||||||||||||
538/2233 | DEqMS 1.19.0 (landing page) | Yafeng Zhu | TIMEOUT | |||||||||||||||||||||||||||||||||
539/2233 | derfinder 1.35.0 (landing page) | Leonardo Collado-Torres | ERROR | |||||||||||||||||||||||||||||||||
540/2233 | derfinderHelper 1.35.0 (landing page) | Leonardo Collado-Torres | OK | |||||||||||||||||||||||||||||||||
541/2233 | derfinderPlot 1.35.0 (landing page) | Leonardo Collado-Torres | ERROR | |||||||||||||||||||||||||||||||||
542/2233 | DEScan2 1.21.0 (landing page) | Dario Righelli | ERROR | |||||||||||||||||||||||||||||||||
543/2233 | DESeq2 1.41.12 (landing page) | Michael Love | ERROR | |||||||||||||||||||||||||||||||||
544/2233 | DEsingle 1.21.0 (landing page) | Zhun Miao | OK | |||||||||||||||||||||||||||||||||
545/2233 | DESpace 1.1.1 (landing page) | Peiying Cai | TIMEOUT | |||||||||||||||||||||||||||||||||
546/2233 | destiny 3.15.0 (landing page) | Philipp Angerer | TIMEOUT | |||||||||||||||||||||||||||||||||
547/2233 | DEsubs 1.27.0 (landing page) | Aristidis G. Vrahatis | WARNINGS | |||||||||||||||||||||||||||||||||
548/2233 | DEWSeq 1.15.0 (landing page) | bioinformatics team Hentze | ERROR | |||||||||||||||||||||||||||||||||
549/2233 | DExMA 1.9.1 (landing page) | Juan Antonio Villatoro-García | OK | |||||||||||||||||||||||||||||||||
550/2233 | DEXSeq 1.47.0 (landing page) | Alejandro Reyes | ERROR | |||||||||||||||||||||||||||||||||
551/2233 | DFP 1.59.0 (landing page) | Rodrigo Alvarez-Glez | OK | |||||||||||||||||||||||||||||||||
552/2233 | DIAlignR 2.9.0 (landing page) | Shubham Gupta | ERROR | |||||||||||||||||||||||||||||||||
553/2233 | DiffBind 3.11.1 (landing page) | Rory Stark | ERROR | |||||||||||||||||||||||||||||||||
554/2233 | diffcoexp 1.21.1 (landing page) | Wenbin Wei | OK | |||||||||||||||||||||||||||||||||
555/2233 | diffcyt 1.21.0 (landing page) | Lukas M. Weber | TIMEOUT | |||||||||||||||||||||||||||||||||
556/2233 | DifferentialRegulation 1.99.0 (landing page) | Simone Tiberi | ERROR | |||||||||||||||||||||||||||||||||
557/2233 | diffGeneAnalysis 1.83.0 (landing page) | Choudary Jagarlamudi | OK | |||||||||||||||||||||||||||||||||
558/2233 | diffHic 1.33.0 (landing page) | Aaron Lun | ERROR | |||||||||||||||||||||||||||||||||
559/2233 | DiffLogo 2.25.0 (landing page) | Hendrik Treutler | WARNINGS | |||||||||||||||||||||||||||||||||
560/2233 | diffuStats 1.21.0 (landing page) | Sergio Picart-Armada | OK | |||||||||||||||||||||||||||||||||
561/2233 | diffUTR 1.9.0 (landing page) | Pierre-Luc Germain | OK | |||||||||||||||||||||||||||||||||
562/2233 | diggit 1.33.0 (landing page) | Mariano J Alvarez | WARNINGS | |||||||||||||||||||||||||||||||||
563/2233 | Dino 1.7.0 (landing page) | Jared Brown | OK | |||||||||||||||||||||||||||||||||
564/2233 | dir.expiry 1.9.0 (landing page) | Aaron Lun | OK | |||||||||||||||||||||||||||||||||
565/2233 | Director 1.27.0 (landing page) | Katherine Icay | OK | |||||||||||||||||||||||||||||||||
566/2233 | DirichletMultinomial 1.43.0 (landing page) | Martin Morgan | WARNINGS | |||||||||||||||||||||||||||||||||
567/2233 | discordant 1.25.0 (landing page) | McGrath Max | OK | |||||||||||||||||||||||||||||||||
568/2233 | DiscoRhythm 1.17.0 (landing page) | Matthew Carlucci | OK | |||||||||||||||||||||||||||||||||
569/2233 | distinct 1.13.1 (landing page) | Simone Tiberi | ERROR | |||||||||||||||||||||||||||||||||
570/2233 | dittoSeq 1.13.3 (landing page) | Daniel Bunis | TIMEOUT | |||||||||||||||||||||||||||||||||
571/2233 | divergence 1.17.0 (landing page) | Wikum Dinalankara | OK | |||||||||||||||||||||||||||||||||
572/2233 | dks 1.47.0 (landing page) | Jeffrey T. Leek | OK | |||||||||||||||||||||||||||||||||
573/2233 | DMCFB 1.15.0 (landing page) | Farhad Shokoohi | ERROR | |||||||||||||||||||||||||||||||||
574/2233 | DMCHMM 1.23.0 (landing page) | Farhad Shokoohi | WARNINGS | |||||||||||||||||||||||||||||||||
575/2233 | DMRcaller 1.33.0 (landing page) | Nicolae Radu Zabet | OK | |||||||||||||||||||||||||||||||||
576/2233 | DMRcate 2.15.1 (landing page) | Tim Peters | ERROR | |||||||||||||||||||||||||||||||||
577/2233 | Martin Rijlaarsdam | ERROR | ||||||||||||||||||||||||||||||||||
578/2233 | DMRScan 1.23.0 (landing page) | Christian M Page | ERROR | |||||||||||||||||||||||||||||||||
579/2233 | dmrseq 1.21.2 (landing page) | Keegan Korthauer | ERROR | |||||||||||||||||||||||||||||||||
580/2233 | DNABarcodeCompatibility 1.17.0 (landing page) | Céline Trébeau | ERROR | |||||||||||||||||||||||||||||||||
581/2233 | DNABarcodes 1.31.0 (landing page) | Tilo Buschmann | ERROR | |||||||||||||||||||||||||||||||||
582/2233 | DNAcopy 1.75.4 (landing page) | Venkatraman E. Seshan | OK | |||||||||||||||||||||||||||||||||
583/2233 | DNAfusion 1.3.0 (landing page) | Christoffer Trier Maansson | ERROR | |||||||||||||||||||||||||||||||||
584/2233 | DNAshapeR 1.29.0 (landing page) | Tsu-Pei Chiu | OK | |||||||||||||||||||||||||||||||||
585/2233 | DominoEffect 1.21.1 (landing page) | Marija Buljan | OK | |||||||||||||||||||||||||||||||||
586/2233 | doppelgangR 1.29.1 (landing page) | Levi Waldron | ERROR | |||||||||||||||||||||||||||||||||
587/2233 | Doscheda 1.23.0 (landing page) | Bruno Contrino | OK | |||||||||||||||||||||||||||||||||
588/2233 | DOSE 3.27.2 (landing page) | Guangchuang Yu | OK | |||||||||||||||||||||||||||||||||
589/2233 | doseR 1.17.0 (landing page) | ake.vastermark | OK | |||||||||||||||||||||||||||||||||
590/2233 | doubletrouble 1.1.0 (landing page) | Fabrício Almeida-Silva | OK | |||||||||||||||||||||||||||||||||
591/2233 | dpeak 1.13.0 (landing page) | Dongjun Chung | ERROR | |||||||||||||||||||||||||||||||||
592/2233 | drawProteins 1.21.0 (landing page) | Paul Brennan | OK | |||||||||||||||||||||||||||||||||
593/2233 | dreamlet 0.99.29 (landing page) | Gabriel Hoffman | ERROR | |||||||||||||||||||||||||||||||||
594/2233 | DRIMSeq 1.29.0 (landing page) | Malgorzata Nowicka | WARNINGS | |||||||||||||||||||||||||||||||||
595/2233 | DriverNet 1.41.0 (landing page) | Jiarui Ding | OK | |||||||||||||||||||||||||||||||||
596/2233 | DropletUtils 1.21.0 (landing page) | Jonathan Griffiths | ERROR | |||||||||||||||||||||||||||||||||
597/2233 | drugTargetInteractions 1.9.0 (landing page) | Thomas Girke | OK | |||||||||||||||||||||||||||||||||
598/2233 | DrugVsDisease 2.43.0 (landing page) | j. Saez-Rodriguez | ERROR | |||||||||||||||||||||||||||||||||
599/2233 | DSS 2.49.0 (landing page) | Hao Wu | ERROR | |||||||||||||||||||||||||||||||||
600/2233 | dStruct 1.7.1 (landing page) | Krishna Choudhary | OK | |||||||||||||||||||||||||||||||||
601/2233 | DTA 2.47.0 (landing page) | Bjoern Schwalb | OK | |||||||||||||||||||||||||||||||||
602/2233 | Dune 1.13.0 (landing page) | Hector Roux de Bezieux | OK | |||||||||||||||||||||||||||||||||
603/2233 | dupRadar 1.31.0 (landing page) | Sergi Sayols | WARNINGS | |||||||||||||||||||||||||||||||||
604/2233 | dyebias 1.61.0 (landing page) | Philip Lijnzaad | OK | |||||||||||||||||||||||||||||||||
605/2233 | DynDoc 1.79.0 (landing page) | Bioconductor Package Maintainer | OK | |||||||||||||||||||||||||||||||||
|
| |||||||||||||||||||||||||||||||||||
Package | Maintainer | INSTALL/BUILD/CHECK | ||||||||||||||||||||||||||||||||||
606/2233 | easier 1.7.1 (landing page) | Oscar Lapuente-Santana | TIMEOUT | |||||||||||||||||||||||||||||||||
607/2233 | EasyCellType 1.3.0 (landing page) | Ruoxing Li | ERROR | |||||||||||||||||||||||||||||||||
608/2233 | easyreporting 1.13.0 (landing page) | Dario Righelli | OK | |||||||||||||||||||||||||||||||||
609/2233 | easyRNASeq 2.37.0 (landing page) | Nicolas Delhomme | ERROR | |||||||||||||||||||||||||||||||||
610/2233 | EBarrays 2.65.0 (landing page) | Ming Yuan | OK | |||||||||||||||||||||||||||||||||
611/2233 | EBcoexpress 1.45.0 (landing page) | John A. Dawson | WARNINGS | |||||||||||||||||||||||||||||||||
612/2233 | EBImage 4.43.0 (landing page) | Andrzej Oleś | OK | |||||||||||||||||||||||||||||||||
613/2233 | EBSEA 1.29.0 (landing page) | Arfa Mehmood | OK | |||||||||||||||||||||||||||||||||
614/2233 | EBSeq 1.99.5 (landing page) | Xiuyu Ma | OK | |||||||||||||||||||||||||||||||||
615/2233 | EBSeqHMM 1.35.0 (landing page) | Ning Leng | ERROR | |||||||||||||||||||||||||||||||||
616/2233 | ecolitk 1.73.0 (landing page) | Laurent Gautier | WARNINGS | |||||||||||||||||||||||||||||||||
617/2233 | EDASeq 2.35.0 (landing page) | Davide Risso | OK | |||||||||||||||||||||||||||||||||
618/2233 | edge 2.33.0 (landing page) | John D. Storey | WARNINGS | |||||||||||||||||||||||||||||||||
619/2233 | edgeR 3.99.0 (landing page) | Yunshun Chen | OK | |||||||||||||||||||||||||||||||||
620/2233 | EDIRquery 1.1.0 (landing page) | Laura D.T. Vo Ngoc | OK | |||||||||||||||||||||||||||||||||
621/2233 | eds 1.3.0 (landing page) | Avi Srivastava | OK | |||||||||||||||||||||||||||||||||
622/2233 | eegc 1.27.0 (landing page) | Xiaoyuan Zhou | ERROR | |||||||||||||||||||||||||||||||||
623/2233 | EGAD 1.29.0 (landing page) | Sara Ballouz | WARNINGS | |||||||||||||||||||||||||||||||||
624/2233 | EGSEA 1.29.0 (landing page) | Monther Alhamdoosh | ERROR | |||||||||||||||||||||||||||||||||
625/2233 | eiR 1.41.0 (landing page) | Thomas Girke | WARNINGS | |||||||||||||||||||||||||||||||||
626/2233 | eisaR 1.13.0 (landing page) | Michael Stadler | ERROR | |||||||||||||||||||||||||||||||||
627/2233 | ELMER 2.25.3 (landing page) | Tiago Chedraoui Silva | TIMEOUT | |||||||||||||||||||||||||||||||||
628/2233 | EMDomics 2.31.0 (landing page) | Sadhika Malladi | OK | |||||||||||||||||||||||||||||||||
629/2233 | EmpiricalBrownsMethod 1.29.0 (landing page) | David Gibbs | OK | |||||||||||||||||||||||||||||||||
630/2233 | EnhancedVolcano 1.19.0 (landing page) | Kevin Blighe | ERROR | |||||||||||||||||||||||||||||||||
631/2233 | enhancerHomologSearch 1.7.0 (landing page) | Jianhong Ou | ERROR | |||||||||||||||||||||||||||||||||
632/2233 | EnMCB 1.13.0 (landing page) | Xin Yu | OK | |||||||||||||||||||||||||||||||||
633/2233 | ENmix 1.37.08 (landing page) | Zongli Xu | OK | |||||||||||||||||||||||||||||||||
634/2233 | EnrichedHeatmap 1.31.0 (landing page) | Zuguang Gu | OK | |||||||||||||||||||||||||||||||||
635/2233 | EnrichmentBrowser 2.31.5 (landing page) | Ludwig Geistlinger | ERROR | |||||||||||||||||||||||||||||||||
636/2233 | enrichplot 1.21.3 (landing page) | Guangchuang Yu | OK | |||||||||||||||||||||||||||||||||
637/2233 | enrichTF 1.17.0 (landing page) | Zheng Wei | ERROR | |||||||||||||||||||||||||||||||||
638/2233 | ensembldb 2.25.1 (landing page) | Johannes Rainer | OK | |||||||||||||||||||||||||||||||||
639/2233 | ensemblVEP 1.43.0 (landing page) | Bioconductor Package Maintainer | ERROR | |||||||||||||||||||||||||||||||||
640/2233 | epialleleR 1.9.5 (landing page) | Oleksii Nikolaienko | WARNINGS | |||||||||||||||||||||||||||||||||
641/2233 | EpiCompare 1.5.0 (landing page) | Sera Choi | ERROR | |||||||||||||||||||||||||||||||||
642/2233 | epidecodeR 1.9.0 (landing page) | Kandarp Joshi | OK | |||||||||||||||||||||||||||||||||
643/2233 | EpiDISH 2.17.0 (landing page) | Shijie C. Zheng | OK | |||||||||||||||||||||||||||||||||
644/2233 | epigenomix 1.41.0 (landing page) | Hans-Ulrich Klein | OK | |||||||||||||||||||||||||||||||||
645/2233 | epigraHMM 1.9.1 (landing page) | Pedro Baldoni | ERROR | |||||||||||||||||||||||||||||||||
646/2233 | EpiMix 1.3.4 (landing page) | Yuanning Zheng | TIMEOUT | |||||||||||||||||||||||||||||||||
647/2233 | epimutacions 1.5.3 (landing page) | Dolors Pelegri-Siso | ERROR | |||||||||||||||||||||||||||||||||
648/2233 | epiNEM 1.25.0 (landing page) | Martin Pirkl | ERROR | |||||||||||||||||||||||||||||||||
649/2233 | epistack 1.7.2 (landing page) | DEVAILLY Guillaume | OK | |||||||||||||||||||||||||||||||||
650/2233 | epistasisGA 1.3.0 (landing page) | Michael Nodzenski | OK | |||||||||||||||||||||||||||||||||
651/2233 | EpiTxDb 1.13.0 (landing page) | Felix G.M. Ernst | ERROR | |||||||||||||||||||||||||||||||||
652/2233 | epivizr 2.31.0 (landing page) | Hector Corrada Bravo | OK | |||||||||||||||||||||||||||||||||
653/2233 | epivizrChart 1.23.0 (landing page) | Hector Corrada Bravo | OK | |||||||||||||||||||||||||||||||||
654/2233 | epivizrData 1.29.0 (landing page) | Hector Corrada Bravo | OK | |||||||||||||||||||||||||||||||||
655/2233 | epivizrServer 1.29.0 (landing page) | Hector Corrada Bravo | OK | |||||||||||||||||||||||||||||||||
656/2233 | epivizrStandalone 1.29.0 (landing page) | Hector Corrada Bravo | WARNINGS | |||||||||||||||||||||||||||||||||
657/2233 | erccdashboard 1.35.0 (landing page) | Sarah Munro | OK | |||||||||||||||||||||||||||||||||
658/2233 | erma 1.17.0 (landing page) | VJ Carey | OK | |||||||||||||||||||||||||||||||||
659/2233 | ERSSA 1.19.1 (landing page) | Zixuan Shao | OK | |||||||||||||||||||||||||||||||||
660/2233 | esATAC 1.23.0 (landing page) | Zheng Wei | OK | |||||||||||||||||||||||||||||||||
661/2233 | escape 1.11.0 (landing page) | Nick Borcherding | OK | |||||||||||||||||||||||||||||||||
662/2233 | escheR 1.1.1 (landing page) | Boyi Guo | ERROR | |||||||||||||||||||||||||||||||||
663/2233 | esetVis 1.27.1 (landing page) | Laure Cougnaud | ERROR | |||||||||||||||||||||||||||||||||
664/2233 | eudysbiome 1.31.0 (landing page) | Xiaoyuan Zhou | OK | |||||||||||||||||||||||||||||||||
665/2233 | evaluomeR 1.17.0 (landing page) | José Antonio Bernabé-Díaz | OK | |||||||||||||||||||||||||||||||||
666/2233 | EventPointer 3.9.0 (landing page) | Juan A. Ferrer-Bonsoms | OK | |||||||||||||||||||||||||||||||||
667/2233 | EWCE 1.9.3 (landing page) | Alan Murphy | TIMEOUT | |||||||||||||||||||||||||||||||||
668/2233 | ExCluster 1.19.0 (landing page) | R. Matthew Tanner | OK | |||||||||||||||||||||||||||||||||
669/2233 | ExiMiR 2.43.0 (landing page) | Sylvain Gubian | OK | |||||||||||||||||||||||||||||||||
670/2233 | Michael Love | WARNINGS | ||||||||||||||||||||||||||||||||||
671/2233 | exomePeak2 1.13.0 (landing page) | Zhen Wei | ERROR | |||||||||||||||||||||||||||||||||
672/2233 | ExperimentHub 2.9.1 (landing page) | Bioconductor Package Maintainer | TIMEOUT | |||||||||||||||||||||||||||||||||
673/2233 | ExperimentHubData 1.27.0 (landing page) | Bioconductor Package Maintainer | WARNINGS | |||||||||||||||||||||||||||||||||
674/2233 | ExperimentSubset 1.11.0 (landing page) | Irzam Sarfraz | ERROR | |||||||||||||||||||||||||||||||||
675/2233 | ExploreModelMatrix 1.13.0 (landing page) | Charlotte Soneson | OK | |||||||||||||||||||||||||||||||||
676/2233 | ExpressionAtlas 1.29.0 (landing page) | Pedro Madrigal | OK | |||||||||||||||||||||||||||||||||
677/2233 | extraChIPs 1.5.11 (landing page) | Stephen Pederson | OK | |||||||||||||||||||||||||||||||||
|
| |||||||||||||||||||||||||||||||||||
Package | Maintainer | INSTALL/BUILD/CHECK | ||||||||||||||||||||||||||||||||||
678/2233 | fabia 2.47.0 (landing page) | Andreas Mitterecker | WARNINGS | |||||||||||||||||||||||||||||||||
679/2233 | factDesign 1.77.0 (landing page) | Denise Scholtens | OK | |||||||||||||||||||||||||||||||||
680/2233 | factR 1.3.1 (landing page) | Fursham Hamid | ERROR | |||||||||||||||||||||||||||||||||
681/2233 | FamAgg 1.29.0 (landing page) | Johannes Rainer | OK | |||||||||||||||||||||||||||||||||
682/2233 | famat 1.11.0 (landing page) | Mathieu Charles | ERROR | |||||||||||||||||||||||||||||||||
683/2233 | farms 1.53.0 (landing page) | Djork-Arne Clevert | ERROR | |||||||||||||||||||||||||||||||||
684/2233 | fastLiquidAssociation 1.37.0 (landing page) | Tina Gunderson | WARNINGS | |||||||||||||||||||||||||||||||||
685/2233 | FastqCleaner 1.19.0 (landing page) | Leandro Roser | OK | |||||||||||||||||||||||||||||||||
686/2233 | fastreeR 1.5.2 (landing page) | Anestis Gkanogiannis | OK | |||||||||||||||||||||||||||||||||
687/2233 | fastseg 1.47.1 (landing page) | Alexander Blume | OK | |||||||||||||||||||||||||||||||||
688/2233 | FCBF 2.9.0 (landing page) | Tiago Lubiana | ERROR | |||||||||||||||||||||||||||||||||
689/2233 | fCCAC 1.27.0 (landing page) | Pedro Madrigal | OK | |||||||||||||||||||||||||||||||||
690/2233 | fCI 1.31.0 (landing page) | Shaojun Tang | OK | |||||||||||||||||||||||||||||||||
691/2233 | Tiago Lubiana | ERROR | ||||||||||||||||||||||||||||||||||
692/2233 | fcScan 1.15.0 (landing page) | Pierre Khoueiry | OK | |||||||||||||||||||||||||||||||||
693/2233 | fdrame 1.73.0 (landing page) | Effi Kenigsberg | OK | |||||||||||||||||||||||||||||||||
694/2233 | FEAST 1.9.0 (landing page) | Kenong Su | OK | |||||||||||||||||||||||||||||||||
695/2233 | FeatSeekR 1.1.0 (landing page) | Tuemay Capraz | OK | |||||||||||||||||||||||||||||||||
696/2233 | fedup 1.9.0 (landing page) | Catherine Ross | OK | |||||||||||||||||||||||||||||||||
697/2233 | FELLA 1.21.0 (landing page) | Sergio Picart-Armada | TIMEOUT | |||||||||||||||||||||||||||||||||
698/2233 | ffpe 1.45.0 (landing page) | Levi Waldron | OK | |||||||||||||||||||||||||||||||||
699/2233 | fgga 1.9.0 (landing page) | Flavio Spetale | ERROR | |||||||||||||||||||||||||||||||||
700/2233 | FGNet 3.35.0 (landing page) | Sara Aibar | WARNINGS | |||||||||||||||||||||||||||||||||
701/2233 | fgsea 1.27.1 (landing page) | Alexey Sergushichev | ERROR | |||||||||||||||||||||||||||||||||
702/2233 | FilterFFPE 1.11.0 (landing page) | Lanying Wei | OK | |||||||||||||||||||||||||||||||||
703/2233 | FindIT2 1.7.0 (landing page) | Guandong Shang | OK | |||||||||||||||||||||||||||||||||
704/2233 | FISHalyseR 1.35.0 (landing page) | Karesh Arunakirinathan | WARNINGS | |||||||||||||||||||||||||||||||||
705/2233 | fishpond 2.7.4 (landing page) | Michael Love | OK | |||||||||||||||||||||||||||||||||
706/2233 | FitHiC 1.27.0 (landing page) | Ruyu Tan | ERROR | |||||||||||||||||||||||||||||||||
707/2233 | flagme 1.57.0 (landing page) | Mark Robinson | WARNINGS | |||||||||||||||||||||||||||||||||
708/2233 | FLAMES 1.7.2 (landing page) | Oliver Voogd | ERROR | |||||||||||||||||||||||||||||||||
709/2233 | flowAI 1.31.0 (landing page) | Gianni Monaco | OK | |||||||||||||||||||||||||||||||||
710/2233 | flowBeads 1.39.0 (landing page) | Nikolas Pontikos | WARNINGS | |||||||||||||||||||||||||||||||||
711/2233 | flowBin 1.37.0 (landing page) | Kieran O'Neill | OK | |||||||||||||||||||||||||||||||||
712/2233 | flowcatchR 1.35.0 (landing page) | Federico Marini | OK | |||||||||||||||||||||||||||||||||
713/2233 | flowCHIC 1.35.0 (landing page) | Author: Joachim Schumann | OK | |||||||||||||||||||||||||||||||||
714/2233 | flowClean 1.39.0 (landing page) | Kipper Fletez-Brant | WARNINGS | |||||||||||||||||||||||||||||||||
715/2233 | flowClust 3.39.0 (landing page) | Greg Finak | ERROR | |||||||||||||||||||||||||||||||||
716/2233 | flowCore 2.13.1 (landing page) | Mike Jiang | WARNINGS | |||||||||||||||||||||||||||||||||
717/2233 | flowCut 1.11.0 (landing page) | Justin Meskas | OK | |||||||||||||||||||||||||||||||||
718/2233 | flowCyBar 1.37.0 (landing page) | Joachim Schumann | OK | |||||||||||||||||||||||||||||||||
719/2233 | flowDensity 1.35.0 (landing page) | Mehrnoush Malek | WARNINGS | |||||||||||||||||||||||||||||||||
720/2233 | flowFP 1.59.0 (landing page) | Herb Holyst | OK | |||||||||||||||||||||||||||||||||
721/2233 | flowGate 1.1.0 (landing page) | Andrew Wight | OK | |||||||||||||||||||||||||||||||||
722/2233 | flowGraph 1.9.0 (landing page) | Alice Yue | OK | |||||||||||||||||||||||||||||||||
723/2233 | flowMap 1.39.0 (landing page) | Chiaowen Joyce Hsiao | ERROR | |||||||||||||||||||||||||||||||||
724/2233 | flowMatch 1.37.0 (landing page) | Ariful Azad | OK | |||||||||||||||||||||||||||||||||
725/2233 | flowMeans 1.61.0 (landing page) | Nima Aghaeepour | OK | |||||||||||||||||||||||||||||||||
726/2233 | flowMerge 2.49.0 (landing page) | Greg Finak | WARNINGS | |||||||||||||||||||||||||||||||||
727/2233 | flowPeaks 1.47.0 (landing page) | Yongchao Ge | WARNINGS | |||||||||||||||||||||||||||||||||
728/2233 | flowPloidy 1.27.0 (landing page) | Tyler Smith | OK | |||||||||||||||||||||||||||||||||
729/2233 | flowPlots 1.49.0 (landing page) | N. Hawkins | OK | |||||||||||||||||||||||||||||||||
730/2233 | FlowSOM 2.9.2 (landing page) | Sofie Van Gassen | OK | |||||||||||||||||||||||||||||||||
731/2233 | flowSpecs 1.15.0 (landing page) | Jakob Theorell | OK | |||||||||||||||||||||||||||||||||
732/2233 | flowStats 4.13.1 (landing page) | Greg Finak | ERROR | |||||||||||||||||||||||||||||||||
733/2233 | flowTime 1.25.0 (landing page) | R. Clay Wright | OK | |||||||||||||||||||||||||||||||||
734/2233 | flowTrans 1.53.0 (landing page) | Greg Finak | OK | |||||||||||||||||||||||||||||||||
735/2233 | flowViz 1.65.0 (landing page) | Mike Jiang | OK | |||||||||||||||||||||||||||||||||
736/2233 | flowVS 1.33.0 (landing page) | Ariful Azad | OK | |||||||||||||||||||||||||||||||||
737/2233 | flowWorkspace 4.13.2 (landing page) | Greg Finak | WARNINGS | |||||||||||||||||||||||||||||||||
738/2233 | fmcsR 1.43.0 (landing page) | Thomas Girke | WARNINGS | |||||||||||||||||||||||||||||||||
739/2233 | fmrs 1.11.2 (landing page) | Farhad Shokoohi | OK | |||||||||||||||||||||||||||||||||
740/2233 | fobitools 1.9.0 (landing page) | Pol Castellano-Escuder | OK | |||||||||||||||||||||||||||||||||
741/2233 | FoldGO 1.19.0 (landing page) | Daniil Wiebe | ERROR | |||||||||||||||||||||||||||||||||
742/2233 | FRASER 1.13.0 (landing page) | Christian Mertes | ERROR | |||||||||||||||||||||||||||||||||
743/2233 | frenchFISH 1.13.0 (landing page) | Adam Berman | OK | |||||||||||||||||||||||||||||||||
744/2233 | FRGEpistasis 1.37.0 (landing page) | Futao Zhang | OK | |||||||||||||||||||||||||||||||||
745/2233 | frma 1.53.0 (landing page) | Matthew N. McCall | OK | |||||||||||||||||||||||||||||||||
746/2233 | frmaTools 1.53.0 (landing page) | Matthew N. McCall | OK | |||||||||||||||||||||||||||||||||
747/2233 | FScanR 1.11.0 (landing page) | Xiao Chen | ERROR | |||||||||||||||||||||||||||||||||
748/2233 | FunChIP 1.27.0 (landing page) | Alice Parodi | WARNINGS | |||||||||||||||||||||||||||||||||
749/2233 | funtooNorm 1.25.0 (landing page) | Kathleen Klein | WARNINGS | |||||||||||||||||||||||||||||||||
750/2233 | FuseSOM 1.3.0 (landing page) | Elijah Willie | OK | |||||||||||||||||||||||||||||||||
|
| |||||||||||||||||||||||||||||||||||
Package | Maintainer | INSTALL/BUILD/CHECK | ||||||||||||||||||||||||||||||||||
751/2233 | GA4GHclient 1.25.0 (landing page) | Welliton Souza | OK | |||||||||||||||||||||||||||||||||
752/2233 | GA4GHshiny 1.23.0 (landing page) | Welliton Souza | OK | |||||||||||||||||||||||||||||||||
753/2233 | gaga 2.47.0 (landing page) | David Rossell | WARNINGS | |||||||||||||||||||||||||||||||||
754/2233 | gage 2.51.0 (landing page) | Weijun Luo | ERROR | |||||||||||||||||||||||||||||||||
755/2233 | Christopher Bare | WARNINGS | ||||||||||||||||||||||||||||||||||
756/2233 | GAprediction 1.27.0 (landing page) | Jon Bohlin | OK | |||||||||||||||||||||||||||||||||
757/2233 | garfield 1.29.0 (landing page) | Valentina Iotchkova | WARNINGS | |||||||||||||||||||||||||||||||||
758/2233 | GARS 1.21.0 (landing page) | Mattia Chiesa | WARNINGS | |||||||||||||||||||||||||||||||||
759/2233 | GateFinder 1.21.0 (landing page) | Nima Aghaeepour | WARNINGS | |||||||||||||||||||||||||||||||||
760/2233 | GBScleanR 1.5.8 (landing page) | Tomoyuki Furuta | WARNINGS | |||||||||||||||||||||||||||||||||
761/2233 | gcapc 1.25.0 (landing page) | Mingxiang Teng | OK | |||||||||||||||||||||||||||||||||
762/2233 | gcatest 2.1.9 (landing page) | Alejandro Ochoa | OK | |||||||||||||||||||||||||||||||||
763/2233 | gCrisprTools 2.7.0 (landing page) | Russell Bainer | OK | |||||||||||||||||||||||||||||||||
764/2233 | gcrma 2.73.0 (landing page) | Z. Wu | OK | |||||||||||||||||||||||||||||||||
765/2233 | Guy M. Harris | ERROR | ||||||||||||||||||||||||||||||||||
766/2233 | GDCRNATools 1.21.1 (landing page) | Ruidong Li | OK | |||||||||||||||||||||||||||||||||
767/2233 | gDNAx 0.99.15 (landing page) | Beatriz Calvo-Serra | TIMEOUT | |||||||||||||||||||||||||||||||||
768/2233 | gDR 0.99.7 (landing page) | Arkadiusz Gladki | OK | |||||||||||||||||||||||||||||||||
769/2233 | gDRcore 0.99.35 (landing page) | Arkadiusz Gladki | OK | |||||||||||||||||||||||||||||||||
770/2233 | gDRimport 0.99.19 (landing page) | Arkadiusz Gladki | OK | |||||||||||||||||||||||||||||||||
771/2233 | gDRstyle 0.99.20 (landing page) | Arkadiusz Gladki | OK | |||||||||||||||||||||||||||||||||
772/2233 | gDRutils 0.99.28 (landing page) | Arkadiusz Gladki | OK | |||||||||||||||||||||||||||||||||
773/2233 | GDSArray 1.21.0 (landing page) | Qian Liu | OK | |||||||||||||||||||||||||||||||||
774/2233 | gdsfmt 1.37.1 (landing page) | Xiuwen Zheng | OK | |||||||||||||||||||||||||||||||||
775/2233 | GEM 1.27.0 (landing page) | Hong Pan | OK | |||||||||||||||||||||||||||||||||
776/2233 | gemini 1.15.0 (landing page) | Sidharth Jain | OK | |||||||||||||||||||||||||||||||||
777/2233 | gemma.R 1.99.1 (landing page) | Ogan Mancarci | OK | |||||||||||||||||||||||||||||||||
778/2233 | genArise 1.77.0 (landing page) | IFC Development Team | WARNINGS | |||||||||||||||||||||||||||||||||
779/2233 | Gabriel Becker | ERROR | ||||||||||||||||||||||||||||||||||
780/2233 | geneAttribution 1.27.0 (landing page) | Arthur Wuster | OK | |||||||||||||||||||||||||||||||||
781/2233 | GeneBreak 1.31.0 (landing page) | Evert van den Broek | OK | |||||||||||||||||||||||||||||||||
782/2233 | geneClassifiers 1.25.0 (landing page) | R Kuiper | OK | |||||||||||||||||||||||||||||||||
783/2233 | GeneExpressionSignature 1.47.0 (landing page) | Yang Cao | OK | |||||||||||||||||||||||||||||||||
784/2233 | genefilter 1.83.1 (landing page) | Bioconductor Package Maintainer | WARNINGS | |||||||||||||||||||||||||||||||||
785/2233 | genefu 2.33.0 (landing page) | Benjamin Haibe-Kains | OK | |||||||||||||||||||||||||||||||||
786/2233 | GeneGA 1.51.0 (landing page) | Zhenpeng Li | OK | |||||||||||||||||||||||||||||||||
787/2233 | GeneGeneInteR 1.27.0 (landing page) | Mathieu Emily | OK | |||||||||||||||||||||||||||||||||
788/2233 | GeneMeta 1.73.0 (landing page) | Bioconductor Package Maintainer | OK | |||||||||||||||||||||||||||||||||
789/2233 | GeneNetworkBuilder 1.43.0 (landing page) | Jianhong Ou | TIMEOUT | |||||||||||||||||||||||||||||||||
790/2233 | GeneOverlap 1.37.0 (landing page) | António Miguel de Jesus Domingues, Max-Planck Institute for Cell Biology and Genetics | OK | |||||||||||||||||||||||||||||||||
791/2233 | geneplast 1.27.1 (landing page) | Mauro Castro | OK | |||||||||||||||||||||||||||||||||
792/2233 | geneplotter 1.79.1 (landing page) | Bioconductor Package Maintainer | OK | |||||||||||||||||||||||||||||||||
793/2233 | geneRecommender 1.73.1 (landing page) | Greg Hather | OK | |||||||||||||||||||||||||||||||||
794/2233 | GeneRegionScan 1.57.0 (landing page) | Lasse Folkersen | OK | |||||||||||||||||||||||||||||||||
795/2233 | geneRxCluster 1.37.0 (landing page) | Charles Berry | OK | |||||||||||||||||||||||||||||||||
796/2233 | GeneSelectMMD 2.45.1 (landing page) | Weiliang Qiu | WARNINGS | |||||||||||||||||||||||||||||||||
797/2233 | GENESIS 2.31.0 (landing page) | Stephanie M. Gogarten | OK | |||||||||||||||||||||||||||||||||
798/2233 | GeneStructureTools 1.21.0 (landing page) | Beth Signal | OK | |||||||||||||||||||||||||||||||||
799/2233 | geNetClassifier 1.41.0 (landing page) | Sara Aibar | OK | |||||||||||||||||||||||||||||||||
800/2233 | GeneticsPed 1.63.1 (landing page) | David Henderson | OK | |||||||||||||||||||||||||||||||||
801/2233 | GeneTonic 2.5.2 (landing page) | Federico Marini | ERROR | |||||||||||||||||||||||||||||||||
802/2233 | geneXtendeR 1.27.0 (landing page) | Bohdan Khomtchouk | ERROR | |||||||||||||||||||||||||||||||||
803/2233 | GENIE3 1.23.0 (landing page) | Van Anh Huynh-Thu | OK | |||||||||||||||||||||||||||||||||
804/2233 | genoCN 1.53.0 (landing page) | Wei Sun | WARNINGS | |||||||||||||||||||||||||||||||||
805/2233 | genomation 1.33.0 (landing page) | Altuna Akalin | WARNINGS | |||||||||||||||||||||||||||||||||
806/2233 | GenomAutomorphism 1.3.0 (landing page) | Robersy Sanchez | OK | |||||||||||||||||||||||||||||||||
807/2233 | GenomeInfoDb 1.37.4 (landing page) | Hervé Pagès | ERROR | |||||||||||||||||||||||||||||||||
808/2233 | genomeIntervals 1.57.0 (landing page) | Julien Gagneur | WARNINGS | |||||||||||||||||||||||||||||||||
809/2233 | genomes 3.31.0 (landing page) | Chris Stubben | OK | |||||||||||||||||||||||||||||||||
810/2233 | GenomicAlignments 1.37.0 (landing page) | Hervé Pagès | WARNINGS | |||||||||||||||||||||||||||||||||
811/2233 | GenomicDataCommons 1.25.3 (landing page) | Sean Davis | OK | |||||||||||||||||||||||||||||||||
812/2233 | GenomicDistributions 1.9.0 (landing page) | Kristyna Kupkova | TIMEOUT | |||||||||||||||||||||||||||||||||
813/2233 | GenomicFeatures 1.53.2 (landing page) | H. Pagès | ERROR | |||||||||||||||||||||||||||||||||
814/2233 | GenomicFiles 1.37.0 (landing page) | Bioconductor Package Maintainer | WARNINGS | |||||||||||||||||||||||||||||||||
815/2233 | genomicInstability 1.7.0 (landing page) | Mariano Alvarez | TIMEOUT | |||||||||||||||||||||||||||||||||
816/2233 | GenomicInteractionNodes 1.5.0 (landing page) | Jianhong Ou | ERROR | |||||||||||||||||||||||||||||||||
817/2233 | GenomicInteractions 1.35.0 (landing page) | Liz Ing-Simmons | OK | |||||||||||||||||||||||||||||||||
818/2233 | GenomicOZone 1.15.0 (landing page) | Hua Zhong | OK | |||||||||||||||||||||||||||||||||
819/2233 | GenomicPlot 0.99.16 (landing page) | Shuye Pu | OK | |||||||||||||||||||||||||||||||||
820/2233 | GenomicRanges 1.53.1 (landing page) | Hervé Pagès | OK | |||||||||||||||||||||||||||||||||
821/2233 | GenomicScores 2.13.0 (landing page) | Robert Castelo | OK | |||||||||||||||||||||||||||||||||
822/2233 | GenomicSuperSignature 1.9.0 (landing page) | Sehyun Oh | WARNINGS | |||||||||||||||||||||||||||||||||
823/2233 | GenomicTuples 1.35.0 (landing page) | Peter Hickey | WARNINGS | |||||||||||||||||||||||||||||||||
824/2233 | GenProSeq 1.5.2 (landing page) | Dongmin Jung | OK | |||||||||||||||||||||||||||||||||
825/2233 | GenVisR 1.33.4 (landing page) | Zachary Skidmore | OK | |||||||||||||||||||||||||||||||||
826/2233 | GeoDiff 1.7.1 (landing page) | Nicole Ortogero | OK | |||||||||||||||||||||||||||||||||
827/2233 | GEOexplorer 1.7.0 (landing page) | Guy Hunt | ERROR | |||||||||||||||||||||||||||||||||
828/2233 | GEOfastq 1.9.0 (landing page) | Alex Pickering | OK | |||||||||||||||||||||||||||||||||
829/2233 | GEOmetadb 1.63.0 (landing page) | Jack Zhu | ERROR | |||||||||||||||||||||||||||||||||
830/2233 | GeomxTools 3.5.0 (landing page) | Nicole Ortogero | ERROR | |||||||||||||||||||||||||||||||||
831/2233 | GEOquery 2.69.0 (landing page) | Sean Davis | ERROR | |||||||||||||||||||||||||||||||||
832/2233 | GEOsubmission 1.53.0 (landing page) | Alexandre Kuhn | OK | |||||||||||||||||||||||||||||||||
833/2233 | GeoTcgaData 2.1.0 (landing page) | Erqiang Hu | OK | |||||||||||||||||||||||||||||||||
834/2233 | gep2pep 1.21.0 (landing page) | Francesco Napolitano | OK | |||||||||||||||||||||||||||||||||
835/2233 | gespeR 1.33.0 (landing page) | Fabian Schmich | ERROR | |||||||||||||||||||||||||||||||||
836/2233 | getDEE2 1.11.0 (landing page) | Mark Ziemann | ERROR | |||||||||||||||||||||||||||||||||
837/2233 | geva 1.9.0 (landing page) | Itamar José Guimarães Nunes | ERROR | |||||||||||||||||||||||||||||||||
838/2233 | GEWIST 1.45.0 (landing page) | Wei Q. Deng | OK | |||||||||||||||||||||||||||||||||
839/2233 | ggbio 1.49.0 (landing page) | Michael Lawrence | WARNINGS | |||||||||||||||||||||||||||||||||
840/2233 | ggcyto 1.29.1 (landing page) | Mike Jiang | WARNINGS | |||||||||||||||||||||||||||||||||
841/2233 | ggkegg 0.99.3 (landing page) | Noriaki Sato | ERROR | |||||||||||||||||||||||||||||||||
842/2233 | ggmanh 1.5.0 (landing page) | John Lee | WARNINGS | |||||||||||||||||||||||||||||||||
843/2233 | ggmsa 1.7.0 (landing page) | Lang Zhou | OK | |||||||||||||||||||||||||||||||||
844/2233 | GGPA 1.13.1 (landing page) | Dongjun Chung | OK | |||||||||||||||||||||||||||||||||
845/2233 | ggspavis 1.7.0 (landing page) | Lukas M. Weber | ERROR | |||||||||||||||||||||||||||||||||
846/2233 | ggtree 3.9.1 (landing page) | Guangchuang Yu | OK | |||||||||||||||||||||||||||||||||
847/2233 | ggtreeDendro 1.3.2 (landing page) | Guangchuang Yu | OK | |||||||||||||||||||||||||||||||||
848/2233 | ggtreeExtra 1.11.0 (landing page) | Shuangbin Xu | OK | |||||||||||||||||||||||||||||||||
849/2233 | GIGSEA 1.19.0 (landing page) | Shijia Zhu | OK | |||||||||||||||||||||||||||||||||
850/2233 | girafe 1.53.0 (landing page) | J. Toedling | OK | |||||||||||||||||||||||||||||||||
851/2233 | Bhakti Dwivedi | WARNINGS | ||||||||||||||||||||||||||||||||||
852/2233 | GLAD 2.65.0 (landing page) | Philippe Hupe | WARNINGS | |||||||||||||||||||||||||||||||||
853/2233 | GladiaTOX 1.17.1 (landing page) | PMP S.A. R Support | OK | |||||||||||||||||||||||||||||||||
854/2233 | Glimma 2.11.0 (landing page) | Shian Su | ERROR | |||||||||||||||||||||||||||||||||
855/2233 | glmGamPoi 1.13.3 (landing page) | Constantin Ahlmann-Eltze | ERROR | |||||||||||||||||||||||||||||||||
856/2233 | glmSparseNet 1.19.0 (landing page) | André Veríssimo | ERROR | |||||||||||||||||||||||||||||||||
857/2233 | GlobalAncova 4.19.0 (landing page) | Manuela Hummel | OK | |||||||||||||||||||||||||||||||||
858/2233 | globalSeq 1.29.0 (landing page) | Armin Rauschenberger | OK | |||||||||||||||||||||||||||||||||
859/2233 | globaltest 5.55.0 (landing page) | Jelle Goeman | ERROR | |||||||||||||||||||||||||||||||||
860/2233 | gmapR 1.43.0 (landing page) | Michael Lawrence | ERROR | |||||||||||||||||||||||||||||||||
861/2233 | GmicR 1.15.0 (landing page) | Richard Virgen-Slane | TIMEOUT | |||||||||||||||||||||||||||||||||
862/2233 | gmoviz 1.13.0 (landing page) | Kathleen Zeglinski | OK | |||||||||||||||||||||||||||||||||
863/2233 | GMRP 1.29.0 (landing page) | Yuan-De Tan | WARNINGS | |||||||||||||||||||||||||||||||||
864/2233 | GNET2 1.17.0 (landing page) | Chen Chen | OK | |||||||||||||||||||||||||||||||||
865/2233 | GOexpress 1.35.0 (landing page) | Kevin Rue-Albrecht | OK | |||||||||||||||||||||||||||||||||
866/2233 | GOfuncR 1.21.0 (landing page) | Steffi Grote | ERROR | |||||||||||||||||||||||||||||||||
867/2233 | GOpro 1.27.0 (landing page) | Lidia Chrabaszcz | OK | |||||||||||||||||||||||||||||||||
868/2233 | goProfiles 1.63.0 (landing page) | Alex Sanchez | OK | |||||||||||||||||||||||||||||||||
869/2233 | GOSemSim 2.27.3 (landing page) | Guangchuang Yu | OK | |||||||||||||||||||||||||||||||||
870/2233 | goseq 1.53.0 (landing page) | Matthew Young | OK | |||||||||||||||||||||||||||||||||
871/2233 | GOSim 1.39.0 (landing page) | Holger Froehlich | WARNINGS | |||||||||||||||||||||||||||||||||
872/2233 | goSorensen 1.3.0 (landing page) | Pablo Flores | TIMEOUT | |||||||||||||||||||||||||||||||||
873/2233 | goSTAG 1.25.0 (landing page) | Brian D. Bennett | OK | |||||||||||||||||||||||||||||||||
874/2233 | GOstats 2.67.1 (landing page) | Bioconductor Package Maintainer | ERROR | |||||||||||||||||||||||||||||||||
875/2233 | GOsummaries 2.37.0 (landing page) | Raivo Kolde | ERROR | |||||||||||||||||||||||||||||||||
876/2233 | GOTHiC 1.37.0 (landing page) | Borbala Mifsud | ERROR | |||||||||||||||||||||||||||||||||
877/2233 | goTools 1.75.0 (landing page) | Agnes Paquet | OK | |||||||||||||||||||||||||||||||||
878/2233 | GPA 1.13.0 (landing page) | Dongjun Chung | OK | |||||||||||||||||||||||||||||||||
879/2233 | gpls 1.73.0 (landing page) | Bioconductor Package Maintainer | WARNINGS | |||||||||||||||||||||||||||||||||
880/2233 | gpuMagic 1.17.0 (landing page) | Jiefei Wang | OK | |||||||||||||||||||||||||||||||||
881/2233 | GRaNIE 1.5.3 (landing page) | Christian Arnold | ERROR | |||||||||||||||||||||||||||||||||
882/2233 | granulator 1.9.0 (landing page) | Sabina Pfister | OK | |||||||||||||||||||||||||||||||||
883/2233 | graper 1.17.1 (landing page) | Britta Velten | OK | |||||||||||||||||||||||||||||||||
884/2233 | graph 1.79.3 (landing page) | Bioconductor Package Maintainer | OK | |||||||||||||||||||||||||||||||||
885/2233 | GraphAlignment 1.65.0 (landing page) | Joern P. Meier | WARNINGS | |||||||||||||||||||||||||||||||||
886/2233 | GraphAT 1.73.0 (landing page) | Thomas LaFramboise | OK | |||||||||||||||||||||||||||||||||
887/2233 | graphite 1.47.0 (landing page) | Gabriele Sales | ERROR | |||||||||||||||||||||||||||||||||
888/2233 | GraphPAC 1.43.0 (landing page) | Gregory Ryslik | OK | |||||||||||||||||||||||||||||||||
889/2233 | GRENITS 1.53.1 (landing page) | Edward Morrissey | OK | |||||||||||||||||||||||||||||||||
890/2233 | GreyListChIP 1.33.1 (landing page) | Matt Eldridge | OK | |||||||||||||||||||||||||||||||||
891/2233 | GRmetrics 1.27.0 (landing page) | Nicholas Clark | OK | |||||||||||||||||||||||||||||||||
892/2233 | groHMM 1.35.0 (landing page) | Tulip Nandu | OK | |||||||||||||||||||||||||||||||||
893/2233 | Mark A. van de Wiel | ERROR | ||||||||||||||||||||||||||||||||||
894/2233 | GSALightning 1.29.0 (landing page) | Billy Heung Wing Chang | OK | |||||||||||||||||||||||||||||||||
895/2233 | GSAR 1.35.0 (landing page) | Yasir Rahmatallah | OK | |||||||||||||||||||||||||||||||||
896/2233 | GSCA 2.31.0 (landing page) | Zhicheng Ji | OK | |||||||||||||||||||||||||||||||||
897/2233 | gscreend 1.15.0 (landing page) | Katharina Imkeller | ERROR | |||||||||||||||||||||||||||||||||
898/2233 | GSEABase 1.63.0 (landing page) | Bioconductor Package Maintainer | OK | |||||||||||||||||||||||||||||||||
899/2233 | GSEABenchmarkeR 1.21.1 (landing page) | Ludwig Geistlinger | ERROR | |||||||||||||||||||||||||||||||||
900/2233 | GSEAlm 1.61.0 (landing page) | Assaf Oron | OK | |||||||||||||||||||||||||||||||||
901/2233 | GSEAmining 1.11.2 (landing page) | Oriol Arqués | OK | |||||||||||||||||||||||||||||||||
902/2233 | gsean 1.21.2 (landing page) | Dongmin Jung | ERROR | |||||||||||||||||||||||||||||||||
903/2233 | GSgalgoR 1.11.0 (landing page) | Carlos Catania | OK | |||||||||||||||||||||||||||||||||
904/2233 | GSReg 1.35.0 (landing page) | Bahman Afsari | WARNINGS | |||||||||||||||||||||||||||||||||
905/2233 | GSRI 2.49.0 (landing page) | Julian Gehring | OK | |||||||||||||||||||||||||||||||||
906/2233 | GSVA 1.49.5 (landing page) | Robert Castelo | OK | |||||||||||||||||||||||||||||||||
907/2233 | gtrellis 1.33.0 (landing page) | Zuguang Gu | OK | |||||||||||||||||||||||||||||||||
908/2233 | GUIDEseq 1.31.0 (landing page) | Lihua Julie Zhu | ERROR | |||||||||||||||||||||||||||||||||
909/2233 | Guitar 2.17.0 (landing page) | Jia Meng | ERROR | |||||||||||||||||||||||||||||||||
910/2233 | Gviz 1.45.1 (landing page) | Robert Ivanek | OK | |||||||||||||||||||||||||||||||||
911/2233 | GWAS.BAYES 1.11.0 (landing page) | Jacob Williams | OK | |||||||||||||||||||||||||||||||||
912/2233 | gwascat 2.33.0 (landing page) | VJ Carey | OK | |||||||||||||||||||||||||||||||||
913/2233 | GWASTools 1.47.1 (landing page) | Stephanie M. Gogarten | OK | |||||||||||||||||||||||||||||||||
914/2233 | gwasurvivr 1.19.0 (landing page) | Abbas Rizvi | OK | |||||||||||||||||||||||||||||||||
915/2233 | GWENA 1.11.0 (landing page) | Gwenaëlle Lemoine | WARNINGS | |||||||||||||||||||||||||||||||||
|
| |||||||||||||||||||||||||||||||||||
Package | Maintainer | INSTALL/BUILD/CHECK | ||||||||||||||||||||||||||||||||||
916/2233 | h5vc 2.35.0 (landing page) | Paul Theodor Pyl | WARNINGS | |||||||||||||||||||||||||||||||||
917/2233 | hapFabia 1.43.0 (landing page) | Andreas Mitterecker | WARNINGS | |||||||||||||||||||||||||||||||||
918/2233 | Harman 1.29.0 (landing page) | Jason Ross | OK | |||||||||||||||||||||||||||||||||
919/2233 | HarmonizR 0.99.1 (landing page) | Simon Schlumbohm | OK | |||||||||||||||||||||||||||||||||
920/2233 | Harshlight 1.73.0 (landing page) | Maurizio Pellegrino | WARNINGS | |||||||||||||||||||||||||||||||||
921/2233 | hca 1.9.1 (landing page) | Martin Morgan | OK | |||||||||||||||||||||||||||||||||
922/2233 | HDF5Array 1.29.3 (landing page) | Hervé Pagès | TIMEOUT | |||||||||||||||||||||||||||||||||
923/2233 | HDTD 1.35.1 (landing page) | Anestis Touloumis | OK | |||||||||||||||||||||||||||||||||
924/2233 | heatmaps 1.25.0 (landing page) | Malcolm Perry | OK | |||||||||||||||||||||||||||||||||
925/2233 | Heatplus 3.9.0 (landing page) | Alexander Ploner | OK | |||||||||||||||||||||||||||||||||
926/2233 | HelloRanges 1.27.0 (landing page) | Michael Lawrence | ERROR | |||||||||||||||||||||||||||||||||
927/2233 | HELP 1.59.0 (landing page) | Reid F. Thompson | OK | |||||||||||||||||||||||||||||||||
928/2233 | HEM 1.73.0 (landing page) | HyungJun Cho | OK | |||||||||||||||||||||||||||||||||
929/2233 | hermes 1.5.0 (landing page) | Daniel Sabanés Bové | OK | |||||||||||||||||||||||||||||||||
930/2233 | HERON 0.99.3 (landing page) | Sean McIlwain | OK | |||||||||||||||||||||||||||||||||
931/2233 | Herper 1.11.1 (landing page) | Thomas Carroll | ERROR | |||||||||||||||||||||||||||||||||
932/2233 | HGC 1.9.0 (landing page) | XGlab | WARNINGS | |||||||||||||||||||||||||||||||||
933/2233 | hiAnnotator 1.35.0 (landing page) | Nirav V Malani | OK | |||||||||||||||||||||||||||||||||
934/2233 | HIBAG 1.37.4 (landing page) | Xiuwen Zheng | OK | |||||||||||||||||||||||||||||||||
935/2233 | HiCBricks 1.19.0 (landing page) | Koustav Pal | OK | |||||||||||||||||||||||||||||||||
936/2233 | HiCcompare 1.23.1 (landing page) | Mikhail Dozmorov | OK | |||||||||||||||||||||||||||||||||
937/2233 | HiCDCPlus 1.9.0 (landing page) | Merve Sahin | OK | |||||||||||||||||||||||||||||||||
938/2233 | HiCDOC 1.3.2 (landing page) | Maigné Élise | OK | |||||||||||||||||||||||||||||||||
939/2233 | HiCExperiment 1.1.2 (landing page) | Jacques Serizay | TIMEOUT | |||||||||||||||||||||||||||||||||
940/2233 | HiContacts 1.3.2 (landing page) | Jacques Serizay | TIMEOUT | |||||||||||||||||||||||||||||||||
941/2233 | HiCool 1.1.0 (landing page) | Jacques Serizay | TIMEOUT | |||||||||||||||||||||||||||||||||
942/2233 | hicVennDiagram 0.99.5 (landing page) | Jianhong Ou | OK | |||||||||||||||||||||||||||||||||
943/2233 | hierGWAS 1.31.0 (landing page) | Laura Buzdugan | WARNINGS | |||||||||||||||||||||||||||||||||
944/2233 | hierinf 1.19.0 (landing page) | Claude Renaux | OK | |||||||||||||||||||||||||||||||||
945/2233 | HilbertCurve 1.31.0 (landing page) | Zuguang Gu | OK | |||||||||||||||||||||||||||||||||
946/2233 | HilbertVis 1.59.0 (landing page) | Simon Anders | WARNINGS | |||||||||||||||||||||||||||||||||
947/2233 | HilbertVisGUI 1.59.0 (landing page) | Simon Anders | WARNINGS | |||||||||||||||||||||||||||||||||
948/2233 | HiLDA 1.15.0 (landing page) | Zhi Yang | OK | |||||||||||||||||||||||||||||||||
949/2233 | hipathia 3.1.0 (landing page) | Marta R. Hidalgo | ERROR | |||||||||||||||||||||||||||||||||
950/2233 | HIPPO 1.13.0 (landing page) | Tae Kim | OK | |||||||||||||||||||||||||||||||||
951/2233 | hiReadsProcessor 1.37.0 (landing page) | Nirav V Malani | OK | |||||||||||||||||||||||||||||||||
952/2233 | HIREewas 1.19.0 (landing page) | Xiangyu Luo | OK | |||||||||||||||||||||||||||||||||
953/2233 | HiTC 1.45.0 (landing page) | Nicolas Servant | WARNINGS | |||||||||||||||||||||||||||||||||
954/2233 | hmdbQuery 1.21.0 (landing page) | VJ Carey | OK | |||||||||||||||||||||||||||||||||
955/2233 | HMMcopy 1.43.0 (landing page) | Daniel Lai | WARNINGS | |||||||||||||||||||||||||||||||||
956/2233 | hopach 2.61.0 (landing page) | Katherine S. Pollard | OK | |||||||||||||||||||||||||||||||||
957/2233 | HPAanalyze 1.19.1 (landing page) | Anh Nhat Tran | OK | |||||||||||||||||||||||||||||||||
958/2233 | hpar 1.43.0 (landing page) | Laurent Gatto | TIMEOUT | |||||||||||||||||||||||||||||||||
959/2233 | Tim O. Nieuwenhuis | ERROR | ||||||||||||||||||||||||||||||||||
960/2233 | HPiP 1.7.0 (landing page) | Matineh Rahmatbakhsh | OK | |||||||||||||||||||||||||||||||||
961/2233 | HTqPCR 1.55.0 (landing page) | Heidi Dvinge | OK | |||||||||||||||||||||||||||||||||
962/2233 | HTSeqGenie 4.31.1 (landing page) | Jens Reeder | OK | |||||||||||||||||||||||||||||||||
963/2233 | HTSFilter 1.41.0 (landing page) | Andrea Rau | OK | |||||||||||||||||||||||||||||||||
964/2233 | HubPub 1.9.1 (landing page) | Kayla Interdonato | OK | |||||||||||||||||||||||||||||||||
965/2233 | HumanTranscriptomeCompendium 1.17.1 (landing page) | VJ Carey | ERROR | |||||||||||||||||||||||||||||||||
966/2233 | hummingbird 1.11.0 (landing page) | Eleni Adam | OK | |||||||||||||||||||||||||||||||||
967/2233 | HybridMTest 1.45.0 (landing page) | Demba Fofana | OK | |||||||||||||||||||||||||||||||||
968/2233 | Anthony Federico | ERROR | ||||||||||||||||||||||||||||||||||
969/2233 | hyperdraw 1.53.0 (landing page) | Paul Murrell | OK | |||||||||||||||||||||||||||||||||
970/2233 | hypergraph 1.73.0 (landing page) | Bioconductor Package Maintainer | OK | |||||||||||||||||||||||||||||||||
|
| |||||||||||||||||||||||||||||||||||
Package | Maintainer | INSTALL/BUILD/CHECK | ||||||||||||||||||||||||||||||||||
971/2233 | iASeq 1.45.0 (landing page) | Yingying Wei | OK | |||||||||||||||||||||||||||||||||
972/2233 | iasva 1.19.0 (landing page) | Donghyung Lee | OK | |||||||||||||||||||||||||||||||||
973/2233 | iBBiG 1.45.0 (landing page) | Aedin Culhane | OK | |||||||||||||||||||||||||||||||||
974/2233 | ibh 1.49.0 (landing page) | Kircicegi Korkmaz | OK | |||||||||||||||||||||||||||||||||
975/2233 | iBMQ 1.41.0 (landing page) | Greg Imholte | WARNINGS | |||||||||||||||||||||||||||||||||
976/2233 | iCARE 1.29.0 (landing page) | Bill Wheeler | WARNINGS | |||||||||||||||||||||||||||||||||
977/2233 | Icens 1.73.1 (landing page) | Bioconductor Package Maintainer | OK | |||||||||||||||||||||||||||||||||
978/2233 | icetea 1.19.1 (landing page) | Vivek Bhardwaj | WARNINGS | |||||||||||||||||||||||||||||||||
979/2233 | iCheck 1.31.0 (landing page) | Weiliang Qiu | OK | |||||||||||||||||||||||||||||||||
980/2233 | iChip 1.55.0 (landing page) | Qianxing Mo | WARNINGS | |||||||||||||||||||||||||||||||||
981/2233 | iClusterPlus 1.37.1 (landing page) | Qianxing Mo | OK | |||||||||||||||||||||||||||||||||
982/2233 | iCNV 1.21.0 (landing page) | Zilu Zhou | WARNINGS | |||||||||||||||||||||||||||||||||
983/2233 | iCOBRA 1.29.1 (landing page) | Charlotte Soneson | OK | |||||||||||||||||||||||||||||||||
984/2233 | ideal 1.25.1 (landing page) | Federico Marini | ERROR | |||||||||||||||||||||||||||||||||
985/2233 | IdeoViz 1.37.0 (landing page) | Shraddha Pai | WARNINGS | |||||||||||||||||||||||||||||||||
986/2233 | idiogram 1.77.0 (landing page) | Karl J. Dykema | OK | |||||||||||||||||||||||||||||||||
987/2233 | idpr 1.11.0 (landing page) | William M. McFadden | OK | |||||||||||||||||||||||||||||||||
988/2233 | idr2d 1.15.0 (landing page) | Konstantin Krismer | OK | |||||||||||||||||||||||||||||||||
989/2233 | IFAA 1.3.0 (landing page) | Zhigang Li | OK | |||||||||||||||||||||||||||||||||
990/2233 | iGC 1.31.0 (landing page) | Liang-Bo Wang | OK | |||||||||||||||||||||||||||||||||
991/2233 | IgGeneUsage 1.15.8 (landing page) | Simo Kitanovski | ERROR | |||||||||||||||||||||||||||||||||
992/2233 | igvR 1.21.2 (landing page) | Arkadiusz Gladki | WARNINGS | |||||||||||||||||||||||||||||||||
993/2233 | IHW 1.29.0 (landing page) | Nikos Ignatiadis | ERROR | |||||||||||||||||||||||||||||||||
994/2233 | illuminaio 0.43.0 (landing page) | Kasper Daniel Hansen | OK | |||||||||||||||||||||||||||||||||
995/2233 | ILoReg 1.11.0 (landing page) | Johannes Smolander | ERROR | |||||||||||||||||||||||||||||||||
996/2233 | Joseph Barry | ERROR | ||||||||||||||||||||||||||||||||||
997/2233 | IMAS 1.25.0 (landing page) | Seonggyun Han | OK | |||||||||||||||||||||||||||||||||
998/2233 | imcRtools 1.7.6 (landing page) | Nils Eling | ERROR | |||||||||||||||||||||||||||||||||
999/2233 | IMMAN 1.21.0 (landing page) | Minoo Ashtiani | TIMEOUT | |||||||||||||||||||||||||||||||||
1000/2233 | ImmuneSpaceR 1.29.0 (landing page) | ImmuneSpace Package Maintainer | OK | |||||||||||||||||||||||||||||||||
1001/2233 | immunoClust 1.33.6 (landing page) | Till Soerensen | OK | |||||||||||||||||||||||||||||||||
1002/2233 | immunotation 1.9.0 (landing page) | Katharina Imkeller | OK | |||||||||||||||||||||||||||||||||
1003/2233 | IMPCdata 1.37.0 (landing page) | Jeremy Mason | OK | |||||||||||||||||||||||||||||||||
1004/2233 | impute 1.75.1 (landing page) | Balasubramanian Narasimhan | OK | |||||||||||||||||||||||||||||||||
1005/2233 | INDEED 2.15.0 (landing page) | Ressom group | OK | |||||||||||||||||||||||||||||||||
1006/2233 | iNETgrate 0.99.130 (landing page) | Habil Zare | OK | |||||||||||||||||||||||||||||||||
1007/2233 | infercnv 1.17.0 (landing page) | Christophe Georgescu | OK | |||||||||||||||||||||||||||||||||
1008/2233 | infinityFlow 1.11.0 (landing page) | Etienne Becht | OK | |||||||||||||||||||||||||||||||||
1009/2233 | Informeasure 1.11.0 (landing page) | Chu Pan | ERROR | |||||||||||||||||||||||||||||||||
1010/2233 | InPAS 2.9.0 (landing page) | Jianhong Ou | OK | |||||||||||||||||||||||||||||||||
1011/2233 | INPower 1.37.0 (landing page) | Bill Wheeler | OK | |||||||||||||||||||||||||||||||||
1012/2233 | INSPEcT 1.31.0 (landing page) | Stefano de Pretis | OK | |||||||||||||||||||||||||||||||||
1013/2233 | INTACT 1.1.5 (landing page) | Jeffrey Okamoto | OK | |||||||||||||||||||||||||||||||||
1014/2233 | InTAD 1.21.0 (landing page) | Konstantin Okonechnikov | OK | |||||||||||||||||||||||||||||||||
1015/2233 | intansv 1.41.0 (landing page) | Wen Yao | OK | |||||||||||||||||||||||||||||||||
1016/2233 | interacCircos 1.11.0 (landing page) | Zhe Cui | OK | |||||||||||||||||||||||||||||||||
1017/2233 | InteractionSet 1.29.1 (landing page) | Aaron Lun | WARNINGS | |||||||||||||||||||||||||||||||||
1018/2233 | InteractiveComplexHeatmap 1.9.2 (landing page) | Zuguang Gu | OK | |||||||||||||||||||||||||||||||||
1019/2233 | interactiveDisplay 1.39.0 (landing page) | Bioconductor Package Maintainer | OK | |||||||||||||||||||||||||||||||||
1020/2233 | interactiveDisplayBase 1.39.0 (landing page) | Bioconductor Package Maintainer | OK | |||||||||||||||||||||||||||||||||
1021/2233 | InterCellar 2.7.0 (landing page) | Marta Interlandi | OK | |||||||||||||||||||||||||||||||||
1022/2233 | IntEREst 1.25.1 (landing page) | Ali Oghabian | OK | |||||||||||||||||||||||||||||||||
1023/2233 | InterMineR 1.23.0 (landing page) | InterMine Team | ERROR | |||||||||||||||||||||||||||||||||
1024/2233 | IntOMICS 1.1.0 (landing page) | Pacinkova Anna | TIMEOUT | |||||||||||||||||||||||||||||||||
1025/2233 | IntramiRExploreR 1.23.0 (landing page) | Surajit Bhattacharya | WARNINGS | |||||||||||||||||||||||||||||||||
1026/2233 | IONiseR 2.25.0 (landing page) | Mike Smith | OK | |||||||||||||||||||||||||||||||||
1027/2233 | iPAC 1.45.0 (landing page) | Gregory Ryslik | OK | |||||||||||||||||||||||||||||||||
1028/2233 | iPath 1.7.0 (landing page) | Kenong Su | ERROR | |||||||||||||||||||||||||||||||||
1029/2233 | ipdDb 1.19.0 (landing page) | Steffen Klasberg | OK | |||||||||||||||||||||||||||||||||
1030/2233 | IPO 1.27.0 (landing page) | Thomas Lieb | TIMEOUT | |||||||||||||||||||||||||||||||||
1031/2233 | IRanges 2.35.2 (landing page) | Hervé Pagès | WARNINGS | |||||||||||||||||||||||||||||||||
1032/2233 | IRISFGM 1.9.0 (landing page) | Yuzhou Chang | ERROR | |||||||||||||||||||||||||||||||||
1033/2233 | ISAnalytics 1.11.2 (landing page) | Giulia Pais | OK | |||||||||||||||||||||||||||||||||
1034/2233 | iSEE 2.13.5 (landing page) | Kevin Rue-Albrecht | TIMEOUT | |||||||||||||||||||||||||||||||||
1035/2233 | iSEEde 0.99.0 (landing page) | Kevin Rue-Albrecht | OK | |||||||||||||||||||||||||||||||||
1036/2233 | iSEEhex 1.3.0 (landing page) | Kevin Rue-Albrecht | TIMEOUT | |||||||||||||||||||||||||||||||||
1037/2233 | iSEEhub 1.3.2 (landing page) | Kevin Rue-Albrecht | TIMEOUT | |||||||||||||||||||||||||||||||||
1038/2233 | iSEEindex 0.99.13 (landing page) | Kevin Rue-Albrecht | OK | |||||||||||||||||||||||||||||||||
1039/2233 | iSEEpathways 0.99.2 (landing page) | Kevin Rue-Albrecht | OK | |||||||||||||||||||||||||||||||||
1040/2233 | iSEEu 1.13.0 (landing page) | Kevin Rue-Albrecht | TIMEOUT | |||||||||||||||||||||||||||||||||
1041/2233 | iSeq 1.53.0 (landing page) | Qianxing Mo | OK | |||||||||||||||||||||||||||||||||
1042/2233 | ISLET 1.3.7 (landing page) | Hao Feng | OK | |||||||||||||||||||||||||||||||||
1043/2233 | isobar 1.47.0 (landing page) | Florian P Breitwieser | WARNINGS | |||||||||||||||||||||||||||||||||
1044/2233 | IsoCorrectoR 1.19.0 (landing page) | Christian Kohler | OK | |||||||||||||||||||||||||||||||||
1045/2233 | IsoCorrectoRGUI 1.17.0 (landing page) | Christian Kohler | OK | |||||||||||||||||||||||||||||||||
1046/2233 | IsoformSwitchAnalyzeR 2.1.2 (landing page) | Kristoffer Vitting-Seerup | OK | |||||||||||||||||||||||||||||||||
1047/2233 | ISoLDE 1.29.0 (landing page) | Christelle Reynès | WARNINGS | |||||||||||||||||||||||||||||||||
1048/2233 | isomiRs 1.29.0 (landing page) | Lorena Pantano | OK | |||||||||||||||||||||||||||||||||
1049/2233 | ITALICS 2.61.0 (landing page) | Guillem Rigaill | OK | |||||||||||||||||||||||||||||||||
1050/2233 | iterativeBMA 1.59.0 (landing page) | Ka Yee Yeung | OK | |||||||||||||||||||||||||||||||||
1051/2233 | iterativeBMAsurv 1.59.0 (landing page) | Ka Yee Yeung | WARNINGS | |||||||||||||||||||||||||||||||||
1052/2233 | iterClust 1.23.0 (landing page) | Hongxu Ding | WARNINGS | |||||||||||||||||||||||||||||||||
1053/2233 | IVAS 2.21.0 (landing page) | Seonggyun Han | WARNINGS | |||||||||||||||||||||||||||||||||
1054/2233 | ivygapSE 1.23.1 (landing page) | VJ Carey | OK | |||||||||||||||||||||||||||||||||
1055/2233 | IWTomics 1.25.0 (landing page) | Marzia A Cremona | WARNINGS | |||||||||||||||||||||||||||||||||
|
| |||||||||||||||||||||||||||||||||||
Package | Maintainer | INSTALL/BUILD/CHECK | ||||||||||||||||||||||||||||||||||
1056/2233 | karyoploteR 1.27.3 (landing page) | Bernat Gel | OK | |||||||||||||||||||||||||||||||||
1057/2233 | katdetectr 1.3.0 (landing page) | Daan Hazelaar | OK | |||||||||||||||||||||||||||||||||
1058/2233 | KBoost 1.9.0 (landing page) | Luis F. Iglesias-Martinez | OK | |||||||||||||||||||||||||||||||||
1059/2233 | KCsmart 2.59.0 (landing page) | Jorma de Ronde | WARNINGS | |||||||||||||||||||||||||||||||||
1060/2233 | kebabs 1.35.0 (landing page) | Ulrich Bodenhofer | OK | |||||||||||||||||||||||||||||||||
1061/2233 | KEGGgraph 1.61.0 (landing page) | Jitao David Zhang | WARNINGS | |||||||||||||||||||||||||||||||||
1062/2233 | KEGGlincs 1.27.0 (landing page) | Shana White | OK | |||||||||||||||||||||||||||||||||
1063/2233 | keggorthology 2.53.0 (landing page) | VJ Carey | OK | |||||||||||||||||||||||||||||||||
1064/2233 | KEGGREST 1.41.4 (landing page) | Bioconductor Package Maintainer | OK | |||||||||||||||||||||||||||||||||
1065/2233 | KinSwingR 1.19.0 (landing page) | Ashley J. Waardenberg | OK | |||||||||||||||||||||||||||||||||
1066/2233 | kissDE 1.21.0 (landing page) | Aurélie Siberchicot | OK | |||||||||||||||||||||||||||||||||
1067/2233 | KnowSeq 1.15.0 (landing page) | Daniel Castillo-Secilla | OK | |||||||||||||||||||||||||||||||||
|
| |||||||||||||||||||||||||||||||||||
Package | Maintainer | INSTALL/BUILD/CHECK | ||||||||||||||||||||||||||||||||||
1068/2233 | LACE 2.5.0 (landing page) | Davide Maspero | OK | |||||||||||||||||||||||||||||||||
1069/2233 | lapmix 1.67.0 (landing page) | Yann Ruffieux | OK | |||||||||||||||||||||||||||||||||
1070/2233 | LBE 1.69.0 (landing page) | Cyril Dalmasso | OK | |||||||||||||||||||||||||||||||||
1071/2233 | ldblock 1.31.0 (landing page) | VJ Carey | OK | |||||||||||||||||||||||||||||||||
1072/2233 | LEA 3.13.1 (landing page) | Olivier Francois | OK | |||||||||||||||||||||||||||||||||
1073/2233 | LedPred 1.35.0 (landing page) | Aitor Gonzalez | OK | |||||||||||||||||||||||||||||||||
1074/2233 | lefser 1.11.2 (landing page) | Asya Khleborodova | OK | |||||||||||||||||||||||||||||||||
1075/2233 | les 1.51.0 (landing page) | Julian Gehring | OK | |||||||||||||||||||||||||||||||||
1076/2233 | levi 1.19.0 (landing page) | Jose Luiz Rybarczyk Filho | OK | |||||||||||||||||||||||||||||||||
1077/2233 | lfa 2.1.11 (landing page) | Alejandro Ochoa | OK | |||||||||||||||||||||||||||||||||
1078/2233 | limma 3.57.8 (landing page) | Gordon Smyth | OK | |||||||||||||||||||||||||||||||||
1079/2233 | limmaGUI 1.77.0 (landing page) | Gordon Smyth | OK | |||||||||||||||||||||||||||||||||
1080/2233 | LineagePulse 1.21.0 (landing page) | David S Fischer | ERROR | |||||||||||||||||||||||||||||||||
1081/2233 | lineagespot 1.5.0 (landing page) | Nikolaos Pechlivanis | OK | |||||||||||||||||||||||||||||||||
1082/2233 | LinkHD 1.15.0 (landing page) | "Laura M Zingaretti" | OK | |||||||||||||||||||||||||||||||||
1083/2233 | Linnorm 2.25.1 (landing page) | Ken Shun Hang Yip | ERROR | |||||||||||||||||||||||||||||||||
1084/2233 | LinTInd 1.5.0 (landing page) | Luyue Wang | OK | |||||||||||||||||||||||||||||||||
1085/2233 | lionessR 1.15.0 (landing page) | Ping-Han Hsieh | OK | |||||||||||||||||||||||||||||||||
1086/2233 | lipidr 2.15.1 (landing page) | Ahmed Mohamed | OK | |||||||||||||||||||||||||||||||||
1087/2233 | LiquidAssociation 1.55.0 (landing page) | Yen-Yi Ho | OK | |||||||||||||||||||||||||||||||||
1088/2233 | lisaClust 1.9.1 (landing page) | Ellis Patrick | OK | |||||||||||||||||||||||||||||||||
1089/2233 | lmdme 1.43.0 (landing page) | Cristobal Fresno | WARNINGS | |||||||||||||||||||||||||||||||||
1090/2233 | LOBSTAHS 1.27.0 (landing page) | Henry Holm | WARNINGS | |||||||||||||||||||||||||||||||||
1091/2233 | loci2path 1.21.0 (landing page) | Tianlei Xu | OK | |||||||||||||||||||||||||||||||||
1092/2233 | logicFS 2.21.0 (landing page) | Holger Schwender | OK | |||||||||||||||||||||||||||||||||
1093/2233 | Tobias Guennel | ERROR | ||||||||||||||||||||||||||||||||||
1094/2233 | LOLA 1.31.0 (landing page) | Nathan Sheffield | OK | |||||||||||||||||||||||||||||||||
1095/2233 | LoomExperiment 1.19.0 (landing page) | Bioconductor Package Maintainer | OK | |||||||||||||||||||||||||||||||||
1096/2233 | Giorgio Melloni | ERROR | ||||||||||||||||||||||||||||||||||
1097/2233 | LPE 1.75.0 (landing page) | Nitin Jain | OK | |||||||||||||||||||||||||||||||||
1098/2233 | Carl Murie | WARNINGS | ||||||||||||||||||||||||||||||||||
1099/2233 | lpNet 2.33.0 (landing page) | Lars Kaderali | WARNINGS | |||||||||||||||||||||||||||||||||
1100/2233 | lpsymphony 1.29.1 (landing page) | Vladislav Kim | ERROR | |||||||||||||||||||||||||||||||||
1101/2233 | LRBaseDbi 2.11.0 (landing page) | Koki Tsuyuzaki | WARNINGS | |||||||||||||||||||||||||||||||||
1102/2233 | LRcell 1.9.0 (landing page) | Wenjing Ma | TIMEOUT | |||||||||||||||||||||||||||||||||
1103/2233 | lumi 2.53.0 (landing page) | Lei Huang | WARNINGS | |||||||||||||||||||||||||||||||||
1104/2233 | LymphoSeq 1.29.0 (landing page) | David Coffey | OK | |||||||||||||||||||||||||||||||||
|
| |||||||||||||||||||||||||||||||||||
Package | Maintainer | INSTALL/BUILD/CHECK | ||||||||||||||||||||||||||||||||||
1105/2233 | M3C 1.23.0 (landing page) | Christopher John | OK | |||||||||||||||||||||||||||||||||
1106/2233 | M3Drop 1.27.0 (landing page) | Tallulah Andrews | WARNINGS | |||||||||||||||||||||||||||||||||
1107/2233 | m6Aboost 1.7.0 (landing page) | You Zhou | TIMEOUT | |||||||||||||||||||||||||||||||||
1108/2233 | Maaslin2 1.15.1 (landing page) | Lauren McIver | OK | |||||||||||||||||||||||||||||||||
1109/2233 | Macarron 1.5.0 (landing page) | Sagun Maharjan | ERROR | |||||||||||||||||||||||||||||||||
1110/2233 | Joern Toedling | WARNINGS | ||||||||||||||||||||||||||||||||||
1111/2233 | maCorrPlot 1.71.0 (landing page) | Alexander Ploner | OK | |||||||||||||||||||||||||||||||||
1112/2233 | MACSQuantifyR 1.15.0 (landing page) | Raphaël Bonnet | OK | |||||||||||||||||||||||||||||||||
1113/2233 | MACSr 1.9.1 (landing page) | Qiang Hu | TIMEOUT | |||||||||||||||||||||||||||||||||
1114/2233 | made4 1.75.0 (landing page) | Aedin Culhane | OK | |||||||||||||||||||||||||||||||||
1115/2233 | MADSEQ 1.27.0 (landing page) | Yu Kong | OK | |||||||||||||||||||||||||||||||||
1116/2233 | maftools 2.17.10 (landing page) | Anand Mayakonda | WARNINGS | |||||||||||||||||||||||||||||||||
1117/2233 | MAGAR 1.9.0 (landing page) | Michael Scherer | OK | |||||||||||||||||||||||||||||||||
1118/2233 | MAGeCKFlute 2.5.0 (landing page) | Wubing Zhang | TIMEOUT | |||||||||||||||||||||||||||||||||
1119/2233 | magpie 1.1.3 (landing page) | Daoyu Duan | OK | |||||||||||||||||||||||||||||||||
1120/2233 | magrene 1.3.0 (landing page) | Fabrício Almeida-Silva | OK | |||||||||||||||||||||||||||||||||
1121/2233 | MAI 1.7.0 (landing page) | Jonathan Dekermanjian | OK | |||||||||||||||||||||||||||||||||
1122/2233 | maigesPack 1.65.0 (landing page) | Gustavo H. Esteves | ERROR | |||||||||||||||||||||||||||||||||
1123/2233 | MAIT 1.35.0 (landing page) | Pol Sola-Santos | OK | |||||||||||||||||||||||||||||||||
1124/2233 | makecdfenv 1.77.0 (landing page) | James W. MacDonald | WARNINGS | |||||||||||||||||||||||||||||||||
1125/2233 | MANOR 1.73.0 (landing page) | Pierre Neuvial | WARNINGS | |||||||||||||||||||||||||||||||||
1126/2233 | MantelCorr 1.71.0 (landing page) | Brian Steinmeyer | OK | |||||||||||||||||||||||||||||||||
1127/2233 | Argiris Sakellariou | ERROR | ||||||||||||||||||||||||||||||||||
1128/2233 | maPredictDSC 1.39.0 (landing page) | Adi Laurentiu Tarca | OK | |||||||||||||||||||||||||||||||||
1129/2233 | mapscape 1.25.0 (landing page) | Maia Smith | WARNINGS | |||||||||||||||||||||||||||||||||
1130/2233 | mariner 1.1.0 (landing page) | Eric Davis | TIMEOUT | |||||||||||||||||||||||||||||||||
1131/2233 | marr 1.11.0 (landing page) | Tusharkanti Ghosh | OK | |||||||||||||||||||||||||||||||||
1132/2233 | marray 1.79.0 (landing page) | Yee Hwa (Jean) Yang | OK | |||||||||||||||||||||||||||||||||
1133/2233 | martini 1.21.0 (landing page) | Hector Climente-Gonzalez | TIMEOUT | |||||||||||||||||||||||||||||||||
1134/2233 | maser 1.19.0 (landing page) | Diogo F.T. Veiga | ERROR | |||||||||||||||||||||||||||||||||
1135/2233 | maSigPro 1.73.0 (landing page) | Maria Jose Nueda | OK | |||||||||||||||||||||||||||||||||
1136/2233 | maskBAD 1.45.0 (landing page) | Michael Dannemann | OK | |||||||||||||||||||||||||||||||||
1137/2233 | MassArray 1.53.0 (landing page) | Reid F. Thompson | OK | |||||||||||||||||||||||||||||||||
1138/2233 | massiR 1.37.0 (landing page) | Sam Buckberry | OK | |||||||||||||||||||||||||||||||||
1139/2233 | MassSpecWavelet 1.67.0 (landing page) | Sergio Oller Moreno | OK | |||||||||||||||||||||||||||||||||
1140/2233 | MAST 1.27.1 (landing page) | Andrew McDavid | ERROR | |||||||||||||||||||||||||||||||||
1141/2233 | mastR 1.1.0 (landing page) | Jinjin Chen | TIMEOUT | |||||||||||||||||||||||||||||||||
1142/2233 | matchBox 1.43.0 (landing page) | Luigi Marchionni | OK | |||||||||||||||||||||||||||||||||
1143/2233 | MatrixGenerics 1.13.1 (landing page) | Peter Hickey | OK | |||||||||||||||||||||||||||||||||
1144/2233 | MatrixQCvis 1.9.1 (landing page) | Thomas Naake | TIMEOUT | |||||||||||||||||||||||||||||||||
1145/2233 | MatrixRider 1.33.0 (landing page) | Elena Grassi | WARNINGS | |||||||||||||||||||||||||||||||||
1146/2233 | matter 2.3.18 (landing page) | Kylie A. Bemis | OK | |||||||||||||||||||||||||||||||||
1147/2233 | MBAmethyl 1.35.0 (landing page) | Tao Wang | OK | |||||||||||||||||||||||||||||||||
1148/2233 | MBASED 1.35.0 (landing page) | Oleg Mayba | OK | |||||||||||||||||||||||||||||||||
1149/2233 | MBCB 1.55.0 (landing page) | Jeff Allen | OK | |||||||||||||||||||||||||||||||||
1150/2233 | MBECS 1.5.0 (landing page) | Michael Olbrich | OK | |||||||||||||||||||||||||||||||||
1151/2233 | mbkmeans 1.17.0 (landing page) | Davide Risso | TIMEOUT | |||||||||||||||||||||||||||||||||
1152/2233 | Congcong Gong | ERROR | ||||||||||||||||||||||||||||||||||
1153/2233 | mBPCR 1.55.0 (landing page) | P.M.V. Rancoita | OK | |||||||||||||||||||||||||||||||||
1154/2233 | MBQN 2.13.0 (landing page) | Eva Brombacher | OK | |||||||||||||||||||||||||||||||||
1155/2233 | mbQTL 1.1.4 (landing page) | Mercedeh Movassagh | OK | |||||||||||||||||||||||||||||||||
1156/2233 | MBttest 1.29.0 (landing page) | Yuan-De Tan | OK | |||||||||||||||||||||||||||||||||
1157/2233 | MCbiclust 1.25.0 (landing page) | Robert Bentham | OK | |||||||||||||||||||||||||||||||||
1158/2233 | mCSEA 1.21.0 (landing page) | Jordi Martorell-Marugán | ERROR | |||||||||||||||||||||||||||||||||
1159/2233 | mdp 1.21.0 (landing page) | Helder Nakaya | OK | |||||||||||||||||||||||||||||||||
1160/2233 | mdqc 1.63.0 (landing page) | Gabriela Cohen-Freue | OK | |||||||||||||||||||||||||||||||||
1161/2233 | MDTS 1.21.0 (landing page) | Jack M.. Fu | OK | |||||||||||||||||||||||||||||||||
1162/2233 | MEAL 1.31.0 (landing page) | Xavier Escribà Montagut | ERROR | |||||||||||||||||||||||||||||||||
1163/2233 | MeasurementError.cor 1.73.0 (landing page) | Beiying Ding | OK | |||||||||||||||||||||||||||||||||
1164/2233 | MEAT 1.13.0 (landing page) | Sarah Voisin | WARNINGS | |||||||||||||||||||||||||||||||||
1165/2233 | MEB 1.15.0 (landing page) | Jiadi Zhu | OK | |||||||||||||||||||||||||||||||||
1166/2233 | MEDIPS 1.53.0 (landing page) | Lukas Chavez | ERROR | |||||||||||||||||||||||||||||||||
1167/2233 | MEDME 1.61.0 (landing page) | Mattia Pelizzola | WARNINGS | |||||||||||||||||||||||||||||||||
1168/2233 | megadepth 1.11.0 (landing page) | David Zhang | ERROR | |||||||||||||||||||||||||||||||||
1169/2233 | Jose A. Egea | ERROR | ||||||||||||||||||||||||||||||||||
1170/2233 | Melissa 1.17.0 (landing page) | C. A. Kapourani | OK | |||||||||||||||||||||||||||||||||
1171/2233 | memes 1.9.0 (landing page) | Spencer Nystrom | WARNINGS | |||||||||||||||||||||||||||||||||
1172/2233 | Mergeomics 1.29.0 (landing page) | Zeyneb Kurt | TIMEOUT | |||||||||||||||||||||||||||||||||
1173/2233 | MeSHDbi 1.37.0 (landing page) | Koki Tsuyuzaki | OK | |||||||||||||||||||||||||||||||||
1174/2233 | meshes 1.27.0 (landing page) | Guangchuang Yu | OK | |||||||||||||||||||||||||||||||||
1175/2233 | meshr 2.7.0 (landing page) | Koki Tsuyuzaki | OK | |||||||||||||||||||||||||||||||||
1176/2233 | MesKit 1.11.0 (landing page) | Mengni Liu | WARNINGS | |||||||||||||||||||||||||||||||||
1177/2233 | messina 1.37.0 (landing page) | Mark Pinese | WARNINGS | |||||||||||||||||||||||||||||||||
1178/2233 | Raphael Aggio | ERROR | ||||||||||||||||||||||||||||||||||
1179/2233 | metabCombiner 1.11.0 (landing page) | Hani Habra | OK | |||||||||||||||||||||||||||||||||
1180/2233 | metabinR 1.3.0 (landing page) | Anestis Gkanogiannis | OK | |||||||||||||||||||||||||||||||||
1181/2233 | MetaboAnnotation 1.5.5 (landing page) | Johannes Rainer | OK | |||||||||||||||||||||||||||||||||
1182/2233 | MetaboCoreUtils 1.9.2 (landing page) | Johannes Rainer | OK | |||||||||||||||||||||||||||||||||
1183/2233 | metabolomicsWorkbenchR 1.11.2 (landing page) | Gavin Rhys Lloyd | OK | |||||||||||||||||||||||||||||||||
1184/2233 | metabomxtr 1.35.0 (landing page) | Michael Nodzenski | OK | |||||||||||||||||||||||||||||||||
1185/2233 | MetaboSignal 1.31.3 (landing page) | Andrea Rodriguez-Martinez | TIMEOUT | |||||||||||||||||||||||||||||||||
1186/2233 | metaCCA 1.29.0 (landing page) | Anna Cichonska | WARNINGS | |||||||||||||||||||||||||||||||||
1187/2233 | MetaCyto 1.23.0 (landing page) | Zicheng Hu | OK | |||||||||||||||||||||||||||||||||
1188/2233 | metagene 2.33.0 (landing page) | Charles Joly Beauparlant | ERROR | |||||||||||||||||||||||||||||||||
1189/2233 | metagene2 1.17.0 (landing page) | Eric Fournier | WARNINGS | |||||||||||||||||||||||||||||||||
1190/2233 | metagenomeSeq 1.43.0 (landing page) | Joseph N. Paulson | ERROR | |||||||||||||||||||||||||||||||||
1191/2233 | metahdep 1.59.0 (landing page) | John R. Stevens | WARNINGS | |||||||||||||||||||||||||||||||||
1192/2233 | metaMS 1.37.0 (landing page) | Yann Guitton | OK | |||||||||||||||||||||||||||||||||
1193/2233 | MetaNeighbor 1.21.0 (landing page) | Stephan Fischer | OK | |||||||||||||||||||||||||||||||||
1194/2233 | MetaPhOR 1.3.0 (landing page) | Emily Isenhart | ERROR | |||||||||||||||||||||||||||||||||
1195/2233 | metapod 1.9.0 (landing page) | Aaron Lun | OK | |||||||||||||||||||||||||||||||||
1196/2233 | metapone 1.7.0 (landing page) | Tianwei Yu | OK | |||||||||||||||||||||||||||||||||
1197/2233 | metaSeq 1.41.0 (landing page) | Koki Tsuyuzaki | OK | |||||||||||||||||||||||||||||||||
1198/2233 | metaseqR2 1.13.1 (landing page) | Panagiotis Moulos | ERROR | |||||||||||||||||||||||||||||||||
1199/2233 | MetaVolcanoR 1.15.0 (landing page) | Cesar Prada | ERROR | |||||||||||||||||||||||||||||||||
1200/2233 | MetCirc 1.31.0 (landing page) | Thomas Naake | OK | |||||||||||||||||||||||||||||||||
1201/2233 | methimpute 1.23.0 (landing page) | Aaron Taudt | OK | |||||||||||||||||||||||||||||||||
1202/2233 | methInheritSim 1.23.0 (landing page) | Pascal Belleau | OK | |||||||||||||||||||||||||||||||||
1203/2233 | MethPed 1.29.0 (landing page) | Helena Carén | OK | |||||||||||||||||||||||||||||||||
1204/2233 | MethReg 1.11.5 (landing page) | Tiago Silva | TIMEOUT | |||||||||||||||||||||||||||||||||
1205/2233 | methrix 1.15.0 (landing page) | Anand Mayakonda | ERROR | |||||||||||||||||||||||||||||||||
1206/2233 | MethTargetedNGS 1.33.0 (landing page) | Muhammad Ahmer Jamil | OK | |||||||||||||||||||||||||||||||||
1207/2233 | MethylAid 1.35.0 (landing page) | L.J.Sinke | OK | |||||||||||||||||||||||||||||||||
1208/2233 | methylCC 1.15.0 (landing page) | Stephanie C. Hicks | ERROR | |||||||||||||||||||||||||||||||||
1209/2233 | methylclock 1.7.0 (landing page) | Dolors Pelegri-Siso | TIMEOUT | |||||||||||||||||||||||||||||||||
1210/2233 | methylGSA 1.19.0 (landing page) | Xu Ren | OK | |||||||||||||||||||||||||||||||||
1211/2233 | methylInheritance 1.25.0 (landing page) | Astrid Deschênes | OK | |||||||||||||||||||||||||||||||||
1212/2233 | methylKit 1.27.1 (landing page) | Altuna Akalin | WARNINGS | |||||||||||||||||||||||||||||||||
1213/2233 | MethylMix 2.31.0 (landing page) | Olivier Gevaert | OK | |||||||||||||||||||||||||||||||||
1214/2233 | methylMnM 1.39.0 (landing page) | Yan Zhou | OK | |||||||||||||||||||||||||||||||||
1215/2233 | methylPipe 1.35.0 (landing page) | Mattia Furlan | WARNINGS | |||||||||||||||||||||||||||||||||
1216/2233 | methylscaper 1.9.5 (landing page) | Rhonda Bacher | OK | |||||||||||||||||||||||||||||||||
1217/2233 | MethylSeekR 1.41.0 (landing page) | Lukas Burger | OK | |||||||||||||||||||||||||||||||||
1218/2233 | methylSig 1.13.0 (landing page) | Raymond G. Cavalcante | OK | |||||||||||||||||||||||||||||||||
1219/2233 | methylumi 2.47.0 (landing page) | Sean Davis | OK | |||||||||||||||||||||||||||||||||
1220/2233 | MetID 1.19.0 (landing page) | Zhenzhi Li | OK | |||||||||||||||||||||||||||||||||
1221/2233 | MetNet 1.19.0 (landing page) | Thomas Naake | OK | |||||||||||||||||||||||||||||||||
1222/2233 | mfa 1.23.0 (landing page) | Kieran Campbell | OK | |||||||||||||||||||||||||||||||||
1223/2233 | Mfuzz 2.61.0 (landing page) | Matthias Futschik | WARNINGS | |||||||||||||||||||||||||||||||||
1224/2233 | MGFM 1.35.0 (landing page) | Khadija El Amrani | OK | |||||||||||||||||||||||||||||||||
1225/2233 | MGFR 1.27.0 (landing page) | Khadija El Amrani | OK | |||||||||||||||||||||||||||||||||
1226/2233 | mgsa 1.49.0 (landing page) | Sebastian Bauer | OK | |||||||||||||||||||||||||||||||||
1227/2233 | mia 1.9.12 (landing page) | Tuomas Borman | ERROR | |||||||||||||||||||||||||||||||||
1228/2233 | miaSim 1.7.2 (landing page) | Yagmur Simsek | OK | |||||||||||||||||||||||||||||||||
1229/2233 | miaViz 1.9.2 (landing page) | Tuomas Borman | ERROR | |||||||||||||||||||||||||||||||||
1230/2233 | MiChip 1.55.0 (landing page) | Jonathon Blake | OK | |||||||||||||||||||||||||||||||||
1231/2233 | microbiome 1.23.0 (landing page) | Leo Lahti | OK | |||||||||||||||||||||||||||||||||
1232/2233 | microbiomeDASim 1.15.0 (landing page) | Justin Williams | OK | |||||||||||||||||||||||||||||||||
1233/2233 | microbiomeExplorer 1.11.0 (landing page) | Janina Reeder | OK | |||||||||||||||||||||||||||||||||
1234/2233 | microbiomeMarker 1.7.0 (landing page) | Yang Cao | OK | |||||||||||||||||||||||||||||||||
1235/2233 | MicrobiomeProfiler 1.7.1 (landing page) | Meijun Chen | OK | |||||||||||||||||||||||||||||||||
1236/2233 | MicrobiotaProcess 1.13.2 (landing page) | Shuangbin Xu | OK | |||||||||||||||||||||||||||||||||
1237/2233 | microRNA 1.59.0 (landing page) | "James F. Reid" | OK | |||||||||||||||||||||||||||||||||
1238/2233 | microSTASIS 1.1.0 (landing page) | Pedro Sánchez-Sánchez | ERROR | |||||||||||||||||||||||||||||||||
1239/2233 | MICSQTL 0.99.15 (landing page) | Yue Pan | OK | |||||||||||||||||||||||||||||||||
1240/2233 | midasHLA 1.9.0 (landing page) | Maciej Migdał | ERROR | |||||||||||||||||||||||||||||||||
1241/2233 | miloR 1.9.1 (landing page) | Mike Morgan | ERROR | |||||||||||||||||||||||||||||||||
1242/2233 | mimager 1.25.0 (landing page) | Aaron Wolen | OK | |||||||||||||||||||||||||||||||||
1243/2233 | mina 1.9.0 (landing page) | Rui Guan | WARNINGS | |||||||||||||||||||||||||||||||||
1244/2233 | MineICA 1.41.0 (landing page) | Anne Biton | WARNINGS | |||||||||||||||||||||||||||||||||
1245/2233 | minet 3.59.0 (landing page) | Patrick E. Meyer | OK | |||||||||||||||||||||||||||||||||
1246/2233 | minfi 1.47.0 (landing page) | Kasper Daniel Hansen | ERROR | |||||||||||||||||||||||||||||||||
1247/2233 | MinimumDistance 1.45.0 (landing page) | Robert Scharpf | WARNINGS | |||||||||||||||||||||||||||||||||
1248/2233 | MiPP 1.73.0 (landing page) | Sukwoo Kim | OK | |||||||||||||||||||||||||||||||||
1249/2233 | miQC 1.9.0 (landing page) | Ariel Hippen | ERROR | |||||||||||||||||||||||||||||||||
1250/2233 | MIRA 1.23.0 (landing page) | John Lawson | OK | |||||||||||||||||||||||||||||||||
1251/2233 | MiRaGE 1.43.0 (landing page) | Y-h. Taguchi | WARNINGS | |||||||||||||||||||||||||||||||||
1252/2233 | miRBaseConverter 1.25.0 (landing page) | Taosheng Xu | ERROR | |||||||||||||||||||||||||||||||||
1253/2233 | miRcomp 1.31.0 (landing page) | Matthew N. McCall | WARNINGS | |||||||||||||||||||||||||||||||||
1254/2233 | mirIntegrator 1.31.0 (landing page) | Diana Diaz | OK | |||||||||||||||||||||||||||||||||
1255/2233 | miRLAB 1.31.0 (landing page) | Thuc Duy Le | WARNINGS | |||||||||||||||||||||||||||||||||
1256/2233 | miRmine 1.23.0 (landing page) | Dusan Randjelovic | ERROR | |||||||||||||||||||||||||||||||||
1257/2233 | miRNAmeConverter 1.29.0 (landing page) | Stefan J. Haunsberger | WARNINGS | |||||||||||||||||||||||||||||||||
1258/2233 | miRNApath 1.61.0 (landing page) | James M. Ward | OK | |||||||||||||||||||||||||||||||||
1259/2233 | miRNAtap 1.35.0 (landing page) | T. Ian Simpson | OK | |||||||||||||||||||||||||||||||||
1260/2233 | miRSM 1.19.0 (landing page) | Junpeng Zhang | OK | |||||||||||||||||||||||||||||||||
1261/2233 | miRspongeR 2.5.0 (landing page) | Junpeng Zhang | OK | |||||||||||||||||||||||||||||||||
1262/2233 | mirTarRnaSeq 1.9.0 (landing page) | Mercedeh Movassagh | OK | |||||||||||||||||||||||||||||||||
1263/2233 | missMethyl 1.35.0 (landing page) | Belinda Phipson | ERROR | |||||||||||||||||||||||||||||||||
1264/2233 | missRows 1.21.0 (landing page) | Gonzalez Ignacio | OK | |||||||||||||||||||||||||||||||||
1265/2233 | mistyR 1.9.1 (landing page) | Jovan Tanevski | ERROR | |||||||||||||||||||||||||||||||||
1266/2233 | mitch 1.13.0 (landing page) | Mark Ziemann | OK | |||||||||||||||||||||||||||||||||
1267/2233 | mitoClone2 1.7.0 (landing page) | Benjamin Story | ERROR | |||||||||||||||||||||||||||||||||
1268/2233 | mixOmics 6.25.0 (landing page) | Max Bladen | ERROR | |||||||||||||||||||||||||||||||||
1269/2233 | MLInterfaces 1.81.0 (landing page) | Vincent Carey | WARNINGS | |||||||||||||||||||||||||||||||||
1270/2233 | MLP 1.49.0 (landing page) | Tobias Verbeke | OK | |||||||||||||||||||||||||||||||||
1271/2233 | MLSeq 2.19.0 (landing page) | Gokmen Zararsiz | OK | |||||||||||||||||||||||||||||||||
1272/2233 | MMAPPR2 1.15.0 (landing page) | Jonathon Hill | ERROR | |||||||||||||||||||||||||||||||||
1273/2233 | MMDiff2 1.29.0 (landing page) | Gabriele Schweikert | ERROR | |||||||||||||||||||||||||||||||||
1274/2233 | MMUPHin 1.15.0 (landing page) | Siyuan MA | ERROR | |||||||||||||||||||||||||||||||||
1275/2233 | mnem 1.17.0 (landing page) | Martin Pirkl | OK | |||||||||||||||||||||||||||||||||
1276/2233 | moanin 1.9.0 (landing page) | Nelle Varoquaux | OK | |||||||||||||||||||||||||||||||||
1277/2233 | MobilityTransformR 1.5.0 (landing page) | Liesa Salzer | OK | |||||||||||||||||||||||||||||||||
1278/2233 | MODA 1.27.0 (landing page) | Dong Li | OK | |||||||||||||||||||||||||||||||||
1279/2233 | ModCon 1.9.0 (landing page) | Johannes Ptok | OK | |||||||||||||||||||||||||||||||||
1280/2233 | Modstrings 1.17.0 (landing page) | Felix G.M. Ernst | OK | |||||||||||||||||||||||||||||||||
1281/2233 | MOFA2 1.11.0 (landing page) | Ricard Argelaguet | OK | |||||||||||||||||||||||||||||||||
1282/2233 | MOGAMUN 1.11.0 (landing page) | Elva-María Novoa-del-Toro | OK | |||||||||||||||||||||||||||||||||
1283/2233 | mogsa 1.35.0 (landing page) | Chen Meng | OK | |||||||||||||||||||||||||||||||||
1284/2233 | MoleculeExperiment 1.1.2 (landing page) | Shila Ghazanfar | OK | |||||||||||||||||||||||||||||||||
1285/2233 | MOMA 1.13.0 (landing page) | Sunny Jones | OK | |||||||||||||||||||||||||||||||||
1286/2233 | monaLisa 1.7.1 (landing page) | Michael Stadler | OK | |||||||||||||||||||||||||||||||||
1287/2233 | monocle 2.29.0 (landing page) | Cole Trapnell | OK | |||||||||||||||||||||||||||||||||
1288/2233 | MoonlightR 1.27.1 (landing page) | Matteo Tiberti | OK | |||||||||||||||||||||||||||||||||
1289/2233 | mosaics 2.39.0 (landing page) | Dongjun Chung | OK | |||||||||||||||||||||||||||||||||
1290/2233 | mosbi 1.7.0 (landing page) | Tim Daniel Rose | WARNINGS | |||||||||||||||||||||||||||||||||
1291/2233 | MOSim 1.15.0 (landing page) | Sonia Tarazona | OK | |||||||||||||||||||||||||||||||||
1292/2233 | Motif2Site 1.5.0 (landing page) | Peyman Zarrineh | OK | |||||||||||||||||||||||||||||||||
1293/2233 | motifbreakR 2.15.5 (landing page) | Simon Gert Coetzee | ERROR | |||||||||||||||||||||||||||||||||
1294/2233 | motifcounter 1.25.0 (landing page) | Wolfgang Kopp | ERROR | |||||||||||||||||||||||||||||||||
1295/2233 | MotifDb 1.43.0 (landing page) | Paul Shannon | WARNINGS | |||||||||||||||||||||||||||||||||
1296/2233 | motifmatchr 1.23.0 (landing page) | Alicia Schep | OK | |||||||||||||||||||||||||||||||||
1297/2233 | motifStack 1.45.1 (landing page) | Jianhong Ou | OK | |||||||||||||||||||||||||||||||||
1298/2233 | MouseFM 1.11.0 (landing page) | Matthias Munz | OK | |||||||||||||||||||||||||||||||||
1299/2233 | MPFE 1.37.0 (landing page) | Conrad Burden | OK | |||||||||||||||||||||||||||||||||
1300/2233 | mpra 1.23.0 (landing page) | Leslie Myint | OK | |||||||||||||||||||||||||||||||||
1301/2233 | MPRAnalyze 1.19.0 (landing page) | Tal Ashuach | OK | |||||||||||||||||||||||||||||||||
1302/2233 | MQmetrics 1.9.0 (landing page) | Alvaro Sanchez-Villalba | OK | |||||||||||||||||||||||||||||||||
1303/2233 | msa 1.33.2 (landing page) | Ulrich Bodenhofer | WARNINGS | |||||||||||||||||||||||||||||||||
1304/2233 | MSA2dist 1.5.2 (landing page) | Kristian K Ullrich | OK | |||||||||||||||||||||||||||||||||
1305/2233 | MsBackendMassbank 1.9.0 (landing page) | RforMassSpectrometry Package Maintainer | OK | |||||||||||||||||||||||||||||||||
1306/2233 | MsBackendMgf 1.9.0 (landing page) | RforMassSpectrometry Package Maintainer | OK | |||||||||||||||||||||||||||||||||
1307/2233 | MsBackendMsp 1.5.0 (landing page) | Johannes Rainer | OK | |||||||||||||||||||||||||||||||||
1308/2233 | MsBackendRawFileReader 1.7.1 (landing page) | Christian Panse | ERROR | |||||||||||||||||||||||||||||||||
1309/2233 | MsBackendSql 1.1.3 (landing page) | Johannes Rainer | ERROR | |||||||||||||||||||||||||||||||||
1310/2233 | MsCoreUtils 1.13.1 (landing page) | RforMassSpectrometry Package Maintainer | OK | |||||||||||||||||||||||||||||||||
1311/2233 | MsDataHub 1.1.0 (landing page) | Laurent Gatto | TIMEOUT | |||||||||||||||||||||||||||||||||
1312/2233 | MsExperiment 1.3.0 (landing page) | Laurent Gatto | OK | |||||||||||||||||||||||||||||||||
1313/2233 | MsFeatures 1.9.0 (landing page) | Johannes Rainer | OK | |||||||||||||||||||||||||||||||||
1314/2233 | msgbsR 1.25.0 (landing page) | Benjamin Mayne | OK | |||||||||||||||||||||||||||||||||
1315/2233 | msImpute 1.11.0 (landing page) | Soroor Hediyeh-zadeh | OK | |||||||||||||||||||||||||||||||||
1316/2233 | mslp 1.3.0 (landing page) | Chunxuan Shao | ERROR | |||||||||||||||||||||||||||||||||
1317/2233 | msmsEDA 1.39.0 (landing page) | Josep Gregori | OK | |||||||||||||||||||||||||||||||||
1318/2233 | msmsTests 1.39.0 (landing page) | Josep Gregori i Font | WARNINGS | |||||||||||||||||||||||||||||||||
1319/2233 | MSnbase 2.27.1 (landing page) | Laurent Gatto | ERROR | |||||||||||||||||||||||||||||||||
1320/2233 | MSnID 1.35.0 (landing page) | Vlad Petyuk | ERROR | |||||||||||||||||||||||||||||||||
1321/2233 | MSPrep 1.11.0 (landing page) | Max McGrath | ERROR | |||||||||||||||||||||||||||||||||
1322/2233 | msPurity 1.27.1 (landing page) | Thomas N. Lawson | ERROR | |||||||||||||||||||||||||||||||||
1323/2233 | msqrob2 1.9.0 (landing page) | Lieven Clement | OK | |||||||||||||||||||||||||||||||||
1324/2233 | MsQuality 1.1.3 (landing page) | Thomas Naake | OK | |||||||||||||||||||||||||||||||||
1325/2233 | MSstats 4.9.8 (landing page) | Meena Choi | OK | |||||||||||||||||||||||||||||||||
1326/2233 | MSstatsConvert 1.11.5 (landing page) | Mateusz Staniak | WARNINGS | |||||||||||||||||||||||||||||||||
1327/2233 | MSstatsLiP 1.7.0 (landing page) | Devon Kohler | OK | |||||||||||||||||||||||||||||||||
1328/2233 | MSstatsLOBD 1.9.0 (landing page) | Devon Kohler | OK | |||||||||||||||||||||||||||||||||
1329/2233 | MSstatsPTM 2.3.4 (landing page) | Devon Kohler | OK | |||||||||||||||||||||||||||||||||
1330/2233 | MSstatsQC 2.19.0 (landing page) | Eralp Dogu | OK | |||||||||||||||||||||||||||||||||
1331/2233 | MSstatsQCgui 1.21.0 (landing page) | Eralp Dogu | OK | |||||||||||||||||||||||||||||||||
1332/2233 | MSstatsSampleSize 1.15.2 (landing page) | Ting Huang | ERROR | |||||||||||||||||||||||||||||||||
1333/2233 | MSstatsShiny 1.3.5 (landing page) | Devon Kohler | OK | |||||||||||||||||||||||||||||||||
1334/2233 | MSstatsTMT 2.9.0 (landing page) | Ting Huang | OK | |||||||||||||||||||||||||||||||||
1335/2233 | MuData 1.5.0 (landing page) | Danila Bredikhin | ERROR | |||||||||||||||||||||||||||||||||
1336/2233 | Mulcom 1.51.0 (landing page) | Claudio Isella | WARNINGS | |||||||||||||||||||||||||||||||||
1337/2233 | MultiAssayExperiment 1.27.5 (landing page) | Marcel Ramos | OK | |||||||||||||||||||||||||||||||||
1338/2233 | MultiBaC 1.11.0 (landing page) | The package maintainer | OK | |||||||||||||||||||||||||||||||||
1339/2233 | multiClust 1.31.0 (landing page) | Nathan Lawlor | OK | |||||||||||||||||||||||||||||||||
1340/2233 | multicrispr 1.11.1 (landing page) | Aditya Bhagwat | OK | |||||||||||||||||||||||||||||||||
1341/2233 | MultiDataSet 1.29.0 (landing page) | Xavier Escribà Montagut | WARNINGS | |||||||||||||||||||||||||||||||||
1342/2233 | multiGSEA 1.11.2 (landing page) | Sebastian Canzler | ERROR | |||||||||||||||||||||||||||||||||
1343/2233 | multiHiCcompare 1.19.1 (landing page) | Mikhail Dozmorov | OK | |||||||||||||||||||||||||||||||||
1344/2233 | MultiMed 2.23.0 (landing page) | Simina M. Boca | OK | |||||||||||||||||||||||||||||||||
1345/2233 | multiMiR 1.23.0 (landing page) | Matt Mulvahill | OK | |||||||||||||||||||||||||||||||||
1346/2233 | MultimodalExperiment 1.1.0 (landing page) | Lucas Schiffer | OK | |||||||||||||||||||||||||||||||||
1347/2233 | multiOmicsViz 1.25.0 (landing page) | Jing Wang | ERROR | |||||||||||||||||||||||||||||||||
1348/2233 | MultiRNAflow 0.99.9 (landing page) | Rodolphe Loubaton | OK | |||||||||||||||||||||||||||||||||
1349/2233 | multiscan 1.61.0 (landing page) | Mizanur Khondoker | OK | |||||||||||||||||||||||||||||||||
1350/2233 | Florian Jeanneret | ERROR | ||||||||||||||||||||||||||||||||||
1351/2233 | multiWGCNA 0.99.4 (landing page) | Dario Tommasini | TIMEOUT | |||||||||||||||||||||||||||||||||
1352/2233 | multtest 2.57.0 (landing page) | Katherine S. Pollard | WARNINGS | |||||||||||||||||||||||||||||||||
1353/2233 | mumosa 1.9.0 (landing page) | Aaron Lun | ERROR | |||||||||||||||||||||||||||||||||
1354/2233 | MungeSumstats 1.9.17 (landing page) | Alan Murphy | ERROR | |||||||||||||||||||||||||||||||||
1355/2233 | muscat 1.15.1 (landing page) | Helena L. Crowell | ERROR | |||||||||||||||||||||||||||||||||
1356/2233 | muscle 3.43.0 (landing page) | Alex T. Kalinka | WARNINGS | |||||||||||||||||||||||||||||||||
1357/2233 | musicatk 1.11.0 (landing page) | Aaron Chevalier | ERROR | |||||||||||||||||||||||||||||||||
1358/2233 | MutationalPatterns 3.11.0 (landing page) | Mark van Roosmalen | ERROR | |||||||||||||||||||||||||||||||||
1359/2233 | MVCClass 1.75.0 (landing page) | Elizabeth Whalen | OK | |||||||||||||||||||||||||||||||||
1360/2233 | MWASTools 1.25.0 (landing page) | Andrea Rodriguez-Martinez | OK | |||||||||||||||||||||||||||||||||
1361/2233 | mygene 1.37.0 (landing page) | Adam Mark, Cyrus Afrasiabi, Chunlei Wu | OK | |||||||||||||||||||||||||||||||||
1362/2233 | myvariant 1.31.0 (landing page) | Adam Mark, Chunlei Wu | OK | |||||||||||||||||||||||||||||||||
1363/2233 | mzID 1.39.0 (landing page) | Laurent Gatto | OK | |||||||||||||||||||||||||||||||||
1364/2233 | mzR 2.35.1 (landing page) | Steffen Neumann | ERROR | |||||||||||||||||||||||||||||||||
|
| |||||||||||||||||||||||||||||||||||
Package | Maintainer | INSTALL/BUILD/CHECK | ||||||||||||||||||||||||||||||||||
1365/2233 | NADfinder 1.25.0 (landing page) | Jianhong Ou | ERROR | |||||||||||||||||||||||||||||||||
1366/2233 | NanoMethViz 2.7.1 (landing page) | Shian Su | ERROR | |||||||||||||||||||||||||||||||||
1367/2233 | NanoStringDiff 1.31.0 (landing page) | tingting zhai | WARNINGS | |||||||||||||||||||||||||||||||||
1368/2233 | NanoStringNCTools 1.9.0 (landing page) | Nicole Ortogero | WARNINGS | |||||||||||||||||||||||||||||||||
1369/2233 | nanotatoR 1.17.0 (landing page) | Surajit Bhattacharya | OK | |||||||||||||||||||||||||||||||||
1370/2233 | NanoTube 1.7.2 (landing page) | Caleb Class | OK | |||||||||||||||||||||||||||||||||
1371/2233 | NBAMSeq 1.17.0 (landing page) | Xu Ren | OK | |||||||||||||||||||||||||||||||||
1372/2233 | ncdfFlow 2.47.0 (landing page) | Mike Jiang | WARNINGS | |||||||||||||||||||||||||||||||||
1373/2233 | ncGTW 1.15.0 (landing page) | Chiung-Ting Wu | OK | |||||||||||||||||||||||||||||||||
1374/2233 | NCIgraph 1.49.1 (landing page) | Laurent Jacob | OK | |||||||||||||||||||||||||||||||||
1375/2233 | ncRNAtools 1.11.0 (landing page) | Lara Selles Vidal | OK | |||||||||||||||||||||||||||||||||
1376/2233 | ndexr 1.23.0 (landing page) | Florian Auer | OK | |||||||||||||||||||||||||||||||||
1377/2233 | nearBynding 1.11.0 (landing page) | Veronica Busa | OK | |||||||||||||||||||||||||||||||||
1378/2233 | Nebulosa 1.11.0 (landing page) | Jose Alquicira-Hernandez | ERROR | |||||||||||||||||||||||||||||||||
1379/2233 | NeighborNet 1.19.0 (landing page) | Sahar Ansari | ERROR | |||||||||||||||||||||||||||||||||
1380/2233 | nempi 1.9.0 (landing page) | Martin Pirkl | OK | |||||||||||||||||||||||||||||||||
1381/2233 | NetActivity 1.3.0 (landing page) | Carlos Ruiz-Arenas | OK | |||||||||||||||||||||||||||||||||
1382/2233 | Shailesh tripathi | ERROR | ||||||||||||||||||||||||||||||||||
1383/2233 | netboost 2.9.10 (landing page) | Pascal Schlosser | WARNINGS | |||||||||||||||||||||||||||||||||
1384/2233 | netDx 1.13.0 (landing page) | Shraddha Pai | ERROR | |||||||||||||||||||||||||||||||||
1385/2233 | nethet 1.33.0 (landing page) | Nicolas Staedler | WARNINGS | |||||||||||||||||||||||||||||||||
1386/2233 | netOmics 1.7.0 (landing page) | Antoine Bodein | OK | |||||||||||||||||||||||||||||||||
1387/2233 | NetPathMiner 1.37.0 (landing page) | Ahmed Mohamed | ERROR | |||||||||||||||||||||||||||||||||
1388/2233 | netprioR 1.27.0 (landing page) | Fabian Schmich | OK | |||||||||||||||||||||||||||||||||
1389/2233 | netresponse 1.61.0 (landing page) | Leo Lahti | OK | |||||||||||||||||||||||||||||||||
1390/2233 | NetSAM 1.41.0 (landing page) | Zhiao Shi | ERROR | |||||||||||||||||||||||||||||||||
1391/2233 | netSmooth 1.21.0 (landing page) | Jonathan Ronen | OK | |||||||||||||||||||||||||||||||||
1392/2233 | netZooR 1.5.0 (landing page) | Marouen Ben Guebila | ERROR | |||||||||||||||||||||||||||||||||
1393/2233 | NeuCA 1.7.0 (landing page) | Hao Feng | ERROR | |||||||||||||||||||||||||||||||||
1394/2233 | NewWave 1.11.0 (landing page) | Federico Agostinis | OK | |||||||||||||||||||||||||||||||||
1395/2233 | ngsReports 2.3.4 (landing page) | Stevie Pederson | OK | |||||||||||||||||||||||||||||||||
1396/2233 | nnNorm 2.65.0 (landing page) | Adi Laurentiu Tarca | OK | |||||||||||||||||||||||||||||||||
1397/2233 | nnSVG 1.5.8 (landing page) | Lukas M. Weber | ERROR | |||||||||||||||||||||||||||||||||
1398/2233 | NOISeq 2.45.0 (landing page) | Sonia Tarazona | OK | |||||||||||||||||||||||||||||||||
1399/2233 | nondetects 2.31.0 (landing page) | Valeriia Sherina | OK | |||||||||||||||||||||||||||||||||
1400/2233 | NoRCE 1.13.0 (landing page) | Gulden Olgun | OK | |||||||||||||||||||||||||||||||||
1401/2233 | normalize450K 1.29.0 (landing page) | Jonathan Alexander Heiss | OK | |||||||||||||||||||||||||||||||||
1402/2233 | NormalyzerDE 1.19.7 (landing page) | Jakob Willforss | OK | |||||||||||||||||||||||||||||||||
1403/2233 | NormqPCR 1.47.0 (landing page) | James Perkins | OK | |||||||||||||||||||||||||||||||||
1404/2233 | normr 1.27.0 (landing page) | Johannes Helmuth | WARNINGS | |||||||||||||||||||||||||||||||||
1405/2233 | NPARC 1.13.0 (landing page) | Nils Kurzawa | OK | |||||||||||||||||||||||||||||||||
1406/2233 | npGSEA 1.37.0 (landing page) | Jessica Larson | OK | |||||||||||||||||||||||||||||||||
1407/2233 | NTW 1.51.0 (landing page) | Yuanhua Liu | WARNINGS | |||||||||||||||||||||||||||||||||
1408/2233 | nucleoSim 1.29.0 (landing page) | Astrid Deschênes | OK | |||||||||||||||||||||||||||||||||
1409/2233 | nucleR 2.33.0 (landing page) | Alba Sala | WARNINGS | |||||||||||||||||||||||||||||||||
1410/2233 | nuCpos 1.19.0 (landing page) | Hiroaki Kato | OK | |||||||||||||||||||||||||||||||||
1411/2233 | nullranges 1.7.10 (landing page) | Michael Love | TIMEOUT | |||||||||||||||||||||||||||||||||
1412/2233 | NuPoP 2.9.1 (landing page) | Ji-Ping Wang | ERROR | |||||||||||||||||||||||||||||||||
|
| |||||||||||||||||||||||||||||||||||
Package | Maintainer | INSTALL/BUILD/CHECK | ||||||||||||||||||||||||||||||||||
1413/2233 | occugene 1.61.0 (landing page) | Oliver Will | OK | |||||||||||||||||||||||||||||||||
1414/2233 | OCplus 1.75.0 (landing page) | Alexander Ploner | OK | |||||||||||||||||||||||||||||||||
1415/2233 | octad 1.3.0 (landing page) | E. Chekalin | ERROR | |||||||||||||||||||||||||||||||||
1416/2233 | odseq 1.29.0 (landing page) | José Jiménez | OK | |||||||||||||||||||||||||||||||||
1417/2233 | OGRE 1.5.0 (landing page) | Sven Berres | ERROR | |||||||||||||||||||||||||||||||||
1418/2233 | oligo 1.65.0 (landing page) | Benilton Carvalho | WARNINGS | |||||||||||||||||||||||||||||||||
1419/2233 | oligoClasses 1.63.0 (landing page) | Benilton Carvalho | WARNINGS | |||||||||||||||||||||||||||||||||
1420/2233 | OLIN 1.79.0 (landing page) | Matthias Futschik | OK | |||||||||||||||||||||||||||||||||
1421/2233 | OLINgui 1.75.0 (landing page) | Matthias Futschik | OK | |||||||||||||||||||||||||||||||||
1422/2233 | omada 1.3.2 (landing page) | Sokratis Kariotis | OK | |||||||||||||||||||||||||||||||||
1423/2233 | OmaDB 2.17.0 (landing page) | Klara Kaleb | ERROR | |||||||||||||||||||||||||||||||||
1424/2233 | omicade4 1.41.0 (landing page) | Chen Meng | OK | |||||||||||||||||||||||||||||||||
1425/2233 | OmicCircos 1.39.0 (landing page) | Ying Hu | WARNINGS | |||||||||||||||||||||||||||||||||
1426/2233 | omicplotR 1.21.0 (landing page) | Daniel Giguere | OK | |||||||||||||||||||||||||||||||||
1427/2233 | omicRexposome 1.23.0 (landing page) | Xavier Escribà Montagut | ERROR | |||||||||||||||||||||||||||||||||
1428/2233 | Ahmed A. Metwally | ERROR | ||||||||||||||||||||||||||||||||||
1429/2233 | OMICsPCA 1.19.0 (landing page) | Subhadeep Das | ERROR | |||||||||||||||||||||||||||||||||
1430/2233 | omicsPrint 1.21.0 (landing page) | Davy Cats | ERROR | |||||||||||||||||||||||||||||||||
1431/2233 | omicsViewer 1.5.1 (landing page) | Chen Meng | OK | |||||||||||||||||||||||||||||||||
1432/2233 | Omixer 1.11.0 (landing page) | Lucy Sinke | OK | |||||||||||||||||||||||||||||||||
1433/2233 | OmnipathR 3.9.7 (landing page) | Denes Turei | ERROR | |||||||||||||||||||||||||||||||||
1434/2233 | ompBAM 1.5.0 (landing page) | Alex Chit Hei Wong | OK | |||||||||||||||||||||||||||||||||
1435/2233 | oncomix 1.23.0 (landing page) | Daniel Pique | OK | |||||||||||||||||||||||||||||||||
1436/2233 | oncoscanR 1.3.0 (landing page) | Yann Christinat | OK | |||||||||||||||||||||||||||||||||
1437/2233 | OncoScore 1.29.0 (landing page) | Luca De Sano | OK | |||||||||||||||||||||||||||||||||
1438/2233 | OncoSimulR 4.3.3 (landing page) | Ramon Diaz-Uriarte | ERROR | |||||||||||||||||||||||||||||||||
1439/2233 | oneSENSE 1.23.0 (landing page) | Yong Kee Tan | ERROR | |||||||||||||||||||||||||||||||||
1440/2233 | onlineFDR 2.9.0 (landing page) | David S. Robertson | OK | |||||||||||||||||||||||||||||||||
1441/2233 | ontoProc 1.23.0 (landing page) | Vincent Carey | ERROR | |||||||||||||||||||||||||||||||||
1442/2233 | openCyto 2.13.0 (landing page) | Mike Jiang | WARNINGS | |||||||||||||||||||||||||||||||||
1443/2233 | openPrimeR 1.23.0 (landing page) | Matthias Döring | OK | |||||||||||||||||||||||||||||||||
1444/2233 | openPrimeRui 1.23.0 (landing page) | Matthias Döring | OK | |||||||||||||||||||||||||||||||||
1445/2233 | OpenStats 1.13.0 (landing page) | Hamed Haseli Mashhadi | OK | |||||||||||||||||||||||||||||||||
1446/2233 | oposSOM 2.19.0 (landing page) | Henry Loeffler-Wirth | WARNINGS | |||||||||||||||||||||||||||||||||
1447/2233 | oppar 1.29.0 (landing page) | Soroor Hediyeh zadeh | ERROR | |||||||||||||||||||||||||||||||||
1448/2233 | oppti 1.15.0 (landing page) | Abdulkadir Elmas | WARNINGS | |||||||||||||||||||||||||||||||||
1449/2233 | optimalFlow 1.13.0 (landing page) | Hristo Inouzhe | ERROR | |||||||||||||||||||||||||||||||||
1450/2233 | OPWeight 1.23.0 (landing page) | Mohamad Hasan | ERROR | |||||||||||||||||||||||||||||||||
1451/2233 | OrderedList 1.73.0 (landing page) | Claudio Lottaz | OK | |||||||||||||||||||||||||||||||||
1452/2233 | ORFhunteR 1.9.0 (landing page) | Vasily V. Grinev | ERROR | |||||||||||||||||||||||||||||||||
1453/2233 | ORFik 1.21.6 (landing page) | Haakon Tjeldnes | ERROR | |||||||||||||||||||||||||||||||||
1454/2233 | Organism.dplyr 1.29.0 (landing page) | Martin Morgan | ERROR | |||||||||||||||||||||||||||||||||
1455/2233 | OrganismDbi 1.43.0 (landing page) | Bioconductor Package Maintainer | ERROR | |||||||||||||||||||||||||||||||||
1456/2233 | orthogene 1.7.2 (landing page) | Brian Schilder | ERROR | |||||||||||||||||||||||||||||||||
1457/2233 | orthos 0.99.1 (landing page) | Panagiotis Papasaikas | ERROR | |||||||||||||||||||||||||||||||||
1458/2233 | OSAT 1.49.0 (landing page) | Li Yan | OK | |||||||||||||||||||||||||||||||||
1459/2233 | Oscope 1.31.0 (landing page) | Ning Leng | OK | |||||||||||||||||||||||||||||||||
1460/2233 | OTUbase 1.51.0 (landing page) | Daniel Beck | OK | |||||||||||||||||||||||||||||||||
1461/2233 | OUTRIDER 1.19.0 (landing page) | Christian Mertes | ERROR | |||||||||||||||||||||||||||||||||
1462/2233 | OutSplice 1.1.2 (landing page) | Theresa Guo | ERROR | |||||||||||||||||||||||||||||||||
1463/2233 | OVESEG 1.17.0 (landing page) | Lulu Chen | OK | |||||||||||||||||||||||||||||||||
|
| |||||||||||||||||||||||||||||||||||
Package | Maintainer | INSTALL/BUILD/CHECK | ||||||||||||||||||||||||||||||||||
1464/2233 | PAA 1.35.0 (landing page) | Michael Turewicz | OK | |||||||||||||||||||||||||||||||||
1465/2233 | packFinder 1.13.0 (landing page) | Jack Gisby | OK | |||||||||||||||||||||||||||||||||
1466/2233 | padma 1.11.0 (landing page) | Andrea Rau | OK | |||||||||||||||||||||||||||||||||
1467/2233 | PADOG 1.43.0 (landing page) | Adi L. Tarca | OK | |||||||||||||||||||||||||||||||||
1468/2233 | pageRank 1.11.0 (landing page) | Hongxu Ding | ERROR | |||||||||||||||||||||||||||||||||
1469/2233 | PAIRADISE 1.17.0 (landing page) | Qiang Hu | OK | |||||||||||||||||||||||||||||||||
1470/2233 | paircompviz 1.39.0 (landing page) | Michal Burda | OK | |||||||||||||||||||||||||||||||||
1471/2233 | pairedGSEA 1.1.2 (landing page) | Søren Helweg Dam | ERROR | |||||||||||||||||||||||||||||||||
1472/2233 | pairkat 1.7.0 (landing page) | Max McGrath | OK | |||||||||||||||||||||||||||||||||
1473/2233 | pandaR 1.33.0 (landing page) | Joseph N. Paulson | WARNINGS | |||||||||||||||||||||||||||||||||
1474/2233 | panelcn.mops 1.23.0 (landing page) | Gundula Povysil | OK | |||||||||||||||||||||||||||||||||
1475/2233 | PanomiR 1.5.0 (landing page) | Pourya Naderi | OK | |||||||||||||||||||||||||||||||||
1476/2233 | panp 1.71.0 (landing page) | Peter Warren | OK | |||||||||||||||||||||||||||||||||
1477/2233 | PANR 1.47.0 (landing page) | Xin Wang | OK | |||||||||||||||||||||||||||||||||
1478/2233 | PanViz 1.3.0 (landing page) | Luca Anholt | OK | |||||||||||||||||||||||||||||||||
1479/2233 | pareg 1.5.1 (landing page) | Kim Philipp Jablonski | ERROR | |||||||||||||||||||||||||||||||||
1480/2233 | parglms 1.33.0 (landing page) | VJ Carey | OK | |||||||||||||||||||||||||||||||||
1481/2233 | parody 1.59.2 (landing page) | Vince Carey | OK | |||||||||||||||||||||||||||||||||
1482/2233 | partCNV 0.99.10 (landing page) | Ziyi Li | OK | |||||||||||||||||||||||||||||||||
1483/2233 | PAST 1.17.0 (landing page) | Thrash Adam | WARNINGS | |||||||||||||||||||||||||||||||||
1484/2233 | Path2PPI 1.31.0 (landing page) | Oliver Philipp | OK | |||||||||||||||||||||||||||||||||
1485/2233 | pathifier 1.39.0 (landing page) | Assif Yitzhaky | OK | |||||||||||||||||||||||||||||||||
1486/2233 | PathNet 1.41.1 (landing page) | Ludwig Geistlinger | OK | |||||||||||||||||||||||||||||||||
1487/2233 | PathoStat 1.27.0 (landing page) | Solaiappan Manimaran | OK | |||||||||||||||||||||||||||||||||
1488/2233 | pathRender 1.69.0 (landing page) | Vince Carey | OK | |||||||||||||||||||||||||||||||||
1489/2233 | pathVar 1.31.0 (landing page) | Samuel Zimmerman | ERROR | |||||||||||||||||||||||||||||||||
1490/2233 | pathview 1.41.0 (landing page) | Weijun Luo | WARNINGS | |||||||||||||||||||||||||||||||||
1491/2233 | pathwayPCA 1.17.1 (landing page) | Gabriel Odom | ERROR | |||||||||||||||||||||||||||||||||
1492/2233 | paxtoolsr 1.35.0 (landing page) | Augustin Luna | ERROR | |||||||||||||||||||||||||||||||||
1493/2233 | pcaExplorer 2.27.1 (landing page) | Federico Marini | OK | |||||||||||||||||||||||||||||||||
1494/2233 | pcaMethods 1.93.0 (landing page) | Henning Redestig | OK | |||||||||||||||||||||||||||||||||
1495/2233 | PCAN 1.29.0 (landing page) | Matthew Page | OK | |||||||||||||||||||||||||||||||||
1496/2233 | PCAtools 2.13.0 (landing page) | Kevin Blighe | ERROR | |||||||||||||||||||||||||||||||||
1497/2233 | pcxn 2.23.0 (landing page) | Sokratis Kariotis | OK | |||||||||||||||||||||||||||||||||
1498/2233 | PDATK 1.9.0 (landing page) | Benjamin Haibe-Kains | WARNINGS | |||||||||||||||||||||||||||||||||
1499/2233 | pdInfoBuilder 1.65.0 (landing page) | Benilton Carvalho | OK | |||||||||||||||||||||||||||||||||
1500/2233 | PeacoQC 1.11.2 (landing page) | Annelies Emmaneel | OK | |||||||||||||||||||||||||||||||||
1501/2233 | peakPantheR 1.15.0 (landing page) | Arnaud Wolfer | ERROR | |||||||||||||||||||||||||||||||||
1502/2233 | PECA 1.37.0 (landing page) | Tomi Suomi | OK | |||||||||||||||||||||||||||||||||
1503/2233 | peco 1.13.0 (landing page) | Chiaowen Joyce Hsiao | OK | |||||||||||||||||||||||||||||||||
1504/2233 | pengls 1.7.0 (landing page) | Stijn Hawinkel | OK | |||||||||||||||||||||||||||||||||
1505/2233 | PepsNMR 1.19.0 (landing page) | Manon Martin | OK | |||||||||||||||||||||||||||||||||
1506/2233 | pepStat 1.35.0 (landing page) | Gregory C Imholte | OK | |||||||||||||||||||||||||||||||||
1507/2233 | pepXMLTab 1.35.0 (landing page) | Xiaojing Wang | OK | |||||||||||||||||||||||||||||||||
1508/2233 | PERFect 1.15.0 (landing page) | Quy Cao | ERROR | |||||||||||||||||||||||||||||||||
1509/2233 | periodicDNA 1.11.0 (landing page) | Jacques Serizay | WARNINGS | |||||||||||||||||||||||||||||||||
1510/2233 | pfamAnalyzeR 1.1.1 (landing page) | Kristoffer Vitting-Seerup | OK | |||||||||||||||||||||||||||||||||
1511/2233 | XC Zhang | ERROR | ||||||||||||||||||||||||||||||||||
1512/2233 | pgca 1.25.0 (landing page) | Gabriela Cohen-Freue | OK | |||||||||||||||||||||||||||||||||
1513/2233 | phantasus 1.21.4 (landing page) | Alexey Sergushichev | ERROR | |||||||||||||||||||||||||||||||||
1514/2233 | PharmacoGx 3.5.0 (landing page) | Benjamin Haibe-Kains | OK | |||||||||||||||||||||||||||||||||
1515/2233 | phemd 1.17.0 (landing page) | William S Chen | WARNINGS | |||||||||||||||||||||||||||||||||
1516/2233 | PhenoGeneRanker 1.9.0 (landing page) | Cagatay Dursun | OK | |||||||||||||||||||||||||||||||||
1517/2233 | phenomis 1.3.8 (landing page) | Etienne A. Thevenot | OK | |||||||||||||||||||||||||||||||||
1518/2233 | phenopath 1.25.0 (landing page) | Kieran Campbell | OK | |||||||||||||||||||||||||||||||||
1519/2233 | phenoTest 1.49.0 (landing page) | Evarist Planet | WARNINGS | |||||||||||||||||||||||||||||||||
1520/2233 | PhenStat 2.37.0 (landing page) | Hamed Haselimashhadi | OK | |||||||||||||||||||||||||||||||||
1521/2233 | philr 1.27.0 (landing page) | Justin Silverman | OK | |||||||||||||||||||||||||||||||||
1522/2233 | PhIPData 1.9.0 (landing page) | Athena Chen | OK | |||||||||||||||||||||||||||||||||
1523/2233 | phosphonormalizer 1.25.0 (landing page) | Sohrab Saraei | OK | |||||||||||||||||||||||||||||||||
1524/2233 | PhosR 1.11.0 (landing page) | Taiyun Kim | ERROR | |||||||||||||||||||||||||||||||||
1525/2233 | PhyloProfile 1.15.15 (landing page) | Vinh Tran | OK | |||||||||||||||||||||||||||||||||
1526/2233 | phyloseq 1.45.0 (landing page) | Paul J. McMurdie | ERROR | |||||||||||||||||||||||||||||||||
1527/2233 | Pi 2.13.0 (landing page) | Hai Fang | WARNINGS | |||||||||||||||||||||||||||||||||
1528/2233 | piano 2.17.0 (landing page) | Leif Varemo Wigge | ERROR | |||||||||||||||||||||||||||||||||
1529/2233 | pickgene 1.73.0 (landing page) | Brian S. Yandell | WARNINGS | |||||||||||||||||||||||||||||||||
1530/2233 | PICS 2.45.0 (landing page) | Renan Sauteraud | OK | |||||||||||||||||||||||||||||||||
1531/2233 | Pigengene 1.27.16 (landing page) | Habil Zare | OK | |||||||||||||||||||||||||||||||||
1532/2233 | PING 2.45.0 (landing page) | Renan Sauteraud | WARNINGS | |||||||||||||||||||||||||||||||||
1533/2233 | pipeComp 1.11.0 (landing page) | Pierre-Luc Germain | OK | |||||||||||||||||||||||||||||||||
1534/2233 | pipeFrame 1.17.0 (landing page) | Zheng Wei | OK | |||||||||||||||||||||||||||||||||
1535/2233 | planet 1.9.3 (landing page) | Victor Yuan | OK | |||||||||||||||||||||||||||||||||
1536/2233 | planttfhunter 1.1.0 (landing page) | Fabrício Almeida-Silva | OK | |||||||||||||||||||||||||||||||||
1537/2233 | Daniel Bottomly | ERROR | ||||||||||||||||||||||||||||||||||
1538/2233 | plgem 1.73.0 (landing page) | Norman Pavelka | OK | |||||||||||||||||||||||||||||||||
1539/2233 | plier 1.71.0 (landing page) | Crispin Miller | WARNINGS | |||||||||||||||||||||||||||||||||
1540/2233 | PloGO2 1.13.0 (landing page) | Jemma Wu | WARNINGS | |||||||||||||||||||||||||||||||||
1541/2233 | plotgardener 1.7.8 (landing page) | Nicole Kramer | OK | |||||||||||||||||||||||||||||||||
1542/2233 | plotGrouper 1.19.0 (landing page) | John D. Gagnon | ERROR | |||||||||||||||||||||||||||||||||
1543/2233 | PLPE 1.61.0 (landing page) | Soo-heang Eo | OK | |||||||||||||||||||||||||||||||||
1544/2233 | plyranges 1.21.0 (landing page) | Stuart Lee | WARNINGS | |||||||||||||||||||||||||||||||||
1545/2233 | pmm 1.33.0 (landing page) | Anna Drewek | OK | |||||||||||||||||||||||||||||||||
1546/2233 | pmp 1.13.0 (landing page) | Gavin Rhys Lloyd | ERROR | |||||||||||||||||||||||||||||||||
1547/2233 | PoDCall 1.9.3 (landing page) | Hans Petter Brodal | OK | |||||||||||||||||||||||||||||||||
1548/2233 | podkat 1.33.0 (landing page) | Ulrich Bodenhofer | WARNINGS | |||||||||||||||||||||||||||||||||
1549/2233 | pogos 1.21.0 (landing page) | VJ Carey | OK | |||||||||||||||||||||||||||||||||
1550/2233 | polyester 1.37.0 (landing page) | Jack Fu | OK | |||||||||||||||||||||||||||||||||
1551/2233 | POMA 1.11.0 (landing page) | Pol Castellano-Escuder | ERROR | |||||||||||||||||||||||||||||||||
1552/2233 | powerTCR 1.21.0 (landing page) | Hillary Koch | WARNINGS | |||||||||||||||||||||||||||||||||
1553/2233 | POWSC 1.9.0 (landing page) | Kenong Su | OK | |||||||||||||||||||||||||||||||||
1554/2233 | ppcseq 1.9.1 (landing page) | Stefano Mangiola | OK | |||||||||||||||||||||||||||||||||
1555/2233 | PPInfer 1.27.0 (landing page) | Dongmin Jung | TIMEOUT | |||||||||||||||||||||||||||||||||
1556/2233 | pqsfinder 2.17.0 (landing page) | Jiri Hon | WARNINGS | |||||||||||||||||||||||||||||||||
1557/2233 | pram 1.17.0 (landing page) | Peng Liu | OK | |||||||||||||||||||||||||||||||||
1558/2233 | prebs 1.41.0 (landing page) | Karolis Uziela | OK | |||||||||||||||||||||||||||||||||
1559/2233 | preciseTAD 1.11.0 (landing page) | Mikhail Dozmorov | OK | |||||||||||||||||||||||||||||||||
1560/2233 | PREDA 1.47.0 (landing page) | Francesco Ferrari | WARNINGS | |||||||||||||||||||||||||||||||||
1561/2233 | preprocessCore 1.63.1 (landing page) | Ben Bolstad | WARNINGS | |||||||||||||||||||||||||||||||||
1562/2233 | primirTSS 1.19.0 (landing page) | Pumin Li | WARNINGS | |||||||||||||||||||||||||||||||||
1563/2233 | PrInCE 1.17.0 (landing page) | Michael Skinnider | WARNINGS | |||||||||||||||||||||||||||||||||
1564/2233 | proActiv 1.11.0 (landing page) | Joseph Lee | OK | |||||||||||||||||||||||||||||||||
1565/2233 | proBAMr 1.35.0 (landing page) | Xiaojing Wang | OK | |||||||||||||||||||||||||||||||||
1566/2233 | PROcess 1.77.0 (landing page) | Xiaochun Li | OK | |||||||||||||||||||||||||||||||||
1567/2233 | procoil 2.29.0 (landing page) | Ulrich Bodenhofer | OK | |||||||||||||||||||||||||||||||||
1568/2233 | proDA 1.15.0 (landing page) | Constantin Ahlmann-Eltze | OK | |||||||||||||||||||||||||||||||||
1569/2233 | profileplyr 1.17.0 (landing page) | Tom Carroll | OK | |||||||||||||||||||||||||||||||||
1570/2233 | profileScoreDist 1.29.0 (landing page) | Paal O. Westermark | OK | |||||||||||||||||||||||||||||||||
1571/2233 | progeny 1.23.0 (landing page) | Aurélien Dugourd | OK | |||||||||||||||||||||||||||||||||
1572/2233 | projectR 1.17.6 (landing page) | Genevieve Stein-O'Brien | OK | |||||||||||||||||||||||||||||||||
1573/2233 | pRoloc 1.41.0 (landing page) | Laurent Gatto | TIMEOUT | |||||||||||||||||||||||||||||||||
1574/2233 | pRolocGUI 2.11.0 (landing page) | Lisa Breckels | OK | |||||||||||||||||||||||||||||||||
1575/2233 | PROMISE 1.53.0 (landing page) | Stan Pounds | OK | |||||||||||||||||||||||||||||||||
1576/2233 | PROPER 1.33.0 (landing page) | Hao Wu | WARNINGS | |||||||||||||||||||||||||||||||||
1577/2233 | PROPS 1.23.0 (landing page) | Lichy Han | OK | |||||||||||||||||||||||||||||||||
1578/2233 | Prostar 1.33.0 (landing page) | Samuel Wieczorek | ERROR | |||||||||||||||||||||||||||||||||
1579/2233 | proteasy 1.3.0 (landing page) | Martin Rydén | ERROR | |||||||||||||||||||||||||||||||||
1580/2233 | proteinProfiles 1.41.0 (landing page) | Julian Gehring | OK | |||||||||||||||||||||||||||||||||
1581/2233 | ProteoDisco 1.7.0 (landing page) | Job van Riet | WARNINGS | |||||||||||||||||||||||||||||||||
1582/2233 | ProteoMM 1.19.0 (landing page) | Yuliya V Karpievitch | OK | |||||||||||||||||||||||||||||||||
1583/2233 | protGear 1.5.0 (landing page) | Kennedy Mwai | OK | |||||||||||||||||||||||||||||||||
1584/2233 | ProtGenerics 1.33.1 (landing page) | Laurent Gatto | WARNINGS | |||||||||||||||||||||||||||||||||
1585/2233 | PSEA 1.35.0 (landing page) | Alexandre Kuhn | WARNINGS | |||||||||||||||||||||||||||||||||
1586/2233 | psichomics 1.27.0 (landing page) | Nuno Saraiva-Agostinho | WARNINGS | |||||||||||||||||||||||||||||||||
1587/2233 | PSMatch 1.5.0 (landing page) | Laurent Gatto | OK | |||||||||||||||||||||||||||||||||
1588/2233 | psygenet2r 1.33.5 (landing page) | Alba Gutierrez-Sacristan | OK | |||||||||||||||||||||||||||||||||
1589/2233 | ptairMS 1.9.0 (landing page) | camille Roquencourt | ERROR | |||||||||||||||||||||||||||||||||
1590/2233 | puma 3.43.0 (landing page) | Xuejun Liu | WARNINGS | |||||||||||||||||||||||||||||||||
1591/2233 | PureCN 2.7.12 (landing page) | Markus Riester | OK | |||||||||||||||||||||||||||||||||
1592/2233 | pvac 1.49.0 (landing page) | Jun Lu | OK | |||||||||||||||||||||||||||||||||
1593/2233 | pvca 1.41.0 (landing page) | Jianying LI | OK | |||||||||||||||||||||||||||||||||
1594/2233 | Pviz 1.35.0 (landing page) | Renan Sauteraud | WARNINGS | |||||||||||||||||||||||||||||||||
1595/2233 | PWMEnrich 4.37.0 (landing page) | Diego Diez | OK | |||||||||||||||||||||||||||||||||
1596/2233 | pwOmics 1.33.1 (landing page) | Torsten Schoeps | WARNINGS | |||||||||||||||||||||||||||||||||
1597/2233 | Stefan Graw | ERROR | ||||||||||||||||||||||||||||||||||
|
| |||||||||||||||||||||||||||||||||||
Package | Maintainer | INSTALL/BUILD/CHECK | ||||||||||||||||||||||||||||||||||
1598/2233 | qckitfastq 1.17.0 (landing page) | August Guang | ERROR | |||||||||||||||||||||||||||||||||
1599/2233 | qcmetrics 1.39.0 (landing page) | Laurent Gatto | ERROR | |||||||||||||||||||||||||||||||||
1600/2233 | QDNAseq 1.37.0 (landing page) | Daoud Sie | OK | |||||||||||||||||||||||||||||||||
1601/2233 | QFeatures 1.11.2 (landing page) | Laurent Gatto | OK | |||||||||||||||||||||||||||||||||
1602/2233 | qmtools 1.5.0 (landing page) | Jaehyun Joo | OK | |||||||||||||||||||||||||||||||||
1603/2233 | qpcrNorm 1.59.0 (landing page) | Jessica Mar | OK | |||||||||||||||||||||||||||||||||
1604/2233 | qpgraph 2.35.0 (landing page) | Robert Castelo | ERROR | |||||||||||||||||||||||||||||||||
1605/2233 | qPLEXanalyzer 1.19.0 (landing page) | Ashley Sawle | OK | |||||||||||||||||||||||||||||||||
1606/2233 | Vince Buffalo | ERROR | ||||||||||||||||||||||||||||||||||
1607/2233 | qsea 1.27.0 (landing page) | Matthias Lienhard | OK | |||||||||||||||||||||||||||||||||
1608/2233 | qsmooth 1.17.0 (landing page) | Stephanie C. Hicks | TIMEOUT | |||||||||||||||||||||||||||||||||
1609/2233 | QSutils 1.19.0 (landing page) | Mercedes Guerrero-Murillo | OK | |||||||||||||||||||||||||||||||||
1610/2233 | qsvaR 1.5.3 (landing page) | Hedia Tnani | ERROR | |||||||||||||||||||||||||||||||||
1611/2233 | Qtlizer 1.15.0 (landing page) | Matthias Munz | OK | |||||||||||||||||||||||||||||||||
1612/2233 | quantiseqr 1.9.0 (landing page) | Federico Marini | TIMEOUT | |||||||||||||||||||||||||||||||||
1613/2233 | quantro 1.35.0 (landing page) | Stephanie Hicks | OK | |||||||||||||||||||||||||||||||||
1614/2233 | quantsmooth 1.67.0 (landing page) | Jan Oosting | OK | |||||||||||||||||||||||||||||||||
1615/2233 | QuartPAC 1.33.0 (landing page) | Gregory Ryslik | OK | |||||||||||||||||||||||||||||||||
1616/2233 | QuasR 1.41.2 (landing page) | Michael Stadler | ERROR | |||||||||||||||||||||||||||||||||
1617/2233 | QuaternaryProd 1.35.0 (landing page) | Carl Tony Fakhry | OK | |||||||||||||||||||||||||||||||||
1618/2233 | QUBIC 1.29.0 (landing page) | Yu Zhang | OK | |||||||||||||||||||||||||||||||||
1619/2233 | qusage 2.35.0 (landing page) | Christopher Bolen | OK | |||||||||||||||||||||||||||||||||
1620/2233 | qvalue 2.33.0 (landing page) | John D. Storey | OK | |||||||||||||||||||||||||||||||||
|
| |||||||||||||||||||||||||||||||||||
Package | Maintainer | INSTALL/BUILD/CHECK | ||||||||||||||||||||||||||||||||||
1621/2233 | R3CPET 1.33.0 (landing page) | Mohamed Nadhir Djekidel | ERROR | |||||||||||||||||||||||||||||||||
1622/2233 | r3Cseq 1.47.0 (landing page) | Supat Thongjuea | OK | |||||||||||||||||||||||||||||||||
1623/2233 | R453Plus1Toolbox 1.51.0 (landing page) | Hans-Ulrich Klein | OK | |||||||||||||||||||||||||||||||||
1624/2233 | R4RNA 1.29.0 (landing page) | Daniel Lai | OK | |||||||||||||||||||||||||||||||||
1625/2233 | RadioGx 2.5.0 (landing page) | Benjamin Haibe-Kains | OK | |||||||||||||||||||||||||||||||||
1626/2233 | RaggedExperiment 1.25.3 (landing page) | Marcel Ramos | OK | |||||||||||||||||||||||||||||||||
1627/2233 | rain 1.35.0 (landing page) | Paul F. Thaben | OK | |||||||||||||||||||||||||||||||||
1628/2233 | ramr 1.9.0 (landing page) | Oleksii Nikolaienko | OK | |||||||||||||||||||||||||||||||||
1629/2233 | ramwas 1.25.0 (landing page) | Andrey A Shabalin | OK | |||||||||||||||||||||||||||||||||
1630/2233 | RandomWalkRestartMH 1.21.0 (landing page) | Alberto Valdeolivas | WARNINGS | |||||||||||||||||||||||||||||||||
1631/2233 | randPack 1.47.0 (landing page) | Robert Gentleman | OK | |||||||||||||||||||||||||||||||||
1632/2233 | randRotation 1.13.0 (landing page) | Peter Hettegger | ERROR | |||||||||||||||||||||||||||||||||
1633/2233 | RankProd 3.27.0 (landing page) | Francesco Del Carratore | OK | |||||||||||||||||||||||||||||||||
1634/2233 | RAREsim 1.5.0 (landing page) | Ryan Barnard | OK | |||||||||||||||||||||||||||||||||
1635/2233 | RareVariantVis 2.29.0 (landing page) | Tomasz Stokowy | OK | |||||||||||||||||||||||||||||||||
1636/2233 | Rarr 1.1.4 (landing page) | Mike Smith | OK | |||||||||||||||||||||||||||||||||
1637/2233 | rawrr 1.9.1 (landing page) | Christian Panse | ERROR | |||||||||||||||||||||||||||||||||
1638/2233 | RbcBook1 1.69.0 (landing page) | Vince Carey | OK | |||||||||||||||||||||||||||||||||
1639/2233 | Rbec 1.9.0 (landing page) | Pengfan Zhang | ERROR | |||||||||||||||||||||||||||||||||
1640/2233 | RBGL 1.77.1 (landing page) | Bioconductor Package Maintainer | WARNINGS | |||||||||||||||||||||||||||||||||
1641/2233 | RBioFormats 1.1.0 (landing page) | Andrzej Oleś | OK | |||||||||||||||||||||||||||||||||
1642/2233 | RBioinf 1.61.0 (landing page) | Robert Gentleman | OK | |||||||||||||||||||||||||||||||||
1643/2233 | rBiopaxParser 2.41.0 (landing page) | Frank Kramer | OK | |||||||||||||||||||||||||||||||||
1644/2233 | RBM 1.33.0 (landing page) | Dongmei Li | OK | |||||||||||||||||||||||||||||||||
1645/2233 | Rbowtie 1.41.0 (landing page) | Michael Stadler | WARNINGS | |||||||||||||||||||||||||||||||||
1646/2233 | Rbowtie2 2.7.0 (landing page) | Zheng Wei | OK | |||||||||||||||||||||||||||||||||
1647/2233 | rbsurv 2.59.0 (landing page) | Soo-heang Eo | OK | |||||||||||||||||||||||||||||||||
1648/2233 | Rbwa 1.5.3 (landing page) | Jean-Philippe Fortin | WARNINGS | |||||||||||||||||||||||||||||||||
1649/2233 | RCAS 1.27.0 (landing page) | Bora Uyar | ERROR | |||||||||||||||||||||||||||||||||
1650/2233 | RCASPAR 1.47.0 (landing page) | Douaa Mugahid | OK | |||||||||||||||||||||||||||||||||
1651/2233 | rcellminer 2.23.0 (landing page) | Augustin Luna | WARNINGS | |||||||||||||||||||||||||||||||||
1652/2233 | rCGH 1.31.0 (landing page) | Frederic Commo | OK | |||||||||||||||||||||||||||||||||
1653/2233 | RcisTarget 1.21.0 (landing page) | Sara Aibar | ERROR | |||||||||||||||||||||||||||||||||
1654/2233 | RCM 1.17.0 (landing page) | Stijn Hawinkel | OK | |||||||||||||||||||||||||||||||||
1655/2233 | Rcollectl 1.1.1 (landing page) | Vincent Carey | ERROR | |||||||||||||||||||||||||||||||||
1656/2233 | Rcpi 1.37.1 (landing page) | Nan Xiao | OK | |||||||||||||||||||||||||||||||||
1657/2233 | RCSL 1.9.0 (landing page) | Qinglin Mei | ERROR | |||||||||||||||||||||||||||||||||
1658/2233 | Rcwl 1.17.2 (landing page) | Qiang Hu | OK | |||||||||||||||||||||||||||||||||
1659/2233 | RcwlPipelines 1.17.0 (landing page) | Qiang Hu | OK | |||||||||||||||||||||||||||||||||
1660/2233 | RCX 1.5.0 (landing page) | Florian Auer | OK | |||||||||||||||||||||||||||||||||
1661/2233 | RCy3 2.21.3 (landing page) | Alex Pico | OK | |||||||||||||||||||||||||||||||||
1662/2233 | RCyjs 2.23.0 (landing page) | Paul Shannon | WARNINGS | |||||||||||||||||||||||||||||||||
1663/2233 | rDGIdb 1.27.0 (landing page) | Lars Bosshard | OK | |||||||||||||||||||||||||||||||||
1664/2233 | Rdisop 1.61.0 (landing page) | Steffen Neumann | WARNINGS | |||||||||||||||||||||||||||||||||
1665/2233 | RDRToolbox 1.51.0 (landing page) | Christoph Bartenhagen | OK | |||||||||||||||||||||||||||||||||
1666/2233 | ReactomeContentService4R 1.9.0 (landing page) | Chi-Lam Poon | OK | |||||||||||||||||||||||||||||||||
1667/2233 | ReactomeGraph4R 1.9.0 (landing page) | Chi-Lam Poon | OK | |||||||||||||||||||||||||||||||||
1668/2233 | ReactomeGSA 1.15.0 (landing page) | Johannes Griss | ERROR | |||||||||||||||||||||||||||||||||
1669/2233 | ReactomePA 1.45.0 (landing page) | Guangchuang Yu | OK | |||||||||||||||||||||||||||||||||
1670/2233 | ReadqPCR 1.47.0 (landing page) | James Perkins | OK | |||||||||||||||||||||||||||||||||
1671/2233 | REBET 1.19.0 (landing page) | Bill Wheeler | OK | |||||||||||||||||||||||||||||||||
1672/2233 | rebook 1.11.1 (landing page) | Aaron Lun | WARNINGS | |||||||||||||||||||||||||||||||||
1673/2233 | receptLoss 1.13.0 (landing page) | Daniel Pique | OK | |||||||||||||||||||||||||||||||||
1674/2233 | reconsi 1.13.0 (landing page) | Stijn Hawinkel | OK | |||||||||||||||||||||||||||||||||
1675/2233 | recount 1.27.0 (landing page) | Leonardo Collado-Torres | ERROR | |||||||||||||||||||||||||||||||||
1676/2233 | recount3 1.11.2 (landing page) | Leonardo Collado-Torres | OK | |||||||||||||||||||||||||||||||||
1677/2233 | recountmethylation 1.11.1 (landing page) | Sean K Maden | OK | |||||||||||||||||||||||||||||||||
1678/2233 | recoup 1.29.0 (landing page) | Panagiotis Moulos | OK | |||||||||||||||||||||||||||||||||
1679/2233 | RedeR 2.5.4 (landing page) | Mauro Castro | OK | |||||||||||||||||||||||||||||||||
1680/2233 | RedisParam 1.3.1 (landing page) | Martin Morgan | OK | |||||||||||||||||||||||||||||||||
1681/2233 | REDseq 1.47.0 (landing page) | Lihua Julie Zhu | OK | |||||||||||||||||||||||||||||||||
1682/2233 | RefPlus 1.71.0 (landing page) | Kai-Ming Chang | ERROR | |||||||||||||||||||||||||||||||||
1683/2233 | RegEnrich 1.11.0 (landing page) | Weiyang Tao | ERROR | |||||||||||||||||||||||||||||||||
1684/2233 | RegionalST 0.99.9 (landing page) | Ziyi Li | OK | |||||||||||||||||||||||||||||||||
1685/2233 | regioneR 1.33.0 (landing page) | Bernat Gel | OK | |||||||||||||||||||||||||||||||||
1686/2233 | regioneReloaded 1.3.0 (landing page) | Roberto Malinverni | OK | |||||||||||||||||||||||||||||||||
1687/2233 | regionReport 1.35.0 (landing page) | Leonardo Collado-Torres | ERROR | |||||||||||||||||||||||||||||||||
1688/2233 | regsplice 1.27.0 (landing page) | Lukas M. Weber | OK | |||||||||||||||||||||||||||||||||
1689/2233 | regutools 1.13.0 (landing page) | Joselyn Chavez | OK | |||||||||||||||||||||||||||||||||
1690/2233 | REMP 1.25.0 (landing page) | Yinan Zheng | ERROR | |||||||||||||||||||||||||||||||||
1691/2233 | Repitools 1.47.0 (landing page) | Mark Robinson | WARNINGS | |||||||||||||||||||||||||||||||||
1692/2233 | Jason A. Hackney | ERROR | ||||||||||||||||||||||||||||||||||
1693/2233 | RepViz 1.17.0 (landing page) | Thomas Faux, Asta Laiho | ERROR | |||||||||||||||||||||||||||||||||
1694/2233 | ReQON 1.47.0 (landing page) | Christopher Cabanski | ERROR | |||||||||||||||||||||||||||||||||
1695/2233 | ResidualMatrix 1.11.0 (landing page) | Aaron Lun | OK | |||||||||||||||||||||||||||||||||
1696/2233 | RESOLVE 1.3.0 (landing page) | Luca De Sano | OK | |||||||||||||||||||||||||||||||||
1697/2233 | restfulSE 1.23.0 (landing page) | Shweta Gopaulakrishnan | ERROR | |||||||||||||||||||||||||||||||||
1698/2233 | retrofit 1.1.0 (landing page) | Adam Park | OK | |||||||||||||||||||||||||||||||||
1699/2233 | ReUseData 1.1.0 (landing page) | Qian Liu | ERROR | |||||||||||||||||||||||||||||||||
1700/2233 | rexposome 1.23.0 (landing page) | Xavier Escribà Montagut | ERROR | |||||||||||||||||||||||||||||||||
1701/2233 | rfaRm 1.13.0 (landing page) | Lara Selles Vidal | TIMEOUT | |||||||||||||||||||||||||||||||||
1702/2233 | Rfastp 1.11.0 (landing page) | Thomas Carroll | WARNINGS | |||||||||||||||||||||||||||||||||
1703/2233 | rfPred 1.39.0 (landing page) | Hugo Varet | OK | |||||||||||||||||||||||||||||||||
1704/2233 | rGADEM 2.49.0 (landing page) | Arnaud Droit | OK | |||||||||||||||||||||||||||||||||
1705/2233 | rGenomeTracks 1.7.0 (landing page) | Omar Elashkar | OK | |||||||||||||||||||||||||||||||||
1706/2233 | RGMQL 1.21.0 (landing page) | Simone Pallotta | ERROR | |||||||||||||||||||||||||||||||||
1707/2233 | RgnTX 1.3.0 (landing page) | Yue Wang | OK | |||||||||||||||||||||||||||||||||
1708/2233 | rgoslin 1.5.0 (landing page) | Nils Hoffmann | OK | |||||||||||||||||||||||||||||||||
1709/2233 | RGraph2js 1.29.0 (landing page) | Stephane Cano | OK | |||||||||||||||||||||||||||||||||
1710/2233 | Rgraphviz 2.45.0 (landing page) | Kasper Daniel Hansen | WARNINGS | |||||||||||||||||||||||||||||||||
1711/2233 | rGREAT 2.3.0 (landing page) | Zuguang Gu | OK | |||||||||||||||||||||||||||||||||
1712/2233 | RGSEA 1.35.0 (landing page) | Chengcheng Ma | OK | |||||||||||||||||||||||||||||||||
1713/2233 | rgsepd 1.33.0 (landing page) | Karl Stamm | ERROR | |||||||||||||||||||||||||||||||||
1714/2233 | rhdf5 2.45.1 (landing page) | Mike Smith | WARNINGS | |||||||||||||||||||||||||||||||||
1715/2233 | rhdf5client 1.23.4 (landing page) | Vincent Carey | OK | |||||||||||||||||||||||||||||||||
1716/2233 | rhdf5filters 1.13.5 (landing page) | Mike Smith | OK | |||||||||||||||||||||||||||||||||
1717/2233 | Rhdf5lib 1.23.2 (landing page) | Mike Smith | WARNINGS | |||||||||||||||||||||||||||||||||
1718/2233 | Rhisat2 1.17.0 (landing page) | Charlotte Soneson | ERROR | |||||||||||||||||||||||||||||||||
1719/2233 | Rhtslib 2.3.0 (landing page) | Hervé Pagès | WARNINGS | |||||||||||||||||||||||||||||||||
1720/2233 | RiboCrypt 1.7.0 (landing page) | Michal Swirski | OK | |||||||||||||||||||||||||||||||||
1721/2233 | RiboDiPA 1.9.0 (landing page) | Ji-Ping Wang | OK | |||||||||||||||||||||||||||||||||
1722/2233 | RiboProfiling 1.31.0 (landing page) | A. Popa | ERROR | |||||||||||||||||||||||||||||||||
1723/2233 | ribor 1.13.0 (landing page) | Michael Geng | OK | |||||||||||||||||||||||||||||||||
1724/2233 | riboSeqR 1.35.0 (landing page) | Thomas J. Hardcastle | OK | |||||||||||||||||||||||||||||||||
1725/2233 | ribosomeProfilingQC 1.13.2 (landing page) | Jianhong Ou | ERROR | |||||||||||||||||||||||||||||||||
1726/2233 | rifi 1.5.0 (landing page) | Jens Georg | WARNINGS | |||||||||||||||||||||||||||||||||
1727/2233 | rifiComparative 1.1.1 (landing page) | Loubna Youssar | OK | |||||||||||||||||||||||||||||||||
1728/2233 | RImmPort 1.29.0 (landing page) | Zicheng Hu | OK | |||||||||||||||||||||||||||||||||
1729/2233 | J. Toedling | WARNINGS | ||||||||||||||||||||||||||||||||||
1730/2233 | RIPAT 1.11.0 (landing page) | Min-Jeong Baek | ERROR | |||||||||||||||||||||||||||||||||
1731/2233 | Risa 1.43.0 (landing page) | Alejandra Gonzalez-Beltran | OK | |||||||||||||||||||||||||||||||||
1732/2233 | RITAN 1.25.0 (landing page) | Michael Zimmermann | WARNINGS | |||||||||||||||||||||||||||||||||
1733/2233 | RIVER 1.25.0 (landing page) | Yungil Kim | OK | |||||||||||||||||||||||||||||||||
1734/2233 | RJMCMCNucleosomes 1.25.0 (landing page) | Astrid Deschênes | OK | |||||||||||||||||||||||||||||||||
1735/2233 | RLassoCox 1.9.0 (landing page) | Wei Liu | ERROR | |||||||||||||||||||||||||||||||||
1736/2233 | RLMM 1.63.0 (landing page) | Nusrat Rabbee | OK | |||||||||||||||||||||||||||||||||
1737/2233 | RLSeq 1.7.0 (landing page) | Henry Miller | ERROR | |||||||||||||||||||||||||||||||||
1738/2233 | Rmagpie 1.57.0 (landing page) | Camille Maumet | OK | |||||||||||||||||||||||||||||||||
1739/2233 | RMassBank 3.11.1 (landing page) | RMassBank at Eawag | OK | |||||||||||||||||||||||||||||||||
1740/2233 | rmelting 1.17.0 (landing page) | J. Aravind | OK | |||||||||||||||||||||||||||||||||
1741/2233 | Rmmquant 1.19.0 (landing page) | Zytnicki Matthias | OK | |||||||||||||||||||||||||||||||||
1742/2233 | rmspc 1.7.0 (landing page) | Meriem Bahda | OK | |||||||||||||||||||||||||||||||||
1743/2233 | RNAAgeCalc 1.13.0 (landing page) | Xu Ren | OK | |||||||||||||||||||||||||||||||||
1744/2233 | Reed Sorenson | ERROR | ||||||||||||||||||||||||||||||||||
1745/2233 | rnaEditr 1.11.0 (landing page) | Lanyu Zhang | WARNINGS | |||||||||||||||||||||||||||||||||
1746/2233 | RNAinteract 1.49.0 (landing page) | Mike Smith | OK | |||||||||||||||||||||||||||||||||
1747/2233 | RNAmodR 1.15.0 (landing page) | Felix G.M. Ernst | TIMEOUT | |||||||||||||||||||||||||||||||||
1748/2233 | RNAmodR.AlkAnilineSeq 1.15.0 (landing page) | Felix G.M. Ernst | TIMEOUT | |||||||||||||||||||||||||||||||||
1749/2233 | RNAmodR.ML 1.15.0 (landing page) | Felix G.M. Ernst | TIMEOUT | |||||||||||||||||||||||||||||||||
1750/2233 | RNAmodR.RiboMethSeq 1.15.0 (landing page) | Felix G.M. Ernst | TIMEOUT | |||||||||||||||||||||||||||||||||
1751/2233 | RNAsense 1.15.0 (landing page) | Marcus Rosenblatt | ERROR | |||||||||||||||||||||||||||||||||
1752/2233 | rnaseqcomp 1.31.0 (landing page) | Mingxiang Teng | OK | |||||||||||||||||||||||||||||||||
1753/2233 | RNASeqPower 1.41.0 (landing page) | Terry M Therneau | OK | |||||||||||||||||||||||||||||||||
1754/2233 | RnaSeqSampleSize 2.11.0 (landing page) | Shilin Zhao Developer | OK | |||||||||||||||||||||||||||||||||
1755/2233 | RnBeads 2.19.0 (landing page) | Fabian Mueller | OK | |||||||||||||||||||||||||||||||||
1756/2233 | Rnits 1.35.0 (landing page) | Dipen P. Sangurdekar | WARNINGS | |||||||||||||||||||||||||||||||||
1757/2233 | roar 1.37.0 (landing page) | Elena Grassi | OK | |||||||||||||||||||||||||||||||||
1758/2233 | roastgsa 0.99.8 (landing page) | Adria Caballe | OK | |||||||||||||||||||||||||||||||||
1759/2233 | ROC 1.77.0 (landing page) | Vince Carey | OK | |||||||||||||||||||||||||||||||||
1760/2233 | ROCpAI 1.13.0 (landing page) | Juan-Pedro Garcia | OK | |||||||||||||||||||||||||||||||||
1761/2233 | RolDE 1.5.0 (landing page) | Tommi Valikangas | OK | |||||||||||||||||||||||||||||||||
1762/2233 | rols 2.29.0 (landing page) | Laurent Gatto | OK | |||||||||||||||||||||||||||||||||
1763/2233 | ROntoTools 2.29.1 (landing page) | Sorin Draghici | WARNINGS | |||||||||||||||||||||||||||||||||
1764/2233 | ropls 1.33.0 (landing page) | Etienne A. Thevenot | OK | |||||||||||||||||||||||||||||||||
1765/2233 | ROSeq 1.13.0 (landing page) | Krishan Gupta | WARNINGS | |||||||||||||||||||||||||||||||||
1766/2233 | ROTS 1.29.0 (landing page) | Tomi Suomi | OK | |||||||||||||||||||||||||||||||||
1767/2233 | RPA 1.57.0 (landing page) | Leo Lahti | OK | |||||||||||||||||||||||||||||||||
1768/2233 | rprimer 1.5.0 (landing page) | Sofia Persson | OK | |||||||||||||||||||||||||||||||||
1769/2233 | RProtoBufLib 2.13.1 (landing page) | Mike Jiang | WARNINGS | |||||||||||||||||||||||||||||||||
1770/2233 | rpx 2.9.1 (landing page) | Laurent Gatto | ERROR | |||||||||||||||||||||||||||||||||
1771/2233 | Rqc 1.35.0 (landing page) | Welliton Souza | OK | |||||||||||||||||||||||||||||||||
1772/2233 | rqt 1.27.0 (landing page) | Ilya Y. Zhbannikov | OK | |||||||||||||||||||||||||||||||||
1773/2233 | rqubic 1.47.0 (landing page) | Jitao David Zhang | WARNINGS | |||||||||||||||||||||||||||||||||
1774/2233 | rRDP 1.35.2 (landing page) | Michael Hahsler | ERROR | |||||||||||||||||||||||||||||||||
1775/2233 | RRHO 1.41.0 (landing page) | Jonathan Rosenblatt | OK | |||||||||||||||||||||||||||||||||
1776/2233 | rrvgo 1.13.2 (landing page) | Sergi Sayols | OK | |||||||||||||||||||||||||||||||||
1777/2233 | Rsamtools 2.17.0 (landing page) | Bioconductor Package Maintainer | WARNINGS | |||||||||||||||||||||||||||||||||
1778/2233 | rsbml 2.59.0 (landing page) | Michael Lawrence | ERROR | |||||||||||||||||||||||||||||||||
1779/2233 | rScudo 1.17.0 (landing page) | Matteo Ciciani | OK | |||||||||||||||||||||||||||||||||
1780/2233 | rsemmed 1.11.0 (landing page) | Leslie Myint | OK | |||||||||||||||||||||||||||||||||
1781/2233 | RSeqAn 1.21.0 (landing page) | August Guang | WARNINGS | |||||||||||||||||||||||||||||||||
1782/2233 | Rsubread 2.15.5 (landing page) | Wei Shi | ERROR | |||||||||||||||||||||||||||||||||
1783/2233 | RSVSim 1.41.0 (landing page) | Christoph Bartenhagen | OK | |||||||||||||||||||||||||||||||||
1784/2233 | rSWeeP 1.13.0 (landing page) | Danrley R. Fernandes | OK | |||||||||||||||||||||||||||||||||
1785/2233 | RTCA 1.53.0 (landing page) | Jitao David Zhang | WARNINGS | |||||||||||||||||||||||||||||||||
1786/2233 | RTCGA 1.31.0 (landing page) | Marcin Kosinski | OK | |||||||||||||||||||||||||||||||||
1787/2233 | RTCGAToolbox 2.31.1 (landing page) | Marcel Ramos | ERROR | |||||||||||||||||||||||||||||||||
1788/2233 | RTN 2.25.0 (landing page) | Mauro Castro | OK | |||||||||||||||||||||||||||||||||
1789/2233 | RTNduals 1.25.0 (landing page) | Mauro Castro | OK | |||||||||||||||||||||||||||||||||
1790/2233 | RTNsurvival 1.25.0 (landing page) | Clarice Groeneveld | OK | |||||||||||||||||||||||||||||||||
1791/2233 | RTopper 1.47.0 (landing page) | Luigi Marchionni | OK | |||||||||||||||||||||||||||||||||
1792/2233 | Rtpca 1.11.0 (landing page) | Nils Kurzawa | OK | |||||||||||||||||||||||||||||||||
1793/2233 | rtracklayer 1.61.1 (landing page) | Michael Lawrence | ERROR | |||||||||||||||||||||||||||||||||
1794/2233 | Rtreemix 1.63.0 (landing page) | Jasmina Bogojeska | WARNINGS | |||||||||||||||||||||||||||||||||
1795/2233 | rTRM 1.39.0 (landing page) | Diego Diez | OK | |||||||||||||||||||||||||||||||||
1796/2233 | rTRMui 1.39.0 (landing page) | Diego Diez | OK | |||||||||||||||||||||||||||||||||
1797/2233 | runibic 1.23.0 (landing page) | Patryk Orzechowski | WARNINGS | |||||||||||||||||||||||||||||||||
1798/2233 | RUVcorr 1.33.0 (landing page) | Saskia Freytag | WARNINGS | |||||||||||||||||||||||||||||||||
1799/2233 | RUVnormalize 1.35.0 (landing page) | Laurent Jacob | OK | |||||||||||||||||||||||||||||||||
1800/2233 | RUVSeq 1.35.0 (landing page) | Davide Risso | ERROR | |||||||||||||||||||||||||||||||||
1801/2233 | RVS 1.23.0 (landing page) | Thomas Sherman | ERROR | |||||||||||||||||||||||||||||||||
1802/2233 | rWikiPathways 1.21.0 (landing page) | Egon Willighagen | OK | |||||||||||||||||||||||||||||||||
|
| |||||||||||||||||||||||||||||||||||
Package | Maintainer | INSTALL/BUILD/CHECK | ||||||||||||||||||||||||||||||||||
1803/2233 | S4Arrays 1.1.6 (landing page) | Hervé Pagès | OK | |||||||||||||||||||||||||||||||||
1804/2233 | S4Vectors 0.39.2 (landing page) | Hervé Pagès | WARNINGS | |||||||||||||||||||||||||||||||||
1805/2233 | safe 3.41.1 (landing page) | Ludwig Geistlinger | ERROR | |||||||||||||||||||||||||||||||||
1806/2233 | sagenhaft 1.71.0 (landing page) | Tim Beissbarth | WARNINGS | |||||||||||||||||||||||||||||||||
1807/2233 | SAIGEgds 2.1.2 (landing page) | Xiuwen Zheng | OK | |||||||||||||||||||||||||||||||||
1808/2233 | sampleClassifier 1.25.0 (landing page) | Khadija El Amrani | ERROR | |||||||||||||||||||||||||||||||||
1809/2233 | SamSPECTRAL 1.55.0 (landing page) | Habil | WARNINGS | |||||||||||||||||||||||||||||||||
1810/2233 | sangeranalyseR 1.11.0 (landing page) | Kuan-Hao Chao | WARNINGS | |||||||||||||||||||||||||||||||||
1811/2233 | sangerseqR 1.37.0 (landing page) | Jonathon Hill | OK | |||||||||||||||||||||||||||||||||
1812/2233 | SANTA 2.37.0 (landing page) | Alex Cornish | ERROR | |||||||||||||||||||||||||||||||||
1813/2233 | SARC 0.99.234 (landing page) | Krutik Patel | ERROR | |||||||||||||||||||||||||||||||||
1814/2233 | sarks 1.13.0 (landing page) | Dennis Wylie | OK | |||||||||||||||||||||||||||||||||
1815/2233 | satuRn 1.9.0 (landing page) | Jeroen Gilis | OK | |||||||||||||||||||||||||||||||||
1816/2233 | SBGNview 1.15.0 (landing page) | Weijun Luo | ERROR | |||||||||||||||||||||||||||||||||
1817/2233 | SBMLR 1.97.0 (landing page) | Tomas Radivoyevitch | ERROR | |||||||||||||||||||||||||||||||||
1818/2233 | SC3 1.29.3 (landing page) | Vladimir Kiselev | ERROR | |||||||||||||||||||||||||||||||||
1819/2233 | Scale4C 1.23.0 (landing page) | Carolin Walter | OK | |||||||||||||||||||||||||||||||||
1820/2233 | ScaledMatrix 1.9.1 (landing page) | Aaron Lun | ERROR | |||||||||||||||||||||||||||||||||
1821/2233 | SCAN.UPC 2.43.0 (landing page) | Stephen R. Piccolo | OK | |||||||||||||||||||||||||||||||||
1822/2233 | scanMiR 1.7.1 (landing page) | Pierre-Luc Germain | WARNINGS | |||||||||||||||||||||||||||||||||
1823/2233 | scanMiRApp 1.7.0 ( |