Back to Multiple platform build/check report for BioC 3.14
ABCDEFGHIJKL[M]NOPQRSTUVWXYZ

This page was generated on 2021-10-18 12:03:24 -0400 (Mon, 18 Oct 2021).

All results for package methylMnM

To the developers/maintainers of the methylMnM package:
- Please allow up to 24 hours (and sometimes 48 hours) for your latest push to git@git.bioconductor.org:packages/methylMnM.git to
reflect on this report. See How and When does the builder pull? When will my changes propagate? here for more information.
- Make sure to use the following settings in order to reproduce any error or warning you see on this page.

raw results

Package 1113/2060HostnameOS / ArchINSTALLBUILDCHECKBUILD BIN
methylMnM 1.31.0  (landing page)
Yan Zhou
Snapshot Date: 2021-10-17 14:50:03 -0400 (Sun, 17 Oct 2021)
git_url: https://git.bioconductor.org/packages/methylMnM
git_branch: master
git_last_commit: a2a4f3a
git_last_commit_date: 2021-05-19 12:01:17 -0400 (Wed, 19 May 2021)
nebbiolo2Linux (Ubuntu 20.04.2 LTS) / x86_64  OK    OK    OK  UNNEEDED, same version is already published
riesling1Windows Server 2019 Standard / x64  OK    OK    OK    OK  UNNEEDED, same version is already published
merida1macOS 10.14.6 Mojave / x86_64  OK    OK    OK    NA  

Results for Bioconductor software packages that depend directly on package methylMnM

QUICK STATSOS / ArchINSTALLBUILDCHECKBUILD BIN
nebbiolo2Linux (Ubuntu 20.04.2 LTS) / x86_64
001
001
0001
riesling1Windows Server 2019 Standard / x64
001
001
0001
001
merida1macOS 10.14.6 Mojave / x86_64
001
001
0001
000
Package 1/1HostnameOS / ArchINSTALLBUILDCHECKBUILD BIN
SIMD 1.11.0  (landing page)
Jiadi Zhu
git_last_commit: 3423147
git_last_commit_date: 2021-05-19 12:37:59 -0400
nebbiolo2Linux (Ubuntu 20.04.2 LTS) / x86_64  OK    OK    OK  UNNEEDED, same version is already published
riesling1Windows Server 2019 Standard / x64  OK    OK    OK    OK  UNNEEDED, same version is already published
merida1macOS 10.14.6 Mojave / x86_64  OK    OK    OK    NA