Back to Multiple platform build/check report for BioC 3.16
ABCDEFGHIJKLMNOPQR[S]TUVWXYZ

This page was generated on 2022-06-29 11:05:37 -0400 (Wed, 29 Jun 2022).

HostnameOSArch (*)R versionInstalled pkgs
nebbiolo2Linux (Ubuntu 20.04.4 LTS)x86_644.2.0 Patched (2022-06-02 r82447) -- "Vigorous Calisthenics" 4343
lconwaymacOS 12.2.1 Montereyx86_644.2.0 Patched (2022-05-29 r82424) -- "Vigorous Calisthenics" 4159
Click on any hostname to see more info about the system (e.g. compilers)      (*) as reported by 'uname -p', except on Windows and Mac OS X

CHECK results for ShortRead on lconway


To the developers/maintainers of the ShortRead package:
- Please allow up to 24 hours (and sometimes 48 hours) for your latest push to git@git.bioconductor.org:packages/ShortRead.git to
reflect on this report. See How and When does the builder pull? When will my changes propagate? for more information.
- Make sure to use the following settings in order to reproduce any error or warning you see on this page.

raw results

Package 1815/2124HostnameOS / ArchINSTALLBUILDCHECKBUILD BIN
ShortRead 1.55.0  (landing page)
Bioconductor Package Maintainer
Snapshot Date: 2022-06-28 14:00:02 -0400 (Tue, 28 Jun 2022)
git_url: https://git.bioconductor.org/packages/ShortRead
git_branch: master
git_last_commit: cca7724
git_last_commit_date: 2022-04-26 11:01:12 -0400 (Tue, 26 Apr 2022)
nebbiolo2Linux (Ubuntu 20.04.4 LTS) / x86_64  OK    OK    WARNINGS  UNNEEDED, same version is already published
lconwaymacOS 12.2.1 Monterey / x86_64  OK    OK    OK    OK  UNNEEDED, same version is already published

Summary

Package: ShortRead
Version: 1.55.0
Command: /Library/Frameworks/R.framework/Resources/bin/R CMD check --install=check:ShortRead.install-out.txt --library=/Library/Frameworks/R.framework/Resources/library --no-vignettes --timings ShortRead_1.55.0.tar.gz
StartedAt: 2022-06-28 23:10:57 -0400 (Tue, 28 Jun 2022)
EndedAt: 2022-06-28 23:15:26 -0400 (Tue, 28 Jun 2022)
EllapsedTime: 268.4 seconds
RetCode: 0
Status:   OK  
CheckDir: ShortRead.Rcheck
Warnings: 0

Command output

##############################################################################
##############################################################################
###
### Running command:
###
###   /Library/Frameworks/R.framework/Resources/bin/R CMD check --install=check:ShortRead.install-out.txt --library=/Library/Frameworks/R.framework/Resources/library --no-vignettes --timings ShortRead_1.55.0.tar.gz
###
##############################################################################
##############################################################################


* using log directory ‘/Users/biocbuild/bbs-3.16-bioc/meat/ShortRead.Rcheck’
* using R version 4.2.0 Patched (2022-05-29 r82424)
* using platform: x86_64-apple-darwin17.0 (64-bit)
* using session charset: UTF-8
* using option ‘--no-vignettes’
* checking for file ‘ShortRead/DESCRIPTION’ ... OK
* checking extension type ... Package
* this is package ‘ShortRead’ version ‘1.55.0’
* checking package namespace information ... OK
* checking package dependencies ... OK
* checking if this is a source package ... OK
* checking if there is a namespace ... OK
* checking for hidden files and directories ... OK
* checking for portable file names ... OK
* checking for sufficient/correct file permissions ... OK
* checking whether package ‘ShortRead’ can be installed ... OK
* checking installed package size ... NOTE
  installed size is  8.1Mb
  sub-directories of 1Mb or more:
    R         3.0Mb
    extdata   4.0Mb
* checking package directory ... OK
* checking ‘build’ directory ... OK
* checking DESCRIPTION meta-information ... OK
* checking top-level files ... OK
* checking for left-over files ... OK
* checking index information ... OK
* checking package subdirectories ... OK
* checking R files for non-ASCII characters ... OK
* checking R files for syntax errors ... OK
* checking whether the package can be loaded ... OK
* checking whether the package can be loaded with stated dependencies ... OK
* checking whether the package can be unloaded cleanly ... OK
* checking whether the namespace can be loaded with stated dependencies ... OK
* checking whether the namespace can be unloaded cleanly ... OK
* checking dependencies in R code ... NOTE
Unexported object imported by a ':::' call: ‘S4Vectors:::V_recycle’
  See the note in ?`:::` about the use of this operator.
* checking S3 generic/method consistency ... OK
* checking replacement functions ... OK
* checking foreign function calls ... OK
* checking R code for possible problems ... NOTE
.plotCycleBaseCall: no visible binding for global variable ‘Base’
flag,QAReadQuality: no visible binding for global variable ‘Score’
flag,QAReadQuality: no visible binding for global variable ‘Id’
flag,QAReadQuality: no visible binding for global variable ‘Density’
report,QAFrequentSequence: no visible binding for global variable
  ‘TopCount’
report,QAFrequentSequence: no visible binding for global variable ‘Id’
report,QANucleotideByCycle: no visible binding for global variable
  ‘Base’
report,QANucleotideUse: no visible binding for global variable
  ‘Nucleotide’
report,QAQualityUse: no visible binding for global variable ‘Count’
report,QAQualityUse: no visible binding for global variable ‘Id’
report,QAQualityUse: no visible binding for global variable ‘Quality’
report,QAReadQuality: no visible binding for global variable ‘Id’
report,QASequenceUse: no visible binding for global variable
  ‘Occurrences’
report,QASequenceUse: no visible binding for global variable ‘Id’
report,QASequenceUse: no visible binding for global variable ‘Reads’
Undefined global functions or variables:
  Base Count Density Id Nucleotide Occurrences Quality Reads Score
  TopCount
* checking Rd files ... OK
* checking Rd metadata ... OK
* checking Rd cross-references ... OK
* checking for missing documentation entries ... OK
* checking for code/documentation mismatches ... OK
* checking Rd \usage sections ... OK
* checking Rd contents ... OK
* checking for unstated dependencies in examples ... OK
* checking line endings in shell scripts ... OK
* checking line endings in C/C++/Fortran sources/headers ... OK
* checking line endings in Makefiles ... OK
* checking compilation flags in Makevars ... OK
* checking for GNU extensions in Makefiles ... OK
* checking for portable use of $(BLAS_LIBS) and $(LAPACK_LIBS) ... OK
* checking use of PKG_*FLAGS in Makefiles ... OK
* checking compiled code ... NOTE
Note: information on .o files is not available
* checking sizes of PDF files under ‘inst/doc’ ... OK
* checking files in ‘vignettes’ ... OK
* checking examples ... OK
Examples with CPU (user + system) or elapsed time > 5s
                user system elapsed
Snapshot-class 6.761  0.337    7.16
* checking for unstated dependencies in ‘tests’ ... OK
* checking tests ...
  Running ‘ShortRead_unit_tests.R’
 OK
* checking for unstated dependencies in vignettes ... OK
* checking package vignettes in ‘inst/doc’ ... OK
* checking running R code from vignettes ... SKIPPED
* checking re-building of vignette outputs ... SKIPPED
* checking PDF version of manual ... OK
* DONE

Status: 4 NOTEs
See
  ‘/Users/biocbuild/bbs-3.16-bioc/meat/ShortRead.Rcheck/00check.log’
for details.



Installation output

ShortRead.Rcheck/00install.out

##############################################################################
##############################################################################
###
### Running command:
###
###   /Library/Frameworks/R.framework/Resources/bin/R CMD INSTALL ShortRead
###
##############################################################################
##############################################################################


* installing to library ‘/Library/Frameworks/R.framework/Versions/4.2/Resources/library’
* installing *source* package ‘ShortRead’ ...
** using staged installation
checking for gcc... clang -mmacosx-version-min=10.13
checking whether the C compiler works... yes
checking for C compiler default output file name... a.out
checking for suffix of executables... 
checking whether we are cross compiling... no
checking for suffix of object files... o
checking whether we are using the GNU C compiler... yes
checking whether clang -mmacosx-version-min=10.13 accepts -g... yes
checking for clang -mmacosx-version-min=10.13 option to accept ISO C89... none needed
checking for gzeof in -lz... yes
checking how to run the C preprocessor... clang -mmacosx-version-min=10.13 -E
checking for grep that handles long lines and -e... /usr/bin/grep
checking for egrep... /usr/bin/grep -E
checking for ANSI C header files... yes
checking for sys/types.h... yes
checking for sys/stat.h... yes
checking for stdlib.h... yes
checking for string.h... yes
checking for memory.h... yes
checking for strings.h... yes
checking for inttypes.h... yes
checking for stdint.h... yes
checking for unistd.h... yes
checking size of unsigned long... 8
configure: creating ./config.status
config.status: creating src/Makevars
** libs
clang -mmacosx-version-min=10.13 -I"/Library/Frameworks/R.framework/Resources/include" -DNDEBUG  -I'/Library/Frameworks/R.framework/Versions/4.2/Resources/library/S4Vectors/include' -I'/Library/Frameworks/R.framework/Versions/4.2/Resources/library/IRanges/include' -I'/Library/Frameworks/R.framework/Versions/4.2/Resources/library/XVector/include' -I'/Library/Frameworks/R.framework/Versions/4.2/Resources/library/Biostrings/include' -I'/Library/Frameworks/R.framework/Versions/4.2/Resources/library/Rhtslib/include' -I'/Library/Frameworks/R.framework/Versions/4.2/Resources/library/zlibbioc/include' -I/usr/local/include   -fPIC  -Wall -g -O2  -c Biostrings_stubs.c -o Biostrings_stubs.o
clang -mmacosx-version-min=10.13 -I"/Library/Frameworks/R.framework/Resources/include" -DNDEBUG  -I'/Library/Frameworks/R.framework/Versions/4.2/Resources/library/S4Vectors/include' -I'/Library/Frameworks/R.framework/Versions/4.2/Resources/library/IRanges/include' -I'/Library/Frameworks/R.framework/Versions/4.2/Resources/library/XVector/include' -I'/Library/Frameworks/R.framework/Versions/4.2/Resources/library/Biostrings/include' -I'/Library/Frameworks/R.framework/Versions/4.2/Resources/library/Rhtslib/include' -I'/Library/Frameworks/R.framework/Versions/4.2/Resources/library/zlibbioc/include' -I/usr/local/include   -fPIC  -Wall -g -O2  -c IRanges_stubs.c -o IRanges_stubs.o
clang -mmacosx-version-min=10.13 -I"/Library/Frameworks/R.framework/Resources/include" -DNDEBUG  -I'/Library/Frameworks/R.framework/Versions/4.2/Resources/library/S4Vectors/include' -I'/Library/Frameworks/R.framework/Versions/4.2/Resources/library/IRanges/include' -I'/Library/Frameworks/R.framework/Versions/4.2/Resources/library/XVector/include' -I'/Library/Frameworks/R.framework/Versions/4.2/Resources/library/Biostrings/include' -I'/Library/Frameworks/R.framework/Versions/4.2/Resources/library/Rhtslib/include' -I'/Library/Frameworks/R.framework/Versions/4.2/Resources/library/zlibbioc/include' -I/usr/local/include   -fPIC  -Wall -g -O2  -c R_init_ShortRead.c -o R_init_ShortRead.o
clang -mmacosx-version-min=10.13 -I"/Library/Frameworks/R.framework/Resources/include" -DNDEBUG  -I'/Library/Frameworks/R.framework/Versions/4.2/Resources/library/S4Vectors/include' -I'/Library/Frameworks/R.framework/Versions/4.2/Resources/library/IRanges/include' -I'/Library/Frameworks/R.framework/Versions/4.2/Resources/library/XVector/include' -I'/Library/Frameworks/R.framework/Versions/4.2/Resources/library/Biostrings/include' -I'/Library/Frameworks/R.framework/Versions/4.2/Resources/library/Rhtslib/include' -I'/Library/Frameworks/R.framework/Versions/4.2/Resources/library/zlibbioc/include' -I/usr/local/include   -fPIC  -Wall -g -O2  -c S4Vectors_stubs.c -o S4Vectors_stubs.o
clang -mmacosx-version-min=10.13 -I"/Library/Frameworks/R.framework/Resources/include" -DNDEBUG  -I'/Library/Frameworks/R.framework/Versions/4.2/Resources/library/S4Vectors/include' -I'/Library/Frameworks/R.framework/Versions/4.2/Resources/library/IRanges/include' -I'/Library/Frameworks/R.framework/Versions/4.2/Resources/library/XVector/include' -I'/Library/Frameworks/R.framework/Versions/4.2/Resources/library/Biostrings/include' -I'/Library/Frameworks/R.framework/Versions/4.2/Resources/library/Rhtslib/include' -I'/Library/Frameworks/R.framework/Versions/4.2/Resources/library/zlibbioc/include' -I/usr/local/include   -fPIC  -Wall -g -O2  -c XVector_stubs.c -o XVector_stubs.o
clang -mmacosx-version-min=10.13 -I"/Library/Frameworks/R.framework/Resources/include" -DNDEBUG  -I'/Library/Frameworks/R.framework/Versions/4.2/Resources/library/S4Vectors/include' -I'/Library/Frameworks/R.framework/Versions/4.2/Resources/library/IRanges/include' -I'/Library/Frameworks/R.framework/Versions/4.2/Resources/library/XVector/include' -I'/Library/Frameworks/R.framework/Versions/4.2/Resources/library/Biostrings/include' -I'/Library/Frameworks/R.framework/Versions/4.2/Resources/library/Rhtslib/include' -I'/Library/Frameworks/R.framework/Versions/4.2/Resources/library/zlibbioc/include' -I/usr/local/include   -fPIC  -Wall -g -O2  -c alphabet.c -o alphabet.o
clang -mmacosx-version-min=10.13 -I"/Library/Frameworks/R.framework/Resources/include" -DNDEBUG  -I'/Library/Frameworks/R.framework/Versions/4.2/Resources/library/S4Vectors/include' -I'/Library/Frameworks/R.framework/Versions/4.2/Resources/library/IRanges/include' -I'/Library/Frameworks/R.framework/Versions/4.2/Resources/library/XVector/include' -I'/Library/Frameworks/R.framework/Versions/4.2/Resources/library/Biostrings/include' -I'/Library/Frameworks/R.framework/Versions/4.2/Resources/library/Rhtslib/include' -I'/Library/Frameworks/R.framework/Versions/4.2/Resources/library/zlibbioc/include' -I/usr/local/include   -fPIC  -Wall -g -O2  -c count.c -o count.o
clang -mmacosx-version-min=10.13 -I"/Library/Frameworks/R.framework/Resources/include" -DNDEBUG  -I'/Library/Frameworks/R.framework/Versions/4.2/Resources/library/S4Vectors/include' -I'/Library/Frameworks/R.framework/Versions/4.2/Resources/library/IRanges/include' -I'/Library/Frameworks/R.framework/Versions/4.2/Resources/library/XVector/include' -I'/Library/Frameworks/R.framework/Versions/4.2/Resources/library/Biostrings/include' -I'/Library/Frameworks/R.framework/Versions/4.2/Resources/library/Rhtslib/include' -I'/Library/Frameworks/R.framework/Versions/4.2/Resources/library/zlibbioc/include' -I/usr/local/include   -fPIC  -Wall -g -O2  -c io.c -o io.o
clang -mmacosx-version-min=10.13 -I"/Library/Frameworks/R.framework/Resources/include" -DNDEBUG  -I'/Library/Frameworks/R.framework/Versions/4.2/Resources/library/S4Vectors/include' -I'/Library/Frameworks/R.framework/Versions/4.2/Resources/library/IRanges/include' -I'/Library/Frameworks/R.framework/Versions/4.2/Resources/library/XVector/include' -I'/Library/Frameworks/R.framework/Versions/4.2/Resources/library/Biostrings/include' -I'/Library/Frameworks/R.framework/Versions/4.2/Resources/library/Rhtslib/include' -I'/Library/Frameworks/R.framework/Versions/4.2/Resources/library/zlibbioc/include' -I/usr/local/include   -fPIC  -Wall -g -O2  -c io_bowtie.c -o io_bowtie.o
clang -mmacosx-version-min=10.13 -I"/Library/Frameworks/R.framework/Resources/include" -DNDEBUG  -I'/Library/Frameworks/R.framework/Versions/4.2/Resources/library/S4Vectors/include' -I'/Library/Frameworks/R.framework/Versions/4.2/Resources/library/IRanges/include' -I'/Library/Frameworks/R.framework/Versions/4.2/Resources/library/XVector/include' -I'/Library/Frameworks/R.framework/Versions/4.2/Resources/library/Biostrings/include' -I'/Library/Frameworks/R.framework/Versions/4.2/Resources/library/Rhtslib/include' -I'/Library/Frameworks/R.framework/Versions/4.2/Resources/library/zlibbioc/include' -I/usr/local/include   -fPIC  -Wall -g -O2  -c io_soap.c -o io_soap.o
clang++ -mmacosx-version-min=10.13 -std=gnu++14 -I"/Library/Frameworks/R.framework/Resources/include" -DNDEBUG  -I'/Library/Frameworks/R.framework/Versions/4.2/Resources/library/S4Vectors/include' -I'/Library/Frameworks/R.framework/Versions/4.2/Resources/library/IRanges/include' -I'/Library/Frameworks/R.framework/Versions/4.2/Resources/library/XVector/include' -I'/Library/Frameworks/R.framework/Versions/4.2/Resources/library/Biostrings/include' -I'/Library/Frameworks/R.framework/Versions/4.2/Resources/library/Rhtslib/include' -I'/Library/Frameworks/R.framework/Versions/4.2/Resources/library/zlibbioc/include' -I/usr/local/include  -DPACKAGE_NAME=\"\" -DPACKAGE_TARNAME=\"\" -DPACKAGE_VERSION=\"\" -DPACKAGE_STRING=\"\" -DPACKAGE_BUGREPORT=\"\" -DPACKAGE_URL=\"\" -DHAVE_LIBZ=1 -DSTDC_HEADERS=1 -DHAVE_SYS_TYPES_H=1 -DHAVE_SYS_STAT_H=1 -DHAVE_STDLIB_H=1 -DHAVE_STRING_H=1 -DHAVE_MEMORY_H=1 -DHAVE_STRINGS_H=1 -DHAVE_INTTYPES_H=1 -DHAVE_STDINT_H=1 -DHAVE_UNISTD_H=1 -DSIZEOF_UNSIGNED_LONG=8 -fPIC  -Wall -g -O2  -c readBfaToc.cc -o readBfaToc.o
clang++ -mmacosx-version-min=10.13 -std=gnu++14 -I"/Library/Frameworks/R.framework/Resources/include" -DNDEBUG  -I'/Library/Frameworks/R.framework/Versions/4.2/Resources/library/S4Vectors/include' -I'/Library/Frameworks/R.framework/Versions/4.2/Resources/library/IRanges/include' -I'/Library/Frameworks/R.framework/Versions/4.2/Resources/library/XVector/include' -I'/Library/Frameworks/R.framework/Versions/4.2/Resources/library/Biostrings/include' -I'/Library/Frameworks/R.framework/Versions/4.2/Resources/library/Rhtslib/include' -I'/Library/Frameworks/R.framework/Versions/4.2/Resources/library/zlibbioc/include' -I/usr/local/include  -DPACKAGE_NAME=\"\" -DPACKAGE_TARNAME=\"\" -DPACKAGE_VERSION=\"\" -DPACKAGE_STRING=\"\" -DPACKAGE_BUGREPORT=\"\" -DPACKAGE_URL=\"\" -DHAVE_LIBZ=1 -DSTDC_HEADERS=1 -DHAVE_SYS_TYPES_H=1 -DHAVE_SYS_STAT_H=1 -DHAVE_STDLIB_H=1 -DHAVE_STRING_H=1 -DHAVE_MEMORY_H=1 -DHAVE_STRINGS_H=1 -DHAVE_INTTYPES_H=1 -DHAVE_STDINT_H=1 -DHAVE_UNISTD_H=1 -DSIZEOF_UNSIGNED_LONG=8 -fPIC  -Wall -g -O2  -c read_maq_map.cc -o read_maq_map.o
clang -mmacosx-version-min=10.13 -I"/Library/Frameworks/R.framework/Resources/include" -DNDEBUG  -I'/Library/Frameworks/R.framework/Versions/4.2/Resources/library/S4Vectors/include' -I'/Library/Frameworks/R.framework/Versions/4.2/Resources/library/IRanges/include' -I'/Library/Frameworks/R.framework/Versions/4.2/Resources/library/XVector/include' -I'/Library/Frameworks/R.framework/Versions/4.2/Resources/library/Biostrings/include' -I'/Library/Frameworks/R.framework/Versions/4.2/Resources/library/Rhtslib/include' -I'/Library/Frameworks/R.framework/Versions/4.2/Resources/library/zlibbioc/include' -I/usr/local/include   -fPIC  -Wall -g -O2  -c sampler.c -o sampler.o
clang -mmacosx-version-min=10.13 -I"/Library/Frameworks/R.framework/Resources/include" -DNDEBUG  -I'/Library/Frameworks/R.framework/Versions/4.2/Resources/library/S4Vectors/include' -I'/Library/Frameworks/R.framework/Versions/4.2/Resources/library/IRanges/include' -I'/Library/Frameworks/R.framework/Versions/4.2/Resources/library/XVector/include' -I'/Library/Frameworks/R.framework/Versions/4.2/Resources/library/Biostrings/include' -I'/Library/Frameworks/R.framework/Versions/4.2/Resources/library/Rhtslib/include' -I'/Library/Frameworks/R.framework/Versions/4.2/Resources/library/zlibbioc/include' -I/usr/local/include   -fPIC  -Wall -g -O2  -c trim.c -o trim.o
clang -mmacosx-version-min=10.13 -I"/Library/Frameworks/R.framework/Resources/include" -DNDEBUG  -I'/Library/Frameworks/R.framework/Versions/4.2/Resources/library/S4Vectors/include' -I'/Library/Frameworks/R.framework/Versions/4.2/Resources/library/IRanges/include' -I'/Library/Frameworks/R.framework/Versions/4.2/Resources/library/XVector/include' -I'/Library/Frameworks/R.framework/Versions/4.2/Resources/library/Biostrings/include' -I'/Library/Frameworks/R.framework/Versions/4.2/Resources/library/Rhtslib/include' -I'/Library/Frameworks/R.framework/Versions/4.2/Resources/library/zlibbioc/include' -I/usr/local/include   -fPIC  -Wall -g -O2  -c util.c -o util.o
clang -mmacosx-version-min=10.13 -I"/Library/Frameworks/R.framework/Resources/include" -DNDEBUG  -I'/Library/Frameworks/R.framework/Versions/4.2/Resources/library/S4Vectors/include' -I'/Library/Frameworks/R.framework/Versions/4.2/Resources/library/IRanges/include' -I'/Library/Frameworks/R.framework/Versions/4.2/Resources/library/XVector/include' -I'/Library/Frameworks/R.framework/Versions/4.2/Resources/library/Biostrings/include' -I'/Library/Frameworks/R.framework/Versions/4.2/Resources/library/Rhtslib/include' -I'/Library/Frameworks/R.framework/Versions/4.2/Resources/library/zlibbioc/include' -I/usr/local/include   -fPIC  -Wall -g -O2  -c xsnap.c -o xsnap.o
clang++ -mmacosx-version-min=10.13 -std=gnu++14 -dynamiclib -Wl,-headerpad_max_install_names -undefined dynamic_lookup -single_module -multiply_defined suppress -L/Library/Frameworks/R.framework/Resources/lib -L/usr/local/lib -o ShortRead.so Biostrings_stubs.o IRanges_stubs.o R_init_ShortRead.o S4Vectors_stubs.o XVector_stubs.o alphabet.o count.o io.o io_bowtie.o io_soap.o readBfaToc.o read_maq_map.o sampler.o trim.o util.o xsnap.o -lz -F/Library/Frameworks/R.framework/.. -framework R -Wl,-framework -Wl,CoreFoundation
installing to /Library/Frameworks/R.framework/Versions/4.2/Resources/library/00LOCK-ShortRead/00new/ShortRead/libs
** R
** inst
** byte-compile and prepare package for lazy loading
** help
*** installing help indices
** building package indices
** installing vignettes
** testing if installed package can be loaded from temporary location
** checking absolute paths in shared objects and dynamic libraries
** testing if installed package can be loaded from final location
** testing if installed package keeps a record of temporary installation path
* DONE (ShortRead)

Tests output

ShortRead.Rcheck/tests/ShortRead_unit_tests.Rout


R version 4.2.0 Patched (2022-05-29 r82424) -- "Vigorous Calisthenics"
Copyright (C) 2022 The R Foundation for Statistical Computing
Platform: x86_64-apple-darwin17.0 (64-bit)

R is free software and comes with ABSOLUTELY NO WARRANTY.
You are welcome to redistribute it under certain conditions.
Type 'license()' or 'licence()' for distribution details.

R is a collaborative project with many contributors.
Type 'contributors()' for more information and
'citation()' on how to cite R or R packages in publications.

Type 'demo()' for some demos, 'help()' for on-line help, or
'help.start()' for an HTML browser interface to help.
Type 'q()' to quit R.

> BiocGenerics:::testPackage("ShortRead")

Attaching package: 'BiocGenerics'

The following objects are masked from 'package:stats':

    IQR, mad, sd, var, xtabs

The following objects are masked from 'package:base':

    Filter, Find, Map, Position, Reduce, anyDuplicated, append,
    as.data.frame, basename, cbind, colnames, dirname, do.call,
    duplicated, eval, evalq, get, grep, grepl, intersect, is.unsorted,
    lapply, mapply, match, mget, order, paste, pmax, pmax.int, pmin,
    pmin.int, rank, rbind, rownames, sapply, setdiff, sort, table,
    tapply, union, unique, unsplit, which.max, which.min


Attaching package: 'S4Vectors'

The following objects are masked from 'package:base':

    I, expand.grid, unname


Attaching package: 'Biostrings'

The following object is masked from 'package:base':

    strsplit


Attaching package: 'MatrixGenerics'

The following objects are masked from 'package:matrixStats':

    colAlls, colAnyNAs, colAnys, colAvgsPerRowSet, colCollapse,
    colCounts, colCummaxs, colCummins, colCumprods, colCumsums,
    colDiffs, colIQRDiffs, colIQRs, colLogSumExps, colMadDiffs,
    colMads, colMaxs, colMeans2, colMedians, colMins, colOrderStats,
    colProds, colQuantiles, colRanges, colRanks, colSdDiffs, colSds,
    colSums2, colTabulates, colVarDiffs, colVars, colWeightedMads,
    colWeightedMeans, colWeightedMedians, colWeightedSds,
    colWeightedVars, rowAlls, rowAnyNAs, rowAnys, rowAvgsPerColSet,
    rowCollapse, rowCounts, rowCummaxs, rowCummins, rowCumprods,
    rowCumsums, rowDiffs, rowIQRDiffs, rowIQRs, rowLogSumExps,
    rowMadDiffs, rowMads, rowMaxs, rowMeans2, rowMedians, rowMins,
    rowOrderStats, rowProds, rowQuantiles, rowRanges, rowRanks,
    rowSdDiffs, rowSds, rowSums2, rowTabulates, rowVarDiffs, rowVars,
    rowWeightedMads, rowWeightedMeans, rowWeightedMedians,
    rowWeightedSds, rowWeightedVars

Welcome to Bioconductor

    Vignettes contain introductory material; view with
    'browseVignettes()'. To cite Bioconductor, see
    'citation("Biobase")', and for packages 'citation("pkgname")'.


Attaching package: 'Biobase'

The following object is masked from 'package:MatrixGenerics':

    rowMedians

The following objects are masked from 'package:matrixStats':

    anyMissing, rowMedians



RUNIT TEST PROTOCOL -- Tue Jun 28 23:15:12 2022 
*********************************************** 
Number of test functions: 106 
Number of errors: 0 
Number of failures: 0 

 
1 Test Suite : 
ShortRead RUnit Tests - 106 test functions, 0 errors, 0 failures
Number of test functions: 106 
Number of errors: 0 
Number of failures: 0 
Warning messages:
1: In for (i in seq_along(slots)) { :
  closing unused connection 6 (/Library/Frameworks/R.framework/Versions/4.2/Resources/library/ShortRead/extdata/Data/C1-36Firecrest/Bustard/GERALD/s_1_sequence.txt)
2: In for (i in seq_along(slots)) { :
  closing unused connection 5 (/Library/Frameworks/R.framework/Versions/4.2/Resources/library/ShortRead/extdata/Data/C1-36Firecrest/Bustard/GERALD/s_1_sequence.txt)
> 
> proc.time()
   user  system elapsed 
 25.252   9.339  33.775 

Example timings

ShortRead.Rcheck/ShortRead-Ex.timings

nameusersystemelapsed
AlignedRead-class0.3060.0260.333
BowtieQA-class0.0010.0000.001
ExperimentPath-class000
FastqQA-class0.0000.0010.001
Intensity-class0.1360.0090.149
MAQMapQA-class0.0010.0000.001
QA-class0.0010.0010.000
QualityScore-class0.0100.0010.011
QualityScore0.0040.0000.005
RochePath-class000
RocheSet-class0.0000.0010.001
RtaIntensity-class0.0410.0010.042
RtaIntensity0.0270.0010.028
SRFilter-class0.0000.0010.001
SRFilterResult-class0.0490.0020.049
SRSet-class0.0010.0000.001
SRUtil-class0.0030.0000.004
Sampler-class1.2790.3481.636
ShortRead-class0.0460.0020.048
ShortReadQ-class0.3530.1600.520
Snapshot-class6.7610.3377.160
SnapshotFunction-class0.0010.0000.001
SolexaExportQA-class0.0000.0010.000
SolexaIntensity-class0.1160.0030.119
SolexaPath-class0.1510.1020.253
SolexaSet-class0.0590.0020.061
SpTrellis-class0.3640.0140.383
accessors0.0010.0010.002
alphabetByCycle0.1010.0980.201
clean0.0010.0000.002
countLines0.0860.0090.098
dotQA-class0.0000.0010.001
dustyScore0.2560.0970.355
filterFastq0.9850.0171.006
polyn0.0010.0000.001
qa0.4780.0250.506
qa23.2710.1613.461
readAligned0.3930.2500.646
readBaseQuality1.9330.2792.224
readFasta0.2590.2240.484
readFastq0.2810.1920.474
readIntensities0.0500.0120.062
readPrb0.0860.1680.237
readQseq0.1580.1800.339
readXStringColumns0.2640.2480.513
renew0.0990.0820.184
report0.0030.0010.004
spViewPerFeature2.4390.2972.745
srFilter0.3710.1390.513
srdistance0.4150.6300.975
srduplicated0.2810.2960.585
tables0.1720.0870.261
trimTails0.1130.0940.208