Back to Multiple platform build/check report for BioC 3.18: simplified long |
|
This page was generated on 2023-06-13 11:26:44 -0400 (Tue, 13 Jun 2023).
Hostname | OS | Arch (*) | R version | Installed pkgs |
---|---|---|---|---|
nebbiolo2 | Linux (Ubuntu 22.04.2 LTS) | x86_64 | 4.3.0 RC (2023-04-18 r84287) -- "Already Tomorrow" | 4598 |
palomino4 | Windows Server 2022 Datacenter | x64 | 4.3.0 RC (2023-04-18 r84287 ucrt) -- "Already Tomorrow" | 4347 |
lconway | macOS 12.6.5 Monterey | x86_64 | 4.3.0 RC (2023-04-13 r84266) -- "Already Tomorrow" | 4354 |
kunpeng2 | Linux (openEuler 22.03 LTS-SP1) | aarch64 | 4.3.0 (2023-04-21) -- "Already Tomorrow" | 4379 |
Click on any hostname to see more info about the system (e.g. compilers) (*) as reported by 'uname -p', except on Windows and Mac OS X |
Package 825/2199 | Hostname | OS / Arch | INSTALL | BUILD | CHECK | BUILD BIN | ||||||||
ggspavis 1.7.0 (landing page) Lukas M. Weber
| nebbiolo2 | Linux (Ubuntu 22.04.2 LTS) / x86_64 | OK | OK | OK | ![]() | ||||||||
palomino4 | Windows Server 2022 Datacenter / x64 | OK | ERROR | skipped | skipped | |||||||||
lconway | macOS 12.6.5 Monterey / x86_64 | OK | OK | OK | ERROR | |||||||||
kunpeng2 | Linux (openEuler 22.03 LTS-SP1) / aarch64 | OK | TIMEOUT | skipped | ||||||||||
The builds on kunpeng2 (Linux ARM64) are experimental! |
To the developers/maintainers of the ggspavis package: - Allow up to 24 hours (and sometimes 48 hours) for your latest push to git@git.bioconductor.org:packages/ggspavis.git to reflect on this report. See Troubleshooting Build Report for more information. - Use the following Renviron settings to reproduce errors and warnings. - If 'R CMD check' started to fail recently on the Linux builder(s) over a missing dependency, add the missing dependency to 'Suggests:' in your DESCRIPTION file. See Renviron.bioc for more information. |
Package: ggspavis |
Version: 1.7.0 |
Command: rm -rf ggspavis.buildbin-libdir && mkdir ggspavis.buildbin-libdir && /Users/biocbuild/BBS/utils/build-universal.sh ggspavis_1.7.0.tar.gz /Library/Frameworks/R.framework/Resources/bin/R ggspavis.buildbin-libdir |
StartedAt: 2023-06-13 00:16:42 -0400 (Tue, 13 Jun 2023) |
EndedAt: 2023-06-13 00:17:26 -0400 (Tue, 13 Jun 2023) |
EllapsedTime: 44.4 seconds |
RetCode: 0 |
Status: ERROR |
PackageFile: None |
PackageFileSize: NA |
############################################################################## ############################################################################## ### ### Running command: ### ### rm -rf ggspavis.buildbin-libdir && mkdir ggspavis.buildbin-libdir && /Users/biocbuild/BBS/utils/build-universal.sh ggspavis_1.7.0.tar.gz /Library/Frameworks/R.framework/Resources/bin/R ggspavis.buildbin-libdir ### ############################################################################## ############################################################################## >>>>>>> >>>>>>> INSTALLATION WITH 'R CMD INSTALL --preclean --no-multiarch --library=ggspavis.buildbin-libdir ggspavis_1.7.0.tar.gz' >>>>>>> * installing *source* package ‘ggspavis’ ... ** using staged installation ** R ** inst ** byte-compile and prepare package for lazy loading ** help *** installing help indices ** building package indices ** installing vignettes ** testing if installed package can be loaded from temporary location ** testing if installed package can be loaded from final location ** testing if installed package keeps a record of temporary installation path * DONE (ggspavis)