Back to Multiple platform build/check report for BioC 3.18:   simplified   long
ABCDEFGHIJKLMNOP[Q]RSTUVWXYZ

This page was generated on 2023-10-03 11:35:48 -0400 (Tue, 03 Oct 2023).

HostnameOSArch (*)R versionInstalled pkgs
nebbiolo2Linux (Ubuntu 22.04.2 LTS)x86_644.3.1 (2023-06-16) -- "Beagle Scouts" 4669
palomino4Windows Server 2022 Datacenterx644.3.1 (2023-06-16 ucrt) -- "Beagle Scouts" 4405
lconwaymacOS 12.6.5 Montereyx86_644.3.1 Patched (2023-06-17 r84564) -- "Beagle Scouts" 4424
kunpeng2Linux (openEuler 22.03 LTS-SP1)aarch644.3.1 (2023-06-16) -- "Beagle Scouts" 4410
Click on any hostname to see more info about the system (e.g. compilers)      (*) as reported by 'uname -p', except on Windows and Mac OS X

All results for package QFeatures


To the developers/maintainers of the QFeatures package:
- Allow up to 24 hours (and sometimes 48 hours) for your latest push to git@git.bioconductor.org:packages/QFeatures.git to reflect on this report. See Troubleshooting Build Report for more information.
- Use the following Renviron settings to reproduce errors and warnings.
- If 'R CMD check' started to fail recently on the Linux builder(s) over a missing dependency, add the missing dependency to 'Suggests:' in your DESCRIPTION file. See Renviron.bioc for more information.

raw results

Package 1606/2239HostnameOS / ArchINSTALLBUILDCHECKBUILD BIN
QFeatures 1.11.2  (landing page)
Laurent Gatto
Snapshot Date: 2023-10-02 14:05:08 -0400 (Mon, 02 Oct 2023)
git_url: https://git.bioconductor.org/packages/QFeatures
git_branch: devel
git_last_commit: 5a9ad34
git_last_commit_date: 2023-08-25 09:31:57 -0400 (Fri, 25 Aug 2023)
nebbiolo2Linux (Ubuntu 22.04.2 LTS) / x86_64  OK    OK    OK  UNNEEDED, same version is already published
palomino4Windows Server 2022 Datacenter / x64  OK    OK    OK    OK  UNNEEDED, same version is already published
lconwaymacOS 12.6.5 Monterey / x86_64  OK    OK    OK    OK  UNNEEDED, same version is already published
kunpeng2Linux (openEuler 22.03 LTS-SP1) / aarch64  OK    OK    OK  

Results for Bioconductor software packages that depend directly on package QFeatures

QUICK STATSOS / ArchINSTALLBUILDCHECKBUILD BIN
nebbiolo2Linux (Ubuntu 22.04.2 LTS) / x86_64
005
005
0005
palomino4Windows Server 2022 Datacenter / x64
005
005
0005
005
lconwaymacOS 12.6.5 Monterey / x86_64
005
005
0005
005
kunpeng2Linux (openEuler 22.03 LTS-SP1) / aarch64
005
005
0005
Package 1/5HostnameOS / ArchINSTALLBUILDCHECKBUILD BIN
MetaboAnnotation 1.5.5  (landing page)
Johannes Rainer
git_last_commit: 3f06dac
git_last_commit_date: 2023-09-28 02:20:19 -0400
nebbiolo2Linux (Ubuntu 22.04.2 LTS) / x86_64  OK    OK    OK  UNNEEDED, same version is already published
palomino4Windows Server 2022 Datacenter / x64  OK    OK    OK    OK  UNNEEDED, same version is already published
lconwaymacOS 12.6.5 Monterey / x86_64  OK    OK    OK    OK  UNNEEDED, same version is already published
kunpeng2Linux (openEuler 22.03 LTS-SP1) / aarch64  OK    OK    OK  
Package 2/5HostnameOS / ArchINSTALLBUILDCHECKBUILD BIN
MsExperiment 1.3.0  (landing page)
Laurent Gatto
git_last_commit: 1ee184a
git_last_commit_date: 2023-04-25 11:40:15 -0400
nebbiolo2Linux (Ubuntu 22.04.2 LTS) / x86_64  OK    OK    OK  UNNEEDED, same version is already published
palomino4Windows Server 2022 Datacenter / x64  OK    OK    OK    OK  UNNEEDED, same version is already published
lconwaymacOS 12.6.5 Monterey / x86_64  OK    OK    OK    OK  UNNEEDED, same version is already published
kunpeng2Linux (openEuler 22.03 LTS-SP1) / aarch64  OK    OK    OK  
Package 3/5HostnameOS / ArchINSTALLBUILDCHECKBUILD BIN
msqrob2 1.9.0  (landing page)
Lieven Clement
git_last_commit: ce8b4f9
git_last_commit_date: 2023-04-25 11:30:03 -0400
nebbiolo2Linux (Ubuntu 22.04.2 LTS) / x86_64  OK    OK    OK  UNNEEDED, same version is already published
palomino4Windows Server 2022 Datacenter / x64  OK    OK    OK    OK  UNNEEDED, same version is already published
lconwaymacOS 12.6.5 Monterey / x86_64  OK    OK    OK    OK  UNNEEDED, same version is already published
kunpeng2Linux (openEuler 22.03 LTS-SP1) / aarch64  OK    OK    OK  
Package 4/5HostnameOS / ArchINSTALLBUILDCHECKBUILD BIN
PSMatch 1.5.0  (landing page)
Laurent Gatto
git_last_commit: 1e7f67c
git_last_commit_date: 2023-04-25 11:36:33 -0400
nebbiolo2Linux (Ubuntu 22.04.2 LTS) / x86_64  OK    OK    OK  UNNEEDED, same version is already published
palomino4Windows Server 2022 Datacenter / x64  OK    OK    OK    OK  UNNEEDED, same version is already published
lconwaymacOS 12.6.5 Monterey / x86_64  OK    OK    OK    OK  UNNEEDED, same version is already published
kunpeng2Linux (openEuler 22.03 LTS-SP1) / aarch64  OK    OK    OK  
Package 5/5HostnameOS / ArchINSTALLBUILDCHECKBUILD BIN
scp 1.11.2  (landing page)
Christophe Vanderaa
git_last_commit: 7dc7a16
git_last_commit_date: 2023-06-13 13:18:01 -0400
nebbiolo2Linux (Ubuntu 22.04.2 LTS) / x86_64  OK    OK    OK  UNNEEDED, same version is already published
palomino4Windows Server 2022 Datacenter / x64  OK    OK    OK    OK  UNNEEDED, same version is already published
lconwaymacOS 12.6.5 Monterey / x86_64  OK    OK    OK    OK  UNNEEDED, same version is already published
kunpeng2Linux (openEuler 22.03 LTS-SP1) / aarch64  OK    OK    OK