Back to Multiple platform build/check report for BioC 3.16
ABC[D]EFGHIJKLMNOPQRSTUVWXYZ

This page was generated on 2022-07-01 11:04:53 -0400 (Fri, 01 Jul 2022).

HostnameOSArch (*)R versionInstalled pkgs
nebbiolo2Linux (Ubuntu 20.04.4 LTS)x86_644.2.0 Patched (2022-06-02 r82447) -- "Vigorous Calisthenics" 4343
palomino4Windows Server 2022 Datacenterx644.2.0 Patched (2022-06-02 r82447 ucrt) -- "Vigorous Calisthenics" 4147
lconwaymacOS 12.2.1 Montereyx86_644.2.0 Patched (2022-05-29 r82424) -- "Vigorous Calisthenics" 4159
Click on any hostname to see more info about the system (e.g. compilers)      (*) as reported by 'uname -p', except on Windows and Mac OS X

CHECK results for distinct on nebbiolo2


To the developers/maintainers of the distinct package:
- Please allow up to 24 hours (and sometimes 48 hours) for your latest push to git@git.bioconductor.org:packages/distinct.git to
reflect on this report. See How and When does the builder pull? When will my changes propagate? for more information.
- Make sure to use the following settings in order to reproduce any error or warning you see on this page.

raw results

Package 534/2124HostnameOS / ArchINSTALLBUILDCHECKBUILD BIN
distinct 1.9.0  (landing page)
Simone Tiberi
Snapshot Date: 2022-06-30 14:00:04 -0400 (Thu, 30 Jun 2022)
git_url: https://git.bioconductor.org/packages/distinct
git_branch: master
git_last_commit: f048022
git_last_commit_date: 2022-04-26 12:04:11 -0400 (Tue, 26 Apr 2022)
nebbiolo2Linux (Ubuntu 20.04.4 LTS) / x86_64  OK    OK    OK  UNNEEDED, same version is already published
palomino4Windows Server 2022 Datacenter / x64  OK    OK    OK    OK  UNNEEDED, same version is already published
lconwaymacOS 12.2.1 Monterey / x86_64  OK    OK    OK    OK  UNNEEDED, same version is already published

Summary

Package: distinct
Version: 1.9.0
Command: /home/biocbuild/bbs-3.16-bioc/R/bin/R CMD check --install=check:distinct.install-out.txt --library=/home/biocbuild/bbs-3.16-bioc/R/library --no-vignettes --timings distinct_1.9.0.tar.gz
StartedAt: 2022-06-30 19:35:45 -0400 (Thu, 30 Jun 2022)
EndedAt: 2022-06-30 19:41:09 -0400 (Thu, 30 Jun 2022)
EllapsedTime: 324.4 seconds
RetCode: 0
Status:   OK  
CheckDir: distinct.Rcheck
Warnings: 0

Command output

##############################################################################
##############################################################################
###
### Running command:
###
###   /home/biocbuild/bbs-3.16-bioc/R/bin/R CMD check --install=check:distinct.install-out.txt --library=/home/biocbuild/bbs-3.16-bioc/R/library --no-vignettes --timings distinct_1.9.0.tar.gz
###
##############################################################################
##############################################################################


* using log directory ‘/home/biocbuild/bbs-3.16-bioc/meat/distinct.Rcheck’
* using R version 4.2.0 Patched (2022-06-02 r82447)
* using platform: x86_64-pc-linux-gnu (64-bit)
* using session charset: UTF-8
* using option ‘--no-vignettes’
* checking for file ‘distinct/DESCRIPTION’ ... OK
* checking extension type ... Package
* this is package ‘distinct’ version ‘1.9.0’
* checking package namespace information ... OK
* checking package dependencies ... OK
* checking if this is a source package ... OK
* checking if there is a namespace ... OK
* checking for hidden files and directories ... OK
* checking for portable file names ... OK
* checking for sufficient/correct file permissions ... OK
* checking whether package ‘distinct’ can be installed ... OK
* checking installed package size ... NOTE
  installed size is 10.8Mb
  sub-directories of 1Mb or more:
    data   1.0Mb
    libs   9.5Mb
* checking package directory ... OK
* checking ‘build’ directory ... OK
* checking DESCRIPTION meta-information ... OK
* checking top-level files ... OK
* checking for left-over files ... OK
* checking index information ... OK
* checking package subdirectories ... OK
* checking R files for non-ASCII characters ... OK
* checking R files for syntax errors ... OK
* checking whether the package can be loaded ... OK
* checking whether the package can be loaded with stated dependencies ... OK
* checking whether the package can be unloaded cleanly ... OK
* checking whether the namespace can be loaded with stated dependencies ... OK
* checking whether the namespace can be unloaded cleanly ... OK
* checking dependencies in R code ... NOTE
Namespace in Imports field not imported from: ‘Rfast’
  All declared Imports should be used.
* checking S3 generic/method consistency ... OK
* checking replacement functions ... OK
* checking foreign function calls ... OK
* checking R code for possible problems ... NOTE
perm_test_parallel_R: no visible binding for global variable ‘cl_id’
perm_test_parallel_covariates_R: no visible binding for global variable
  ‘cl_id’
plot_cdfs: no visible binding for global variable ‘group’
plot_densities: no visible binding for global variable ‘group’
Undefined global functions or variables:
  cl_id group
* checking Rd files ... OK
* checking Rd metadata ... OK
* checking Rd cross-references ... OK
* checking for missing documentation entries ... OK
* checking for code/documentation mismatches ... OK
* checking Rd \usage sections ... OK
* checking Rd contents ... OK
* checking for unstated dependencies in examples ... OK
* checking contents of ‘data’ directory ... OK
* checking data for non-ASCII characters ... OK
* checking data for ASCII and uncompressed saves ... OK
* checking line endings in C/C++/Fortran sources/headers ... OK
* checking line endings in Makefiles ... OK
* checking compilation flags in Makevars ... OK
* checking for GNU extensions in Makefiles ... OK
* checking for portable use of $(BLAS_LIBS) and $(LAPACK_LIBS) ... OK
* checking use of PKG_*FLAGS in Makefiles ... OK
* checking compiled code ... NOTE
Note: information on .o files is not available
* checking files in ‘vignettes’ ... OK
* checking examples ... OK
Examples with CPU (user + system) or elapsed time > 5s
               user system elapsed
distinct_test 1.466  0.079  68.057
* checking for unstated dependencies in ‘tests’ ... OK
* checking tests ...
  Running ‘testthat.R’
 OK
* checking for unstated dependencies in vignettes ... OK
* checking package vignettes in ‘inst/doc’ ... OK
* checking running R code from vignettes ... SKIPPED
* checking re-building of vignette outputs ... SKIPPED
* checking PDF version of manual ... OK
* DONE

Status: 4 NOTEs
See
  ‘/home/biocbuild/bbs-3.16-bioc/meat/distinct.Rcheck/00check.log’
for details.



Installation output

distinct.Rcheck/00install.out

##############################################################################
##############################################################################
###
### Running command:
###
###   /home/biocbuild/bbs-3.16-bioc/R/bin/R CMD INSTALL distinct
###
##############################################################################
##############################################################################


* installing to library ‘/home/biocbuild/bbs-3.16-bioc/R/library’
* installing *source* package ‘distinct’ ...
** using staged installation
** libs
g++ -std=gnu++11 -I"/home/biocbuild/bbs-3.16-bioc/R/include" -DNDEBUG  -I'/home/biocbuild/bbs-3.16-bioc/R/library/Rcpp/include' -I'/home/biocbuild/bbs-3.16-bioc/R/library/RcppArmadillo/include' -I'/home/biocbuild/bbs-3.16-bioc/R/library/Rfast/include' -I/usr/local/include   -fpic  -g -O2  -Wall -c Perm.cpp -o Perm.o
g++ -std=gnu++11 -I"/home/biocbuild/bbs-3.16-bioc/R/include" -DNDEBUG  -I'/home/biocbuild/bbs-3.16-bioc/R/library/Rcpp/include' -I'/home/biocbuild/bbs-3.16-bioc/R/library/RcppArmadillo/include' -I'/home/biocbuild/bbs-3.16-bioc/R/library/Rfast/include' -I/usr/local/include   -fpic  -g -O2  -Wall -c Perm_covariates.cpp -o Perm_covariates.o
In file included from /home/biocbuild/bbs-3.16-bioc/R/library/Rfast/include/Rfast.h:5,
                 from Perm_covariates.cpp:2:
/home/biocbuild/bbs-3.16-bioc/R/library/Rfast/include/Rfast/matrix.hpp:553: warning: ignoring #pragma omp parallel [-Wunknown-pragmas]
  553 |     #pragma omp parallel for
      | 
/home/biocbuild/bbs-3.16-bioc/R/library/Rfast/include/Rfast/matrix.hpp:604: warning: ignoring #pragma omp parallel [-Wunknown-pragmas]
  604 |     #pragma omp parallel for
      | 
/home/biocbuild/bbs-3.16-bioc/R/library/Rfast/include/Rfast/matrix.hpp:621: warning: ignoring #pragma omp parallel [-Wunknown-pragmas]
  621 |       #pragma omp parallel for
      | 
/home/biocbuild/bbs-3.16-bioc/R/library/Rfast/include/Rfast/matrix.hpp:639: warning: ignoring #pragma omp parallel [-Wunknown-pragmas]
  639 |           #pragma omp parallel for
      | 
/home/biocbuild/bbs-3.16-bioc/R/library/Rfast/include/Rfast/matrix.hpp:654: warning: ignoring #pragma omp parallel [-Wunknown-pragmas]
  654 |       #pragma omp parallel for
      | 
/home/biocbuild/bbs-3.16-bioc/R/library/Rfast/include/Rfast/matrix.hpp:669: warning: ignoring #pragma omp parallel [-Wunknown-pragmas]
  669 |           #pragma omp parallel for
      | 
Perm_covariates.cpp: In function ‘arma::vec my_rint_reg(const mat&, const vec&, Rcpp::IntegerVector, const unsigned int&, const unsigned int&, const double&, const unsigned int&)’:
Perm_covariates.cpp:189:16: warning: comparison of integer expressions of different signedness: ‘int’ and ‘const unsigned int’ [-Wsign-compare]
  189 |   for(int i=0;i<p;i++)
      |               ~^~
Perm_covariates.cpp:210:12: warning: comparison of integer expressions of different signedness: ‘int’ and ‘const unsigned int’ [-Wsign-compare]
  210 |   while(i++<maxiters && sum(abs(b2-b1.col(0))) > tol) {
      |         ~~~^~~~~~~~~
g++ -std=gnu++11 -I"/home/biocbuild/bbs-3.16-bioc/R/include" -DNDEBUG  -I'/home/biocbuild/bbs-3.16-bioc/R/library/Rcpp/include' -I'/home/biocbuild/bbs-3.16-bioc/R/library/RcppArmadillo/include' -I'/home/biocbuild/bbs-3.16-bioc/R/library/Rfast/include' -I/usr/local/include   -fpic  -g -O2  -Wall -c Perm_covariates_parallel.cpp -o Perm_covariates_parallel.o
In file included from /home/biocbuild/bbs-3.16-bioc/R/library/Rfast/include/Rfast.h:5,
                 from Perm_covariates_parallel.cpp:2:
/home/biocbuild/bbs-3.16-bioc/R/library/Rfast/include/Rfast/matrix.hpp:553: warning: ignoring #pragma omp parallel [-Wunknown-pragmas]
  553 |     #pragma omp parallel for
      | 
/home/biocbuild/bbs-3.16-bioc/R/library/Rfast/include/Rfast/matrix.hpp:604: warning: ignoring #pragma omp parallel [-Wunknown-pragmas]
  604 |     #pragma omp parallel for
      | 
/home/biocbuild/bbs-3.16-bioc/R/library/Rfast/include/Rfast/matrix.hpp:621: warning: ignoring #pragma omp parallel [-Wunknown-pragmas]
  621 |       #pragma omp parallel for
      | 
/home/biocbuild/bbs-3.16-bioc/R/library/Rfast/include/Rfast/matrix.hpp:639: warning: ignoring #pragma omp parallel [-Wunknown-pragmas]
  639 |           #pragma omp parallel for
      | 
/home/biocbuild/bbs-3.16-bioc/R/library/Rfast/include/Rfast/matrix.hpp:654: warning: ignoring #pragma omp parallel [-Wunknown-pragmas]
  654 |       #pragma omp parallel for
      | 
/home/biocbuild/bbs-3.16-bioc/R/library/Rfast/include/Rfast/matrix.hpp:669: warning: ignoring #pragma omp parallel [-Wunknown-pragmas]
  669 |           #pragma omp parallel for
      | 
Perm_covariates_parallel.cpp: In function ‘arma::vec my_rint_reg_parallel(const mat&, const vec&, Rcpp::IntegerVector, const unsigned int&, const unsigned int&, const double&, const unsigned int&)’:
Perm_covariates_parallel.cpp:189:16: warning: comparison of integer expressions of different signedness: ‘int’ and ‘const unsigned int’ [-Wsign-compare]
  189 |   for(int i=0;i<p;i++)
      |               ~^~
Perm_covariates_parallel.cpp:210:12: warning: comparison of integer expressions of different signedness: ‘int’ and ‘const unsigned int’ [-Wsign-compare]
  210 |   while(i++<maxiters && sum(abs(b2-b1.col(0))) > tol) {
      |         ~~~^~~~~~~~~
g++ -std=gnu++11 -I"/home/biocbuild/bbs-3.16-bioc/R/include" -DNDEBUG  -I'/home/biocbuild/bbs-3.16-bioc/R/library/Rcpp/include' -I'/home/biocbuild/bbs-3.16-bioc/R/library/RcppArmadillo/include' -I'/home/biocbuild/bbs-3.16-bioc/R/library/Rfast/include' -I/usr/local/include   -fpic  -g -O2  -Wall -c Perm_parallel.cpp -o Perm_parallel.o
g++ -std=gnu++11 -I"/home/biocbuild/bbs-3.16-bioc/R/include" -DNDEBUG  -I'/home/biocbuild/bbs-3.16-bioc/R/library/Rcpp/include' -I'/home/biocbuild/bbs-3.16-bioc/R/library/RcppArmadillo/include' -I'/home/biocbuild/bbs-3.16-bioc/R/library/Rfast/include' -I/usr/local/include   -fpic  -g -O2  -Wall -c RcppExports.cpp -o RcppExports.o
g++ -std=gnu++11 -shared -L/home/biocbuild/bbs-3.16-bioc/R/lib -L/usr/local/lib -o distinct.so Perm.o Perm_covariates.o Perm_covariates_parallel.o Perm_parallel.o RcppExports.o -L/home/biocbuild/bbs-3.16-bioc/R/lib -lRlapack -L/home/biocbuild/bbs-3.16-bioc/R/lib -lRblas -lgfortran -lm -lquadmath -L/home/biocbuild/bbs-3.16-bioc/R/lib -lR
installing to /home/biocbuild/bbs-3.16-bioc/R/library/00LOCK-distinct/00new/distinct/libs
** R
** data
** inst
** byte-compile and prepare package for lazy loading
** help
*** installing help indices
** building package indices
** installing vignettes
** testing if installed package can be loaded from temporary location
** checking absolute paths in shared objects and dynamic libraries
** testing if installed package can be loaded from final location
** testing if installed package keeps a record of temporary installation path
* DONE (distinct)

Tests output

distinct.Rcheck/tests/testthat.Rout


R version 4.2.0 Patched (2022-06-02 r82447) -- "Vigorous Calisthenics"
Copyright (C) 2022 The R Foundation for Statistical Computing
Platform: x86_64-pc-linux-gnu (64-bit)

R is free software and comes with ABSOLUTELY NO WARRANTY.
You are welcome to redistribute it under certain conditions.
Type 'license()' or 'licence()' for distribution details.

R is a collaborative project with many contributors.
Type 'contributors()' for more information and
'citation()' on how to cite R or R packages in publications.

Type 'demo()' for some demos, 'help()' for on-line help, or
'help.start()' for an HTML browser interface to help.
Type 'q()' to quit R.

> library(testthat)
> library(distinct)
> test_check("distinct")
[ FAIL 0 | WARN 0 | SKIP 0 | PASS 8 ]
> 
> proc.time()
   user  system elapsed 
 10.129   0.437  77.245 

Example timings

distinct.Rcheck/distinct-Ex.timings

nameusersystemelapsed
Kang_subset000
distinct_test 1.466 0.07968.057
log2_FC0.2240.0040.228
plot_cdfs1.2100.0681.278
plot_densities0.5610.0280.589
res000
top_results0.2210.0170.237