Back to Multiple platform build/check report for BioC 3.14
ABCDEFGHIJ[K]LMNOPQRSTUVWXYZ

This page was generated on 2021-10-22 12:03:41 -0400 (Fri, 22 Oct 2021).

All results for package KnowSeq

To the developers/maintainers of the KnowSeq package:
- Please allow up to 24 hours (and sometimes 48 hours) for your latest push to git@git.bioconductor.org:packages/KnowSeq.git to
reflect on this report. See How and When does the builder pull? When will my changes propagate? here for more information.
- Make sure to use the following settings in order to reproduce any error or warning you see on this page.

raw results

Package 982/2075HostnameOS / ArchINSTALLBUILDCHECKBUILD BIN
KnowSeq 1.7.3  (landing page)
Daniel Castillo-Secilla
Snapshot Date: 2021-10-21 14:50:08 -0400 (Thu, 21 Oct 2021)
git_url: https://git.bioconductor.org/packages/KnowSeq
git_branch: master
git_last_commit: 6fcdd68
git_last_commit_date: 2021-10-09 08:02:34 -0400 (Sat, 09 Oct 2021)
nebbiolo2Linux (Ubuntu 20.04.2 LTS) / x86_64  OK    OK    OK  UNNEEDED, same version is already published
riesling1Windows Server 2019 Standard / x64  OK    OK    OK    OK  UNNEEDED, same version is already published
merida1macOS 10.14.6 Mojave / x86_64  OK    OK    OK    NA