Back to Build/check report for BioC 3.13
ABCDEFGHIJKLMNOPQRSTUVWXY[Z]

Build/check report for BioC 3.13

Results for zinbwave

This page was generated on 2020-10-30 10:53:28 -0400 (Fri, 30 Oct 2020).

Package 1905/1906HostnameOS / ArchINSTALLBUILDCHECKBUILD BIN
zinbwave 1.13.0
Davide Risso
Snapshot Date: 2020-10-29 14:40:27 -0400 (Thu, 29 Oct 2020)
URL: https://git.bioconductor.org/packages/zinbwave
Branch: master
Last Commit: 74ebdb3
Last Changed Date: 2020-10-27 11:24:55 -0400 (Tue, 27 Oct 2020)
malbec2 Linux (Ubuntu 18.04.4 LTS) / x86_64  OK  OK  OK UNNEEDED, same version exists in internal repository