Back to Multiple platform build/check report for BioC 3.16
ABCDEFGHIJKLMNOPQR[S]TUVWXYZ

This page was generated on 2022-05-17 11:04:59 -0400 (Tue, 17 May 2022).

HostnameOSArch (*)R versionInstalled pkgs
nebbiolo2Linux (Ubuntu 20.04.4 LTS)x86_644.2.0 RC (2022-04-21 r82226) -- "Vigorous Calisthenics" 4352
palomino4Windows Server 2022 Datacenterx644.2.0 Patched (2022-04-24 r82246 ucrt) -- "Vigorous Calisthenics" 4124
lconwaymacOS 12.2.1 Montereyx86_644.2.0 Patched (2022-04-24 r82246) -- "Vigorous Calisthenics" 4133
Click on any hostname to see more info about the system (e.g. compilers)      (*) as reported by 'uname -p', except on Windows and Mac OS X

All results for package spatialDE


To the developers/maintainers of the spatialDE package:
- Please allow up to 24 hours (and sometimes 48 hours) for your latest push to git@git.bioconductor.org:packages/spatialDE.git to
reflect on this report. See How and When does the builder pull? When will my changes propagate? for more information.
- Make sure to use the following settings in order to reproduce any error or warning you see on this page.

raw results

Package 1868/2112HostnameOS / ArchINSTALLBUILDCHECKBUILD BIN
spatialDE 1.3.0  (landing page)
Davide Corso
Snapshot Date: 2022-05-16 13:55:06 -0400 (Mon, 16 May 2022)
git_url: https://git.bioconductor.org/packages/spatialDE
git_branch: master
git_last_commit: 56d3050
git_last_commit_date: 2022-04-26 12:17:46 -0400 (Tue, 26 Apr 2022)
nebbiolo2Linux (Ubuntu 20.04.4 LTS) / x86_64  OK    OK    OK  UNNEEDED, same version is already published
palomino4Windows Server 2022 Datacenter / x64  OK    OK    OK    OK  UNNEEDED, same version is already published
lconwaymacOS 12.2.1 Monterey / x86_64  OK    OK    OK    OK  NO, package depends on 'SpatialExperiment' which is not available