Back to Multiple platform build/check report for BioC 3.19:   simplified   long
A[B]CDEFGHIJKLMNOPQRSTUVWXYZ

This page was generated on 2024-03-01 11:34:56 -0500 (Fri, 01 Mar 2024).

HostnameOSArch (*)R versionInstalled pkgs
nebbiolo1Linux (Ubuntu 22.04.3 LTS)x86_64R Under development (unstable) (2024-01-16 r85808) -- "Unsuffered Consequences" 4676
palomino3Windows Server 2022 Datacenterx64R Under development (unstable) (2024-01-14 r85805 ucrt) -- "Unsuffered Consequences" 4414
merida1macOS 12.7.1 Montereyx86_64R Under development (unstable) (2024-01-16 r85808) -- "Unsuffered Consequences" 4441
kunpeng2Linux (openEuler 22.03 LTS-SP1)aarch64R Under development (unstable) (2024-01-16 r85812) -- "Unsuffered Consequences" 4417
Click on any hostname to see more info about the system (e.g. compilers)      (*) as reported by 'uname -p', except on Windows and Mac OS X

All results for package BiocSingular


To the developers/maintainers of the BiocSingular package:
- Allow up to 24 hours (and sometimes 48 hours) for your latest push to git@git.bioconductor.org:packages/BiocSingular.git to reflect on this report. See Troubleshooting Build Report for more information.
- Use the following Renviron settings to reproduce errors and warnings.
- If 'R CMD check' started to fail recently on the Linux builder(s) over a missing dependency, add the missing dependency to 'Suggests:' in your DESCRIPTION file. See Renviron.bioc for more information.

raw results

Package 190/2251HostnameOS / ArchINSTALLBUILDCHECKBUILD BIN
BiocSingular 1.19.0  (landing page)
Aaron Lun
Snapshot Date: 2024-02-28 14:00:14 -0500 (Wed, 28 Feb 2024)
git_url: https://git.bioconductor.org/packages/BiocSingular
git_branch: devel
git_last_commit: ad6bb7d
git_last_commit_date: 2023-10-24 11:11:06 -0500 (Tue, 24 Oct 2023)
nebbiolo1Linux (Ubuntu 22.04.3 LTS) / x86_64  OK    OK    OK  UNNEEDED, same version is already published
palomino3Windows Server 2022 Datacenter / x64  OK    OK    OK    OK  UNNEEDED, same version is already published
merida1macOS 12.7.1 Monterey / x86_64  OK    OK    OK    OK  UNNEEDED, same version is already published
kunpeng2Linux (openEuler 22.03 LTS-SP1) / aarch64  OK    OK    ERROR  

Results for Bioconductor software packages that depend directly on package BiocSingular

QUICK STATSOS / ArchINSTALLBUILDCHECKBUILD BIN
nebbiolo1Linux (Ubuntu 22.04.3 LTS) / x86_64
0022
1219
02512
palomino3Windows Server 2022 Datacenter / x64
0022
1219
01612
0019
merida1macOS 12.7.1 Monterey / x86_64
0022
1120
01613
0020
kunpeng2Linux (openEuler 22.03 LTS-SP1) / aarch64
0121
8311
0056
Package 1/22HostnameOS / ArchINSTALLBUILDCHECKBUILD BIN
batchelor 1.19.1  (landing page)
Aaron Lun
git_last_commit: 2b4c10e
git_last_commit_date: 2023-12-27 13:57:13 -0500
nebbiolo1Linux (Ubuntu 22.04.3 LTS) / x86_64  OK    OK    OK  UNNEEDED, same version is already published
palomino3Windows Server 2022 Datacenter / x64  OK    OK    OK    OK  UNNEEDED, same version is already published
merida1macOS 12.7.1 Monterey / x86_64  OK    OK    OK    OK  UNNEEDED, same version is already published
kunpeng2Linux (openEuler 22.03 LTS-SP1) / aarch64  OK    TIMEOUT  skipped
Package 2/22HostnameOS / ArchINSTALLBUILDCHECKBUILD BIN
BayesSpace 1.13.0  (landing page)
Matt Stone
git_last_commit: 66e4609
git_last_commit_date: 2023-10-24 11:26:25 -0500
nebbiolo1Linux (Ubuntu 22.04.3 LTS) / x86_64  OK    OK    OK  UNNEEDED, same version is already published
palomino3Windows Server 2022 Datacenter / x64  OK    OK    OK    OK  UNNEEDED, same version is already published
merida1macOS 12.7.1 Monterey / x86_64  OK    OK    OK    OK  UNNEEDED, same version is already published
kunpeng2Linux (openEuler 22.03 LTS-SP1) / aarch64  OK    OK    OK  
Package 3/22HostnameOS / ArchINSTALLBUILDCHECKBUILD BIN
clusterExperiment 2.23.0  (landing page)
Elizabeth Purdom
git_last_commit: fdeda23
git_last_commit_date: 2023-10-24 10:51:18 -0500
nebbiolo1Linux (Ubuntu 22.04.3 LTS) / x86_64  OK    OK    WARNINGS  UNNEEDED, same version is already published
palomino3Windows Server 2022 Datacenter / x64  OK    OK    WARNINGS    OK  UNNEEDED, same version is already published
merida1macOS 12.7.1 Monterey / x86_64  OK    OK    WARNINGS    OK  UNNEEDED, same version is already published
kunpeng2Linux (openEuler 22.03 LTS-SP1) / aarch64  OK    OK    WARNINGS  
Package 4/22HostnameOS / ArchINSTALLBUILDCHECKBUILD BIN
compartmap 1.21.1  (landing page)
Benjamin Johnson
git_last_commit: 435fffd
git_last_commit_date: 2024-02-02 11:37:47 -0500
nebbiolo1Linux (Ubuntu 22.04.3 LTS) / x86_64  OK    OK    ERROR  
palomino3Windows Server 2022 Datacenter / x64  OK    OK    WARNINGS    OK  UNNEEDED, same version is already published
merida1macOS 12.7.1 Monterey / x86_64  OK    OK    WARNINGS    OK  UNNEEDED, same version is already published
kunpeng2Linux (openEuler 22.03 LTS-SP1) / aarch64  OK    OK    WARNINGS  
Package 5/22HostnameOS / ArchINSTALLBUILDCHECKBUILD BIN
COTAN 2.3.3  (landing page)
Galfrè Silvia Giulia
git_last_commit: 0fcbc84
git_last_commit_date: 2024-01-25 05:16:18 -0500
nebbiolo1Linux (Ubuntu 22.04.3 LTS) / x86_64  OK    OK    OK  UNNEEDED, same version is already published
palomino3Windows Server 2022 Datacenter / x64  OK    ERROR  skippedskipped
merida1macOS 12.7.1 Monterey / x86_64  OK    OK    OK    OK  UNNEEDED, same version is already published
kunpeng2Linux (openEuler 22.03 LTS-SP1) / aarch64  OK    OK    OK  
Package 6/22HostnameOS / ArchINSTALLBUILDCHECKBUILD BIN
DelayedTensor 1.9.0  (landing page)
Koki Tsuyuzaki
git_last_commit: e011fbe
git_last_commit_date: 2023-10-24 11:34:20 -0500
nebbiolo1Linux (Ubuntu 22.04.3 LTS) / x86_64  OK    OK    WARNINGS  UNNEEDED, same version is already published
palomino3Windows Server 2022 Datacenter / x64  OK    OK    WARNINGS    OK  UNNEEDED, same version is already published
merida1macOS 12.7.1 Monterey / x86_64  OK    OK    WARNINGS    OK  UNNEEDED, same version is already published
kunpeng2Linux (openEuler 22.03 LTS-SP1) / aarch64  OK    OK    WARNINGS  
Package 7/22HostnameOS / ArchINSTALLBUILDCHECKBUILD BIN
Dino 1.9.0  (landing page)
Jared Brown
git_last_commit: ed70d22
git_last_commit_date: 2023-10-24 11:34:47 -0500
nebbiolo1Linux (Ubuntu 22.04.3 LTS) / x86_64  OK    OK    OK  UNNEEDED, same version is already published
palomino3Windows Server 2022 Datacenter / x64  OK    OK    OK    OK  UNNEEDED, same version is already published
merida1macOS 12.7.1 Monterey / x86_64  OK    OK    OK    OK  UNNEEDED, same version is already published
kunpeng2Linux (openEuler 22.03 LTS-SP1) / aarch64  OK    OK    OK  
Package 8/22HostnameOS / ArchINSTALLBUILDCHECKBUILD BIN
GSVA 1.51.6  (landing page)
Robert Castelo
git_last_commit: 2e3429b
git_last_commit_date: 2024-02-23 09:39:28 -0500
nebbiolo1Linux (Ubuntu 22.04.3 LTS) / x86_64  OK    OK    OK  UNNEEDED, same version is already published
palomino3Windows Server 2022 Datacenter / x64  OK    OK    OK    OK  UNNEEDED, same version is already published
merida1macOS 12.7.1 Monterey / x86_64  OK    OK    OK    OK  UNNEEDED, same version is already published
kunpeng2Linux (openEuler 22.03 LTS-SP1) / aarch64  OK    OK    OK  
Package 9/22HostnameOS / ArchINSTALLBUILDCHECKBUILD BIN
miloR 1.99.12  (landing page)
Mike Morgan
git_last_commit: c2c6680
git_last_commit_date: 2024-02-02 05:24:55 -0500
nebbiolo1Linux (Ubuntu 22.04.3 LTS) / x86_64  OK    TIMEOUT  skipped
palomino3Windows Server 2022 Datacenter / x64  OK    TIMEOUT  skippedskipped
merida1macOS 12.7.1 Monterey / x86_64  OK    TIMEOUT  skippedskipped
kunpeng2Linux (openEuler 22.03 LTS-SP1) / aarch64  OK    TIMEOUT  skipped
Package 10/22HostnameOS / ArchINSTALLBUILDCHECKBUILD BIN
mumosa 1.11.0  (landing page)
Aaron Lun
git_last_commit: e6e284e
git_last_commit_date: 2023-10-24 11:28:43 -0500
nebbiolo1Linux (Ubuntu 22.04.3 LTS) / x86_64  OK    ERROR  skipped
palomino3Windows Server 2022 Datacenter / x64  OK    OK    OK    OK  UNNEEDED, same version is already published
merida1macOS 12.7.1 Monterey / x86_64  OK    OK    OK    OK  UNNEEDED, same version is already published
kunpeng2Linux (openEuler 22.03 LTS-SP1) / aarch64  OK    ERROR  skipped
Package 11/22HostnameOS / ArchINSTALLBUILDCHECKBUILD BIN
NanoMethViz 2.99.4  (landing page)
Shian Su
git_last_commit: 34cc5aa
git_last_commit_date: 2024-01-17 23:12:00 -0500
nebbiolo1Linux (Ubuntu 22.04.3 LTS) / x86_64  OK    OK    OK  UNNEEDED, same version is already published
palomino3Windows Server 2022 Datacenter / x64  OK    OK    OK    OK  UNNEEDED, same version is already published
merida1macOS 12.7.1 Monterey / x86_64  OK    OK    OK    OK  UNNEEDED, same version is already published
kunpeng2Linux (openEuler 22.03 LTS-SP1) / aarch64  ERROR    ERROR  skipped
Package 12/22HostnameOS / ArchINSTALLBUILDCHECKBUILD BIN
NewWave 1.13.0  (landing page)
Federico Agostinis
git_last_commit: e058db4
git_last_commit_date: 2023-10-24 11:27:58 -0500
nebbiolo1Linux (Ubuntu 22.04.3 LTS) / x86_64  OK    OK    OK  UNNEEDED, same version is already published
palomino3Windows Server 2022 Datacenter / x64  OK    OK    OK    OK  UNNEEDED, same version is already published
merida1macOS 12.7.1 Monterey / x86_64  OK    OK    OK    OK  UNNEEDED, same version is already published
kunpeng2Linux (openEuler 22.03 LTS-SP1) / aarch64  OK    OK    OK  
Package 13/22HostnameOS / ArchINSTALLBUILDCHECKBUILD BIN
PCAtools 2.15.0  (landing page)
Kevin Blighe
git_last_commit: 29ef7c3
git_last_commit_date: 2023-10-24 11:10:15 -0500
nebbiolo1Linux (Ubuntu 22.04.3 LTS) / x86_64  OK    OK    OK  UNNEEDED, same version is already published
palomino3Windows Server 2022 Datacenter / x64  OK    OK    OK    OK  UNNEEDED, same version is already published
merida1macOS 12.7.1 Monterey / x86_64  OK    OK    OK    OK  UNNEEDED, same version is already published
kunpeng2Linux (openEuler 22.03 LTS-SP1) / aarch64  OK    OK    OK  
Package 14/22HostnameOS / ArchINSTALLBUILDCHECKBUILD BIN
SCArray 1.11.0  (landing page)
Xiuwen Zheng
git_last_commit: 618e9de
git_last_commit_date: 2023-10-24 11:29:01 -0500
nebbiolo1Linux (Ubuntu 22.04.3 LTS) / x86_64  OK    OK    WARNINGS  UNNEEDED, same version is already published
palomino3Windows Server 2022 Datacenter / x64  OK    OK    WARNINGS    OK  UNNEEDED, same version is already published
merida1macOS 12.7.1 Monterey / x86_64  OK    OK    WARNINGS    OK  UNNEEDED, same version is already published
kunpeng2Linux (openEuler 22.03 LTS-SP1) / aarch64  OK    OK    WARNINGS  
Package 15/22HostnameOS / ArchINSTALLBUILDCHECKBUILD BIN
SCArray.sat 1.3.1  (landing page)
Xiuwen Zheng
git_last_commit: ef926b2
git_last_commit_date: 2024-01-13 04:24:59 -0500
nebbiolo1Linux (Ubuntu 22.04.3 LTS) / x86_64  OK    OK    WARNINGS  UNNEEDED, same version is already published
palomino3Windows Server 2022 Datacenter / x64  OK    OK    WARNINGS    OK  UNNEEDED, same version is already published
merida1macOS 12.7.1 Monterey / x86_64  OK    OK    WARNINGS    OK  UNNEEDED, same version is already published
kunpeng2Linux (openEuler 22.03 LTS-SP1) / aarch64  OK    OK    WARNINGS  
Package 16/22HostnameOS / ArchINSTALLBUILDCHECKBUILD BIN
scater 1.31.2  (landing page)
Alan O'Callaghan
git_last_commit: c6f5a13
git_last_commit_date: 2024-02-06 13:50:39 -0500
nebbiolo1Linux (Ubuntu 22.04.3 LTS) / x86_64  OK    OK    OK  UNNEEDED, same version is already published
palomino3Windows Server 2022 Datacenter / x64  OK    OK    OK    OK  UNNEEDED, same version is already published
merida1macOS 12.7.1 Monterey / x86_64  OK    OK    OK    OK  UNNEEDED, same version is already published
kunpeng2Linux (openEuler 22.03 LTS-SP1) / aarch64  OK    TIMEOUT  skipped
Package 17/22HostnameOS / ArchINSTALLBUILDCHECKBUILD BIN
scDblFinder 1.17.0  (landing page)
Pierre-Luc Germain
git_last_commit: 32eae85
git_last_commit_date: 2024-01-14 05:35:33 -0500
nebbiolo1Linux (Ubuntu 22.04.3 LTS) / x86_64  OK    OK    OK  UNNEEDED, same version is already published
palomino3Windows Server 2022 Datacenter / x64  OK    OK    OK    OK  UNNEEDED, same version is already published
merida1macOS 12.7.1 Monterey / x86_64  OK    OK    OK    OK  UNNEEDED, same version is already published
kunpeng2Linux (openEuler 22.03 LTS-SP1) / aarch64  OK    TIMEOUT  skipped
Package 18/22HostnameOS / ArchINSTALLBUILDCHECKBUILD BIN
scMerge 1.19.0  (landing page)
Yingxin Lin
git_last_commit: e5feace
git_last_commit_date: 2023-10-24 11:13:27 -0500
nebbiolo1Linux (Ubuntu 22.04.3 LTS) / x86_64  OK    ERROR  skipped
palomino3Windows Server 2022 Datacenter / x64  OK    ERROR  skippedskipped
merida1macOS 12.7.1 Monterey / x86_64  OK    ERROR  skippedskipped
kunpeng2Linux (openEuler 22.03 LTS-SP1) / aarch64  OK    ERROR  skipped
Package 19/22HostnameOS / ArchINSTALLBUILDCHECKBUILD BIN
scran 1.31.2  (landing page)
Aaron Lun
git_last_commit: f180b0f
git_last_commit_date: 2024-01-20 01:35:18 -0500
nebbiolo1Linux (Ubuntu 22.04.3 LTS) / x86_64  OK    OK    ERROR  
palomino3Windows Server 2022 Datacenter / x64  OK    OK    ERROR    OK  
merida1macOS 12.7.1 Monterey / x86_64  OK    OK    ERROR    OK  
kunpeng2Linux (openEuler 22.03 LTS-SP1) / aarch64  OK    TIMEOUT  skipped
Package 20/22HostnameOS / ArchINSTALLBUILDCHECKBUILD BIN
scry 1.15.0  (landing page)
Kelly Street
git_last_commit: 81e1b1d
git_last_commit_date: 2023-10-24 11:21:59 -0500
nebbiolo1Linux (Ubuntu 22.04.3 LTS) / x86_64  OK    OK    OK  UNNEEDED, same version is already published
palomino3Windows Server 2022 Datacenter / x64  OK    OK    OK    OK  UNNEEDED, same version is already published
merida1macOS 12.7.1 Monterey / x86_64  OK    OK    OK    OK  UNNEEDED, same version is already published
kunpeng2Linux (openEuler 22.03 LTS-SP1) / aarch64  OK    TIMEOUT  skipped
Package 21/22HostnameOS / ArchINSTALLBUILDCHECKBUILD BIN
SingleR 2.5.2  (landing page)
Aaron Lun
git_last_commit: 5603599
git_last_commit_date: 2024-02-14 02:14:48 -0500
nebbiolo1Linux (Ubuntu 22.04.3 LTS) / x86_64  OK    OK    WARNINGS  UNNEEDED, same version is already published
palomino3Windows Server 2022 Datacenter / x64  OK    OK    WARNINGS    OK  UNNEEDED, same version is already published
merida1macOS 12.7.1 Monterey / x86_64  OK    OK    WARNINGS    OK  UNNEEDED, same version is already published
kunpeng2Linux (openEuler 22.03 LTS-SP1) / aarch64  OK    TIMEOUT  skipped
Package 22/22HostnameOS / ArchINSTALLBUILDCHECKBUILD BIN
velociraptor 1.13.1  (landing page)
Kevin Rue-Albrecht
git_last_commit: 7c71d63
git_last_commit_date: 2024-01-30 07:21:14 -0500
nebbiolo1Linux (Ubuntu 22.04.3 LTS) / x86_64  OK    OK    OK  UNNEEDED, same version is already published
palomino3Windows Server 2022 Datacenter / x64  OK    OK    OK    OK  UNNEEDED, same version is already published
merida1macOS 12.7.1 Monterey / x86_64  OK    OK    OK    OK  UNNEEDED, same version is already published
kunpeng2Linux (openEuler 22.03 LTS-SP1) / aarch64  OK    TIMEOUT  skipped